Workbook

Sheet Introduction
A1: Template Solar for Businesses
A3: West Suffolk and Portsmouth Councils both run projects in which the Councils install solar panels on business roofs and sell the electricity back to the business via PPA.
A4: This workbook explores the economic model for a version of these projects at the Hull and East Yorkshire Local/Combined Authorities. It should be largely replicable for other LAs/CAs.
A5: The example pilot phase in this workbook is based on 10 businesses signing up to the project - three small, three medium, three large, and one very large buildings.
A6: This workbook represents the 'Core Model'. Variations of this workbook should be developed to assess key sensitivities.
A7: This workbook is not designed to be a full and final financial model. A further workbook will be required at a later date considering more detailed factors such as loan repayments and inflation.

Sheet Inputs
A1: Input | B1: Unit | C1: Quantity | D1: Notes
A2: Number of small businesses | B2: Number | C2: 3 | D2: User input for hypothetical bunch - small shops, cafes, single office buildings
A3: Number of medium businesses | B3: Number | C3: 3 | D3: User input for hypothetical bunch - midsize shops, multi-unit offices, pubs
A4: Number of large businesses | B4: Number | C4: 3 | D4: User input for hypothetical bunch - large retail centres, warehouses, manufacturing units
A5: Number of very large businesses | B5: Number | C5: 1 | D5: User input for hypothetical bunch - larger warehouses, distribution centres, industrial facilities
A6: Small Business solar potential | B6: kWp | C6: 15 | D6: Based on c.150 metres squared
A7: Medium Business solar potential | B7: kWp | C7: 35 | D7: Based on c.500 metres squared
A8: Large Business solar potential | B8: kWp | C8: 100 | D8: Based on c.1500 metres squared
A9: Very Large Business solar potential | B9: kWp | C9: 200 | D9: Based on c.4500 metres squared
A10: Annual solar output | B10: kWh/kWp | C10: 850 | D10: Standard assumption within industry
A11: Annual solar degredation | B11: % | C11: 0.5 | D11: Standard assumption within industry, Locogen use 0.4
A12: Solar panel cost | B12: £/kWp | C12: 1000 | D12: Standard assumption within industry
A13: Inverter replacement cost | B13: £/kWp | C13: 30 | D13: Locogen model, to apply at year 13
... A36: Business electricity cost | B36: p/kWh | C36: 25 | D36: Typical costs July 2026
A37: Electricity sale discount | B37: % | C37: 25
A38: Electricity use on-site | B38: % | C38: 60 | D38: 60-70% range is normal
A39: Business occupancy | B39: % | C39: 100
A40: Sale to grid price | B40: p/kWh | C40: 6
A41: Carbon Factor | B41: tCO2e/kWh | C41: 0.00020705 | D41: https://www.gov.uk/government/publications/greenhouse-gas-reporting-conversion-factors-2024
A42: Discount rate | C42: 0.035 | D42: UK Green Book

Sheet Calculations
D1: Year
A2: Calculation | B2: Notes | C2: Unit | D2: 0 | E2: 1 | F2: 2 | G2: 3 | H2: 4 | I2: 5 | J2: 6 | K2: 7 | L2: 8 | M2: 9 | N2: 10 | O2: 11 | P2: 12 | Q2: 13 | R2: 14 | S2: 15 | T2: 16 | U2: 17 | V2: 18 | W2: 19 | X2: 20 | Y2: 21 | Z2: 22 | AA2: 23 | AB2: 24 | AC2: 25
A3: Ongoing Billing costs | B3: Ongoing billing time x ongoing billing cost | C3: £ | E3: =SUM(Inputs!$C$23*Inputs!$C$24) -> 264 | F3: =SUM(Inputs!$C$23*Inputs!$C$24) -> 264 | G3: =SUM(Inputs!$C$23*Inputs!$C$24) -> 264 | H3: =SUM(Inputs!$C$23*Inputs!$C$24) -> 264 | I3: =SUM(Inputs!$C$23*Inputs!$C$24) -> 264 | J3: =SUM(Inputs!$C$23*Inputs!$C$24) -> 264 | K3: =SUM(Inputs!$C$23*Inputs!$C$24) -> 264 | L3: =SUM(Inputs!$C$23*Inputs!$C$24) -> 264 | ... AC3: =SUM(Inputs!$C$23*Inputs!$C$24) -> 264
A4: Ongoing Management costs | B4: Ongoing management time x ongoing management cost | C4: £ | E4: =SUM(Inputs!$C$25*Inputs!$C$26) -> 1056 | F4: =SUM(Inputs!$C$25*Inputs!$C$26) -> 1056 | G4: =SUM(Inputs!$C$25*Inputs!$C$26) -> 1056 | H4: =SUM(Inputs!$C$25*Inputs!$C$26) -> 1056 | I4: =SUM(Inputs!$C$25*Inputs!$C$26) -> 1056 | J4: =SUM(Inputs!$C$25*Inputs!$C$26) -> 1056 | K4: =SUM(Inputs!$C$25*Inputs!$C$26) -> 1056 | L4: =SUM(Inputs!$C$25*Inputs!$C$26) -> 1056 | ... AC4: =SUM(Inputs!$C$25*Inputs!$C$26) -> 1056
A5: Start-up Management costs | B5: start-up management time x cost | C5: £ | D5: =SUM(Inputs!C28*Inputs!C29) -> 2640
A6: Start-up finance costs | B6: start-up finance time x cost | C6: £ | D6: =SUM(Inputs!C30*Inputs!C31) -> 1320
A7: Start-up legal costs | B7: start-up legal time x costs | C7: £ | D7: =SUM(Inputs!C32*Inputs!C33) -> 1320
A8: Start-up procurement costs | B8: start-up procurement time x costs | C8: £ | D8: =SUM(Inputs!C34*Inputs!C35) -> 1320
A10: Business electricity price | B10: Business Energy price | C10: £/kWh | E10: =SUM(Inputs!$C$36/100) -> 0.25 | F10: =SUM(Inputs!$C$36/100) -> 0.25 | G10: =SUM(Inputs!$C$36/100) -> 0.25 | H10: =SUM(Inputs!$C$36/100) -> 0.25 | I10: =SUM(Inputs!$C$36/100) -> 0.25 | J10: =SUM(Inputs!$C$36/100) -> 0.25 | K10: =SUM(Inputs!$C$36/100) -> 0.25 | L10: =SUM(Inputs!$C$36/100) -> 0.25 | ... AC10: =SUM(Inputs!$C$36/100) -> 0.25
A11: PPA charge | B11: Business Energy price * discount rate | C11: £/kWh | E11: =SUM(E10*(1-Inputs!$C$37/100)) -> 0.1875 | F11: =SUM(F10*(1-Inputs!$C$37/100)) -> 0.1875 | G11: =SUM(G10*(1-Inputs!$C$37/100)) -> 0.1875 | H11: =SUM(H10*(1-Inputs!$C$37/100)) -> 0.1875 | I11: =SUM(I10*(1-Inputs!$C$37/100)) -> 0.1875 | J11: =SUM(J10*(1-Inputs!$C$37/100)) -> 0.1875 | K11: =SUM(K10*(1-Inputs!$C$37/100)) -> 0.1875 | L11: =SUM(L10*(1-Inputs!$C$37/100)) -> 0.1875 | ... AC11: =SUM(AC10*(1-Inputs!$C$37/100)) -> 0.1875
A13: Small Businesses kWp Total | B13: Number of businesses x kWp per business | C13: kWp | D13: =SUM(Inputs!$C$2*Inputs!$C$6) -> 45
A14: Small Businesses kWh max | B14: Total kWp x kWh per kWp | C14: kWh | D14: =SUM(D13*Inputs!$C$10) -> 38250
A15: Small Businesses kWh generated | B15: kWh max x degredation | C15: kWh | E15: =D14 -> 38250 | F15: =SUM(E15*(1-Inputs!$C$11/100)) -> 38058.75 | G15: =SUM(F15*(1-Inputs!$C$11/100)) -> 37868.456 | H15: =SUM(G15*(1-Inputs!$C$11/100)) -> 37679.114 | I15: =SUM(H15*(1-Inputs!$C$11/100)) -> 37490.718 | J15: =SUM(I15*(1-Inputs!$C$11/100)) -> 37303.265 | K15: =SUM(J15*(1-Inputs!$C$11/100)) -> 37116.748 | L15: =SUM(K15*(1-Inputs!$C$11/100)) -> 36931.165 | M15: =SUM(L15*(1-Inputs!$C$11/100)) -> 36746.509 | ... AC15: =SUM(AB15*(1-Inputs!$C$11/100)) -> 33914.497
A16: Small Businesses kWh on site | B16: kWh generated x on-site percentage x business occupancy | C16: kWh | E16: =SUM(E15*(Inputs!$C$38/100)*(Inputs!$C$39/100)) -> 22950 | F16: =SUM(F15*(Inputs!$C$38/100)*(Inputs!$C$39/100)) -> 22835.25 | G16: =SUM(G15*(Inputs!$C$38/100)*(Inputs!$C$39/100)) -> 22721.074 | H16: =SUM(H15*(Inputs!$C$38/100)*(Inputs!$C$39/100)) -> 22607.468 | I16: =SUM(I15*(Inputs!$C$38/100)*(Inputs!$C$39/100)) -> 22494.431 | J16: =SUM(J15*(Inputs!$C$38/100)*(Inputs!$C$39/100)) -> 22381.959 | K16: =SUM(K15*(Inputs!$C$38/100)*(Inputs!$C$39/100)) -> 22270.049 | L16: =SUM(L15*(Inputs!$C$38/100)*(Inputs!$C$39/100)) -> 22158.699 | ... AC16: =SUM(AC15*(Inputs!$C$38/100)*(Inputs!$C$39/100)) -> 20348.698
A17: Small Businesses kWh to grid | B17: kWh generated - on-site usage | C17: kWh | E17: =SUM(E15-E16) -> 15300 | F17: =SUM(F15-F16) -> 15223.5 | G17: =SUM(G15-G16) -> 15147.383 | H17: =SUM(H15-H16) -> 15071.646 | I17: =SUM(I15-I16) -> 14996.287 | J17: =SUM(J15-J16) -> 14921.306 | K17: =SUM(K15-K16) -> 14846.699 | L17: =SUM(L15-L16) -> 14772.466 | ... AC17: =SUM(AC15-AC16) -> 13565.799
A18: Small Businesses on-site income | B18: kWh on site x PPA charge | C18: £ | E18: =SUM(E16*E11) -> 4303.125 | F18: =SUM(F16*F11) -> 4281.6094 | G18: =SUM(G16*G11) -> 4260.2013 | H18: =SUM(H16*H11) -> 4238.9003 | I18: =SUM(I16*I11) -> 4217.7058 | J18: =SUM(J16*J11) -> 4196.6173 | K18: =SUM(K16*K11) -> 4175.6342 | L18: =SUM(L16*L11) -> 4154.756 | ... AC18: =SUM(AC16*AC11) -> 3815.3809
A19: Small Businesses grid income | B19: kWh to grid x grid price | C19: £ | E19: =SUM(E17*Inputs!$C$40/100) -> 918 | F19: =SUM(F17*Inputs!$C$40/100) -> 913.41 | G19: =SUM(G17*Inputs!$C$40/100) -> 908.84295 | H19: =SUM(H17*Inputs!$C$40/100) -> 904.29874 | I19: =SUM(I17*Inputs!$C$40/100) -> 899.77724 | J19: =SUM(J17*Inputs!$C$40/100) -> 895.27836 | K19: =SUM(K17*Inputs!$C$40/100) -> 890.80196 | L19: =SUM(L17*Inputs!$C$40/100) -> 886.34795 | ... AC19: =SUM(AC17*Inputs!$C$40/100) -> 813.94792
A20: Small Businesses total income | B20: on-site income + grid income | C20: £ | E20: =SUM(E18:E19) -> 5221.125 | F20: =SUM(F18:F19) -> 5195.0194 | G20: =SUM(G18:G19) -> 5169.0443 | H20: =SUM(H18:H19) -> 5143.1991 | I20: =SUM(I18:I19) -> 5117.4831 | J20: =SUM(J18:J19) -> 5091.8956 | K20: =SUM(K18:K19) -> 5066.4362 | L20: =SUM(L18:L19) -> 5041.104 | ... AC20: =SUM(AC18:AC19) -> 4629.3288
A21: Small Businesses CO2e saving | B21: kWh generated x carbon factor | C21: tCO2e | E21: =SUM(E15*Inputs!$C$41) -> 7.9196625 | F21: =SUM(F15*Inputs!$C$41) -> 7.8800642 | G21: =SUM(G15*Inputs!$C$41) -> 7.8406639 | H21: =SUM(H15*Inputs!$C$41) -> 7.8014605 | I21: =SUM(I15*Inputs!$C$41) -> 7.7624532 | J21: =SUM(J15*Inputs!$C$41) -> 7.723641 | K21: =SUM(K15*Inputs!$C$41) -> 7.6850228 | L21: =SUM(L15*Inputs!$C$41) -> 7.6465977 | ... AC21: =SUM(AC15*Inputs!$C$41) -> 7.0219966
A22: Small Businesses electricity counterfactual | B22: kWh on site x electricity price | C22: £ | E22: =SUM(E16*E10) -> 5737.5 | F22: =SUM(F16*F10) -> 5708.8125 | G22: =SUM(G16*G10) -> 5680.2684 | H22: =SUM(H16*H10) -> 5651.8671 | I22: =SUM(I16*I10) -> 5623.6078 | J22: =SUM(J16*J10) -> 5595.4897 | K22: =SUM(K16*K10) -> 5567.5123 | L22: =SUM(L16*L10) -> 5539.6747 | ... AC22: =SUM(AC16*AC10) -> 5087.1745
A23: Small Businesses tenant savings | B23: Counterfactual - on-site income | C23: £ | E23: =SUM(E22-E18) -> 1434.375 | F23: =SUM(F22-F18) -> 1427.2031 | G23: =SUM(G22-G18) -> 1420.0671 | H23: =SUM(H22-H18) -> 1412.9668 | I23: =SUM(I22-I18) -> 1405.9019 | J23: =SUM(J22-J18) -> 1398.8724 | K23: =SUM(K22-K18) -> 1391.8781 | L23: =SUM(L22-L18) -> 1384.9187 | ... AC23: =SUM(AC22-AC18) -> 1271.7936
A24: Small Businesses Solar Panel cost total | B24: Solar panel cost x kWp total | C24: £ | D24: =SUM(D13*Inputs!$C$12) -> 45000
A25: Small Businesses inverter replacement cost total | B25: Inverter replacement cost x kWp total | C25: £ | Q25: =SUM(D13*Inputs!$C$13) -> 1350
A26: Small Businesses scaffolding cost | B26: scaffolding cost x kWp | C26: £ | D26: =SUM(D13*Inputs!$C$14) -> 0
A27: Small Businesses structural survey cost | B27: structural survey x number of businesses | C27: £ | D27: =SUM(Inputs!$C$2*Inputs!$C$18) -> 3000
A28: Small Businesses O&M costs | B28: O&M costs x kWp | C28: £ | E28: =SUM($D$13*Inputs!$C$22) -> 450 | F28: =SUM($D$13*Inputs!$C$22) -> 450 | G28: =SUM($D$13*Inputs!$C$22) -> 450 | H28: =SUM($D$13*Inputs!$C$22) -> 450 | I28: =SUM($D$13*Inputs!$C$22) -> 450 | J28: =SUM($D$13*Inputs!$C$22) -> 450 | K28: =SUM($D$13*Inputs!$C$22) -> 450 | L28: =SUM($D$13*Inputs!$C$22) -> 450 | ... AC28: =SUM($D$13*Inputs!$C$22) -> 450
A29: Small Businesses decommissioning cost | B29: decommissioning cost x kWp | C29: £ | AC29: =SUM(D13*Inputs!$C$27) -> 13500
A30: Small Businesses total cost | B30: Solar panel + scaffold + survey + O&M + decomissioning | C30: £ | D30: =SUM(D24:D29) -> 48000 | E30: =SUM(E24:E29) -> 450 | F30: =SUM(F24:F29) -> 450 | G30: =SUM(G24:G29) -> 450 | H30: =SUM(H24:H29) -> 450 | I30: =SUM(I24:I29) -> 450 | J30: =SUM(J24:J29) -> 450 | K30: =SUM(K24:K29) -> 450 | ... AC30: =SUM(AC24:AC29) -> 13950
A32: Medium Businesses kWp Total | B32: Number of businesses x kWp per business | C32: kWp | D32: =SUM(Inputs!$C$3*Inputs!$C$7) -> 105
A33: Medium Businesses kWh max | B33: Total kWp x kWh per kWp | C33: kWh | D33: =SUM(D32*Inputs!$C$10) -> 89250
A34: Medium Businesses kW/h generated | B34: kWh max x degredation | C34: kWh | E34: =D33 -> 89250 | F34: =SUM(E34*(1-Inputs!$C$11/100)) -> 88803.75 | G34: =SUM(F34*(1-Inputs!$C$11/100)) -> 88359.731 | H34: =SUM(G34*(1-Inputs!$C$11/100)) -> 87917.933 | I34: =SUM(H34*(1-Inputs!$C$11/100)) -> 87478.343 | J34: =SUM(I34*(1-Inputs!$C$11/100)) -> 87040.951 | K34: =SUM(J34*(1-Inputs!$C$11/100)) -> 86605.746 | L34: =SUM(K34*(1-Inputs!$C$11/100)) -> 86172.718 | M34: =SUM(L34*(1-Inputs!$C$11/100)) -> 85741.854 | ... AC34: =SUM(AB34*(1-Inputs!$C$11/100)) -> 79133.826
A35: Medium Businesses kW/h on site | B35: kWh generated x on-site percentage x business occupancy | C35: kWh | E35: =SUM(E34*(Inputs!$C$38/100)*(Inputs!$C$39/100)) -> 53550 | F35: =SUM(F34*(Inputs!$C$38/100)*(Inputs!$C$39/100)) -> 53282.25 | G35: =SUM(G34*(Inputs!$C$38/100)*(Inputs!$C$39/100)) -> 53015.839 | H35: =SUM(H34*(Inputs!$C$38/100)*(Inputs!$C$39/100)) -> 52750.76 | I35: =SUM(I34*(Inputs!$C$38/100)*(Inputs!$C$39/100)) -> 52487.006 | J35: =SUM(J34*(Inputs!$C$38/100)*(Inputs!$C$39/100)) -> 52224.571 | K35: =SUM(K34*(Inputs!$C$38/100)*(Inputs!$C$39/100)) -> 51963.448 | L35: =SUM(L34*(Inputs!$C$38/100)*(Inputs!$C$39/100)) -> 51703.631 | ... AC35: =SUM(AC34*(Inputs!$C$38/100)*(Inputs!$C$39/100)) -> 47480.295
A36: Medium Businesses kW/h to grid | B36: kWh generated - on-site usage | C36: kWh | E36: =SUM(E34-E35) -> 35700 | F36: =SUM(F34-F35) -> 35521.5 | G36: =SUM(G34-G35) -> 35343.893 | H36: =SUM(H34-H35) -> 35167.173 | I36: =SUM(I34-I35) -> 34991.337 | J36: =SUM(J34-J35) -> 34816.38 | K36: =SUM(K34-K35) -> 34642.299 | L36: =SUM(L34-L35) -> 34469.087 | ... AC36: =SUM(AC34-AC35) -> 31653.53
A37: Medium Businesses on-site income | B37: kWh on site x PPA charge | C37: £ | E37: =SUM(E35*E11) -> 10040.625 | F37: =SUM(F35*F11) -> 9990.4219 | G37: =SUM(G35*G11) -> 9940.4698 | H37: =SUM(H35*H11) -> 9890.7674 | I37: =SUM(I35*I11) -> 9841.3136 | J37: =SUM(J35*J11) -> 9792.107 | K37: =SUM(K35*K11) -> 9743.1465 | L37: =SUM(L35*L11) -> 9694.4307 | ... AC37: =SUM(AC35*AC11) -> 8902.5554
A38: Medium Businesses grid income | B38: kWh to grid x grid price | C38: £ | E38: =SUM(E36*Inputs!$C$40/100) -> 2142 | F38: =SUM(F36*Inputs!$C$40/100) -> 2131.29 | G38: =SUM(G36*Inputs!$C$40/100) -> 2120.6336 | H38: =SUM(H36*Inputs!$C$40/100) -> 2110.0304 | I38: =SUM(I36*Inputs!$C$40/100) -> 2099.4802 | J38: =SUM(J36*Inputs!$C$40/100) -> 2088.9828 | K38: =SUM(K36*Inputs!$C$40/100) -> 2078.5379 | L38: =SUM(L36*Inputs!$C$40/100) -> 2068.1452 | ... AC38: =SUM(AC36*Inputs!$C$40/100) -> 1899.2118
A39: Medium Businesses total income | B39: on-site income + grid income | C39: £ | E39: =SUM(E37:E38) -> 12182.625 | F39: =SUM(F37:F38) -> 12121.712 | G39: =SUM(G37:G38) -> 12061.103 | H39: =SUM(H37:H38) -> 12000.798 | I39: =SUM(I37:I38) -> 11940.794 | J39: =SUM(J37:J38) -> 11881.09 | K39: =SUM(K37:K38) -> 11821.684 | L39: =SUM(L37:L38) -> 11762.576 | ... AC39: =SUM(AC37:AC38) -> 10801.767
A40: Medium Businesses CO2e saving | B40: kWh generated x carbon factor | C40: tCO2e | E40: =SUM(E34*Inputs!$C$41) -> 18.479213 | F40: =SUM(F34*Inputs!$C$41) -> 18.386816 | G40: =SUM(G34*Inputs!$C$41) -> 18.294882 | H40: =SUM(H34*Inputs!$C$41) -> 18.203408 | I40: =SUM(I34*Inputs!$C$41) -> 18.112391 | J40: =SUM(J34*Inputs!$C$41) -> 18.021829 | K40: =SUM(K34*Inputs!$C$41) -> 17.93172 | L40: =SUM(L34*Inputs!$C$41) -> 17.842061 | ... AC40: =SUM(AC34*Inputs!$C$41) -> 16.384659
A41: Medium Businesses electricity counterfactual | B41: kWh on site x electricity price | C41: £ | E41: =SUM(E35*E10) -> 13387.5 | F41: =SUM(F35*F10) -> 13320.562 | G41: =SUM(G35*G10) -> 13253.96 | H41: =SUM(H35*H10) -> 13187.69 | I41: =SUM(I35*I10) -> 13121.751 | J41: =SUM(J35*J10) -> 13056.143 | K41: =SUM(K35*K10) -> 12990.862 | L41: =SUM(L35*L10) -> 12925.908 | ... AC41: =SUM(AC35*AC10) -> 11870.074
A42: Medium Businesses tenant savings | B42: Counterfactual - on-site income | C42: £ | E42: =SUM(E41-E37) -> 3346.875 | F42: =SUM(F41-F37) -> 3330.1406 | G42: =SUM(G41-G37) -> 3313.4899 | H42: =SUM(H41-H37) -> 3296.9225 | I42: =SUM(I41-I37) -> 3280.4379 | J42: =SUM(J41-J37) -> 3264.0357 | K42: =SUM(K41-K37) -> 3247.7155 | L42: =SUM(L41-L37) -> 3231.4769 | ... AC42: =SUM(AC41-AC37) -> 2967.5185
A43: Medium Businesses Solar Panel cost total | B43: Solar panel cost x kWp total | C43: £ | D43: =SUM(D32*Inputs!$C$12) -> 105000
...

Sheet Outputs
A2: Installed capacity | B2: kWp | C2: =SUM(Calculations!D13+Calculations!D32+Calculations!D51+Calculations!D70) -> 650
A3: Year 1 generation | B3: kWh | C3: =SUM(Calculations!E15+Calculations!E34+Calculations!E53+Calculations!E72) -> 552500
A4: Total generation | B4: kWh | C4: =SUM(Calculations!E91:AC91) -> 13014663
A5: Year 1 carbon saving | B5: tCO2e | C5: =SUM(Calculations!E21+Calculations!E40+Calculations!E59+Calculations!E78) -> 114.39513
A6: Total carbon saving | B6: tCO2e | C6: =SUM(Calculations!E92:AC92) -> 2694.686
A7: Year 1 tenant saving | B7: £ | C7: =SUM(Calculations!E23+Calculations!E42+Calculations!E61+Calculations!E80) -> 20718.75
A8: Total tenant saving | B8: £ | C8: =SUM(Calculations!E89:AC89) -> 488049.87
A9: Year 0 cost | B9: £ | C9: =SUM(Calculations!D98+Calculations!D99) -> 673850
A10: Year 1 return | B10: £ | C10: =Calculations!E96 -> 75416.25
A11: 25 year IRR | B11: % | C11: =IRR(Calculations!D102:AC102) -> 0.076084188
A12: 25 year net profit | B12: £ | C12: =SUM(Calculations!D102:AC102) -> 692651.52
A13: Net present value | B13: £ | C13: =NPV(Inputs!C42,Calculations!D102:AC102) -> 274251.15
A14: Payback year | C14: {=SUM((COUNTIF(Calculations!D103:AC103,"<"&0)+INDEX(Calculations!D104:AC104,,COUNTIF(Calculations!D103:AC103,"<"&0)+1))-1)} -> 10.227664
