Workbook
Name ItemRange: OFFSET('Project Value Map1'!$H$6,0,0,COUNTA('Project Value Map1'!$H$6:$H$74)-COUNTIF('Project Value Map1'!$H$6:$H$74,NA()))
Name ItemRange2: OFFSET('Project Value Map2'!$H$6,0,0,COUNTA('Project Value Map2'!$H$6:$H$74)-COUNTIF('Project Value Map2'!$H$6:$H$74,NA()))
Name ItemRange3: OFFSET('Project Value Map3'!$H$6,0,0,COUNTA('Project Value Map3'!$H$6:$H$74)-COUNTIF('Project Value Map3'!$H$6:$H$74,NA()))
Name Point0Range: OFFSET('Project Value Map1'!$I$6,0,0,COUNTA('Project Value Map1'!$I$6:$I$74)-COUNTIF('Project Value Map1'!$I$6:$I$74,NA()))
Name Point0Range2: OFFSET('Project Value Map2'!$I$6,0,0,COUNTA('Project Value Map2'!$I$6:$I$74)-COUNTIF('Project Value Map2'!$I$6:$I$74,NA()))
Name Point0Range3: OFFSET('Project Value Map3'!$I$6,0,0,COUNTA('Project Value Map3'!$I$6:$I$74)-COUNTIF('Project Value Map3'!$I$6:$I$74,NA()))
Name Point1Range: OFFSET('Project Value Map1'!$J$6,0,0,COUNTA('Project Value Map1'!$J$6:$J$74)-COUNTIF('Project Value Map1'!$J$6:$J$74,NA()))
Name Point1Range2: OFFSET('Project Value Map2'!$J$6,0,0,COUNTA('Project Value Map2'!$J$6:$J$74)-COUNTIF('Project Value Map2'!$J$6:$J$74,NA()))
Name Point1Range3: OFFSET('Project Value Map3'!$J$6,0,0,COUNTA('Project Value Map3'!$J$6:$J$74)-COUNTIF('Project Value Map3'!$J$6:$J$74,NA()))
Name Point2Range: OFFSET('Project Value Map1'!$K$6,0,0,COUNTA('Project Value Map1'!$K$6:$K$74)-COUNTIF('Project Value Map1'!$K$6:$K$74,NA()))
Name Point2Range2: OFFSET('Project Value Map2'!$K$6,0,0,COUNTA('Project Value Map2'!$K$6:$K$74)-COUNTIF('Project Value Map2'!$K$6:$K$74,NA()))
Name Point2Range3: OFFSET('Project Value Map3'!$K$6,0,0,COUNTA('Project Value Map3'!$K$6:$K$74)-COUNTIF('Project Value Map3'!$K$6:$K$74,NA()))

Sheet Home page
E3: Net Zero Go Options Appraisal tool
E4: This appraisal tool enables the comparison between Costs (or Expenditures) and Earnings Before Income Tax Depreciation Ammortisation (EBITDA). The tool calculates the Net Present Value (NPV), Internal Rate of Return (IRR) and payback time. The inputs required have been kept to a minimum to allow easy use and quick implementation.
E5: Once completed a first case, the user can assess the profitability of different solutions by comparing multiple cases. A final "Cases Comparison" page presents a summary of the key financial parameters for all the cases.
E7: The appraisal tool is divided into inputs and outputs. For each case, there are 2 input sheets one for expenditures and one for expected revenues. The output for each case consists of 2 sheets, one that provides the key financial parameters ("Output"), and one that provides an annual cash flow breakdown ("Cash flows").
E9: The incomes and expenditures paybacks occur and relate to the end of the year. Costs are yearly and not split into smaller periods. Hence inputs for shorter periods should be multiplied by the number of periods in the year, e.g. for monthly data this would be 12.
E11: Overall, the user needs to follow the 3 steps described in the image below, to calculate the key financial parameters associated with the project.

Sheet Step 1_Expenditure1
B19: Fixed Financial Inputs | C19: Values
B20: Project lifetime [years] | C20: 25
B21: Discount rate [%] | C21: 0.035
B25: Plan of work Stage | C25: Name | D25: Category | E25: Price (£ or £/year) | F25: Start year | G25: Lifetime (only OPEX) | H25: Annual Increase (only OPEX) | I25: Description | J25: Reference
B26: Stage 0: Strategic Definition | C26: Engineer Consultancy | D26: Consultancy | E26: 15000 | F26: 0 | G26: 1 | H26: 0
B27: Stage 1: Preparation and Briefing | C27: Site Surveys | D27: Consultancy | E27: 5000 | F27: 0 | G27: 1 | H27: 0
B28: Stage 2: Concept Design | C28: Specification consulation | D28: Consultancy | E28: 3000 | F28: 0 | G28: 1 | H28: 0
B29: Stage 2: Concept Design | C29: Community Consultant | D29: Consultancy | E29: 3000 | F29: 0 | G29: 1 | H29: 0
B30: Stage 2: Concept Design | C30: Planning consultant | D30: Consultancy | E30: 3000 | F30: 0 | G30: 1 | H30: 0
B31: Stage 2: Concept Design | C31: Financial Consultation | D31: Consultancy | E31: 5000 | F31: 0 | G31: 1 | H31: 0
B32: Stage 4: Technical Design | C32: Design team | D32: Consultancy | E32: 30000 | F32: 0 | G32: 1 | H32: 0
B33: Stage 5: Construction, Integration and Installation | C33: Solar Modules | D33: CAPEX | E33: 200000 | F33: 1 | G33: 1 | H33: 0 | I33: Assuming £0.20 per Watt (£200 per kW) for 1000kW (1MW) | J33: - https://www.solarpowerportal.co.uk/news/uk_solar_costs_plummeting_beyond_forecasts_as_cheap_as_40_mwh_by_2030 - http://www.solarmango.com/ask/2015/10/26/what-is-the-installation-cost-of-utility-scale-solar-power-plant-mw-in-the-uk/
B34: Stage 5: Construction, Integration and Installation | C34: Inverters | D34: CAPEX | E34: 50000 | F34: 1 | G34: 1 | H34: 0 | I34: Inverters for 1MW farm
B35: Stage 5: Construction, Integration and Installation | C35: Installation | D35: CAPEX | E35: 46000 | F35: 1 | G35: 1 | H35: 0 | I35: Installation costs | J35: https://www.researchgate.net/publication/282462936_The_Future_of_Solar_Power_in_the_United_Kingdom/
B36: Stage 5: Construction, Integration and Installation | C36: Grid Cost | D36: CAPEX | E36: 60000 | F36: 1 | G36: 1
B37: Stage 5: Construction, Integration and Installation | C37: Other Capex, Balance of System | D37: CAPEX | E37: 150000 | F37: 1 | G37: 1 | I37: This is all other Capex costs, balance of systems
B38: Stage 7: Use (and Operation) | C38: Operational Costs | D38: OPEX | E38: 12000 | F38: 1 | G38: 30 | H38: 0.04
B39: Stage 7: Use (and Operation) | C39: PV Cleaning | D39: OPEX | E39: 12000 | F39: 2 | G39: 30 | H39: 0.01 | I39: Clearning of the panels, assuming £4 per panel, for approx 3000 panels. Do this every year
B40: Stage 3: Spatial Coordination and Localisation | C40: Local consultant | D40: Consultancy | E40: 10000 | F40: 0 | G40: 1 | H40: 0
B41: Stage 6: Handover | C41: Connections O&M manuals | D41: Consultancy | E41: 5000 | F41: 1 | G41: 1 | H41: 0

Sheet Step 2_Revenue1
B25: Plan of work Stage | C25: Name | D25: Units (#/year) | E25: Rate (£/Unit) | F25: Annual Perfomance decrease rate | G25: Annual price increase | H25: Start Year | I25: Lifetime | J25: Description | K25: Reference
B26: Stage 7: Use (and Operation) | C26: Savings from PV Self usage | D26: 680000 | E26: 0.13 | F26: 0.005 | G26: 0.01 | H26: 2 | I26: 25 | J26: Assumptions: - cost of electricity saved 13p/kWh, - 80% of energy produced is used for self- consumption with the rest exported to the grid
B27: Stage 7: Use (and Operation) | C27: Smart Export Guarantee | D27: 85000 | E27: 0.04 | F27: 0.005 | G27: 0.02 | H27: 2 | I27: 25 | J27: Assumptions: - 10% of electricity produced per year is sold as part of smart export guarantee at 4p/kWh | K27: - https://www.greenmatch.co.uk/blog/2014/06/solar-panels-are-they-worth-it - https://www.greenmatch.co.uk/green-energy/grants/smart-export-guarantee
B28: Stage 7: Use (and Operation) | C28: Feasibility funding | D28: 10000 | E28: 1 | F28: 0 | G28: 0 | H28: 2 | I28: 1 | J28: Grant funding
B29: Stage 7: Use (and Operation) | C29: PPA | D29: 85000 | E29: 0.08 | F29: 0 | G29: 0.02 | H29: 2 | I29: 25 | J29: Assumptions: - 10% of energy produced is sold in a PPA at 8p/kWh - The PPA price will increase over time at 2% | K29: - https://www.solarpowerportal.co.uk/blogs/pricing_power - https://www.seia.org/research-resources/solar-power-purchase-agreements
B30: Stage 7: Use (and Operation) | C30: REGO Certificate | D30: =D29+D27 -> 170000 | E30: 0.15 | F30: 0 | G30: 0 | H30: 2 | I30: 25

Sheet Output1
A3: Output - Case 1
G14: Metrics | H14: Scenario 1
G15: IRR | H15: =IFERROR(IRR('Cash flows1'!$B11:$CX11),"") -> 0.16230665
G16: Nominal NPV before Tax | H16: =IFERROR(NPV('Step 1_Expenditure1'!$C$21,'Cash flows1'!C11:CX11)+'Cash flows1'!B11,"") -> 971943.07
G17: SPT [years] | H17: =IF($H$15="","",IF('Cash flows1'!B15>0,0,IF(SUM('Cash flows1'!B15:CX15)=0,"never pays back",SMALL('Cash flows1'!B15:CX15,COUNTIF('Cash flows1'!B15:CX15,0)+1)))) -> 7
G18: DPT [years] | H18: =IF($H$15="","",IF('Cash flows1'!B18>0,0,IF(SUM('Cash flows1'!B18:CX18)=0,"never pays back",SMALL('Cash flows1'!B18:CX18,COUNTIF('Cash flows1'!B18:CX18,0)+1)))) -> 8
D66: EXPENDITURE SUMMARY | E66: Start Year | F66: End Year | G66: Total | I66: REVENUE SUMMARY | J66: Start Year | K66: End Year | L66: Total
D67: Stage 0: Strategic Definition | E67: =_xlfn.MINIFS(Table5[Start year],Table5[Plan of work Stage],D67) -> 0 | F67: =_xlfn.MAXIFS(Yearly_expenditure1!$D$4:$D$39,Yearly_expenditure1!$B$4:$B$39,D67) -> 1 | G67: =SUMIFS(Yearly_expenditure1!$A$4:$A$32,Yearly_expenditure1!$B$4:$B$32,Output1!D67) -> 15000 | I67: Stage 0: Strategic Definition | J67: =_xlfn.MINIFS(Table1[Start Year],Table1[Plan of work Stage],I67) -> 0 | K67: =_xlfn.MAXIFS(Yearly_revenue1!$D$4:$D$33,Yearly_revenue1!$B$4:$B$33,I67) -> 0 | L67: =SUMIFS(Yearly_revenue1!$A$4:$A$33,Yearly_revenue1!$B$4:$B$33,Output1!I67) -> 0
D68: Stage 1: Preparation and Briefing | E68: =_xlfn.MINIFS(Table5[Start year],Table5[Plan of work Stage],D68) -> 0 | F68: =_xlfn.MAXIFS(Yearly_expenditure1!$D$4:$D$39,Yearly_expenditure1!$B$4:$B$39,D68) -> 1 | G68: =SUMIFS(Yearly_expenditure1!$A$4:$A$32,Yearly_expenditure1!$B$4:$B$32,Output1!D68) -> 5000 | I68: Stage 1: Preparation and Briefing | J68: =_xlfn.MINIFS(Table1[Start Year],Table1[Plan of work Stage],I68) -> 0 | K68: =_xlfn.MAXIFS(Yearly_revenue1!$D$4:$D$33,Yearly_revenue1!$B$4:$B$33,I68) -> 0 | L68: =SUMIFS(Yearly_revenue1!$A$4:$A$33,Yearly_revenue1!$B$4:$B$33,Output1!I68) -> 0
D69: Stage 2: Concept Design | E69: =_xlfn.MINIFS(Table5[Start year],Table5[Plan of work Stage],D69) -> 0 | F69: =_xlfn.MAXIFS(Yearly_expenditure1!$D$4:$D$39,Yearly_expenditure1!$B$4:$B$39,D69) -> 1 | G69: =SUMIFS(Yearly_expenditure1!$A$4:$A$32,Yearly_expenditure1!$B$4:$B$32,Output1!D69) -> 14000 | I69: Stage 2: Concept Design | J69: =_xlfn.MINIFS(Table1[Start Year],Table1[Plan of work Stage],I69) -> 0 | K69: =_xlfn.MAXIFS(Yearly_revenue1!$D$4:$D$33,Yearly_revenue1!$B$4:$B$33,I69) -> 0 | L69: =SUMIFS(Yearly_revenue1!$A$4:$A$33,Yearly_revenue1!$B$4:$B$33,Output1!I69) -> 0
D70: Stage 3: Spatial Coordination and Localisation | E70: =_xlfn.MINIFS(Table5[Start year],Table5[Plan of work Stage],D70) -> 0 | F70: =_xlfn.MAXIFS(Yearly_expenditure1!$D$4:$D$39,Yearly_expenditure1!$B$4:$B$39,D70) -> 1 | G70: =SUMIFS(Yearly_expenditure1!$A$4:$A$32,Yearly_expenditure1!$B$4:$B$32,Output1!D70) -> 10000 | I70: Stage 3: Spatial Coordination and Localisation | J70: =_xlfn.MINIFS(Table1[Start Year],Table1[Plan of work Stage],I70) -> 0 | K70: =_xlfn.MAXIFS(Yearly_revenue1!$D$4:$D$33,Yearly_revenue1!$B$4:$B$33,I70) -> 0 | L70: =SUMIFS(Yearly_revenue1!$A$4:$A$33,Yearly_revenue1!$B$4:$B$33,Output1!I70) -> 0
D71: Stage 4: Technical Design | E71: =_xlfn.MINIFS(Table5[Start year],Table5[Plan of work Stage],D71) -> 0 | F71: =_xlfn.MAXIFS(Yearly_expenditure1!$D$4:$D$39,Yearly_expenditure1!$B$4:$B$39,D71) -> 1 | G71: =SUMIFS(Yearly_expenditure1!$A$4:$A$32,Yearly_expenditure1!$B$4:$B$32,Output1!D71) -> 30000 | I71: Stage 4: Technical Design | J71: =_xlfn.MINIFS(Table1[Start Year],Table1[Plan of work Stage],I71) -> 0 | K71: =_xlfn.MAXIFS(Yearly_revenue1!$D$4:$D$33,Yearly_revenue1!$B$4:$B$33,I71) -> 0 | L71: =SUMIFS(Yearly_revenue1!$A$4:$A$33,Yearly_revenue1!$B$4:$B$33,Output1!I71) -> 0
D72: Stage 5: Construction, Integration and Installation | E72: =_xlfn.MINIFS(Table5[Start year],Table5[Plan of work Stage],D72) -> 1 | F72: =_xlfn.MAXIFS(Yearly_expenditure1!$D$4:$D$39,Yearly_expenditure1!$B$4:$B$39,D72) -> 2 | G72: =SUMIFS(Yearly_expenditure1!$A$4:$A$32,Yearly_expenditure1!$B$4:$B$32,Output1!D72) -> 506000 | I72: Stage 5: Construction, Integration and Installation | J72: =_xlfn.MINIFS(Table1[Start Year],Table1[Plan of work Stage],I72) -> 0 | K72: =_xlfn.MAXIFS(Yearly_revenue1!$D$4:$D$33,Yearly_revenue1!$B$4:$B$33,I72) -> 0 | L72: =SUMIFS(Yearly_revenue1!$A$4:$A$33,Yearly_revenue1!$B$4:$B$33,Output1!I72) -> 0
D73: Stage 6: Handover | E73: =_xlfn.MINIFS(Table5[Start year],Table5[Plan of work Stage],D73) -> 1 | F73: =_xlfn.MAXIFS(Yearly_expenditure1!$D$4:$D$39,Yearly_expenditure1!$B$4:$B$39,D73) -> 2 | G73: =SUMIFS(Yearly_expenditure1!$A$4:$A$32,Yearly_expenditure1!$B$4:$B$32,Output1!D73) -> 5000 | I73: Stage 6: Handover | J73: =_xlfn.MINIFS(Table1[Start Year],Table1[Plan of work Stage],I73) -> 0 | K73: =_xlfn.MAXIFS(Yearly_revenue1!$D$4:$D$33,Yearly_revenue1!$B$4:$B$33,I73) -> 0 | L73: =SUMIFS(Yearly_revenue1!$A$4:$A$33,Yearly_revenue1!$B$4:$B$33,Output1!I73) -> 0
D74: Stage 7: Use (and Operation) | E74: =_xlfn.MINIFS(Table5[Start year],Table5[Plan of work Stage],D74) -> 1 | F74: =_xlfn.MAXIFS(Yearly_expenditure1!$D$4:$D$39,Yearly_expenditure1!$B$4:$B$39,D74) -> 25 | G74: =SUMIFS(Yearly_expenditure1!$A$4:$A$32,Yearly_expenditure1!$B$4:$B$32,Output1!D74) -> 826669.29 | I74: Stage 7: Use (and Operation) | J74: =_xlfn.MINIFS(Table1[Start Year],Table1[Plan of work Stage],I74) -> 2 | K74: =_xlfn.MAXIFS(Yearly_revenue1!$D$4:$D$33,Yearly_revenue1!$B$4:$B$33,I74) -> 25 | L74: =SUMIFS(Yearly_revenue1!$A$4:$A$33,Yearly_revenue1!$B$4:$B$33,Output1!I74) -> 3201528.8

Sheet Project Value Map1
B5: Item | C5: Present value of comulative cash flow | D5: Point 0 | E5: Point 1 | F5: Point 2 | H5: Dynamic X -Step1 | I5: Point 0 - Step1 | J5: Point 1 - Step1 | K5: Point 2 -Step1 | L5: Dynamic X- Step2 | M5: Point 0 - Step2 | N5: Point 1 - Step2 | O5: Point 2 -Step2
B6: =IF('Step 2_Revenue1'!C26="","",'Step 2_Revenue1'!C26) -> Savings from PV Self usage | C6: =NPV('Step 1_Expenditure1'!$C$21,Yearly_revenue1!G4:DB4)+Yearly_revenue1!F4 -> 1455280.1 | D6: =IF(B6="","",0) -> 0 | E6: =IF(B6="","",0) -> 0 | F6: =IF(B6="","",C6) -> 1455280.1 | H6: {=IFERROR(INDEX($B$6:$B$74,_xlfn.AGGREGATE(15,3,ROW($B$6:$B$74)-ROW($B$5)/($B$6:$B$74<>""),ROWS($B$6:B6))),NA())} -> Savings from PV Self usage | I6: {=IFERROR(INDEX($D$6:$D$74,_xlfn.AGGREGATE(15,3,ROW($D$6:$D$74)-ROW($D$5)/($D$6:$D$74<>""),ROWS($D$6:D6))),NA())} -> 0 | J6: {=IFERROR(INDEX($E$6:$E$74,_xlfn.AGGREGATE(15,3,ROW($E$6:$E$74)-ROW($E$5)/($E$6:$E$74<>""),ROWS($E$6:E6))),NA())} -> 0 | K6: {=IFERROR(INDEX($F$6:$F$74,_xlfn.AGGREGATE(15,3,ROW($F$6:$F$74)-ROW($F$5)/($F$6:$F$74<>""),ROWS($F$6:F6))),NA())} -> 1455280.1 | L6: {=OFFSET('Project Value Map1'!$H$6,0,0,COUNTA('Project Value Map1'!$H$6:$H$73)-COUNTIF('Project Value Map1'!$H$6:$H$73,NA()))} -> Savings from PV Self usage | M6: {=OFFSET('Project Value Map1'!$I$6,0,0,COUNTA('Project Value Map1'!$I$6:$I$74)-COUNTIF('Project Value Map1'!$I$6:$I$74,NA()))} -> 0 | N6: {=OFFSET('Project Value Map1'!$J$6,0,0,COUNTA('Project Value Map1'!$J$6:$J$74)-COUNTIF('Project Value Map1'!$J$6:$J$74,NA()))} -> 0 | O6: {=OFFSET('Project Value Map1'!$K$6,0,0,COUNTA('Project Value Map1'!$K$6:$K$74)-COUNTIF('Project Value Map1'!$K$6:$K$74,NA()))} -> 1455280.1
B7: =IF('Step 2_Revenue1'!C27="","",'Step 2_Revenue1'!C27) -> Smart Export Guarantee | C7: =NPV('Step 1_Expenditure1'!$C$21,Yearly_revenue1!G5:DB5)+Yearly_revenue1!F5 -> 62583.153 | D7: =IF(B7="","",0) -> 0 | E7: =IF(B7="","",E6+F6) -> 1455280.1 | F7: =IF(B7="","",C7) -> 62583.153 | H7: {=IFERROR(INDEX($B$6:$B$74,_xlfn.AGGREGATE(15,3,ROW($B$6:$B$74)-ROW($B$5)/($B$6:$B$74<>""),ROWS($B$6:B7))),NA())} -> Smart Export Guarantee | I7: {=IFERROR(INDEX($D$6:$D$74,_xlfn.AGGREGATE(15,3,ROW($D$6:$D$74)-ROW($D$5)/($D$6:$D$74<>""),ROWS($D$6:D7))),NA())} -> 0 | J7: {=IFERROR(INDEX($E$6:$E$74,_xlfn.AGGREGATE(15,3,ROW($E$6:$E$74)-ROW($E$5)/($E$6:$E$74<>""),ROWS($E$6:E7))),NA())} -> 1455280.1 | K7: {=IFERROR(INDEX($F$6:$F$74,_xlfn.AGGREGATE(15,3,ROW($F$6:$F$74)-ROW($F$5)/($F$6:$F$74<>""),ROWS($F$6:F7))),NA())} -> 62583.153 | L7: Smart Export Guarantee | M7: 0 | N7: 1455280.1 | O7: 62583.153
B8: =IF('Step 2_Revenue1'!C28="","",'Step 2_Revenue1'!C28) -> Feasibility funding | C8: =NPV('Step 1_Expenditure1'!$C$21,Yearly_revenue1!G6:DB6)+Yearly_revenue1!F6 -> 9335.107 | D8: =IF(B8="","",0) -> 0 | E8: =IF(B8="","",E7+F7) -> 1517863.3 | F8: =IF(B8="","",C8) -> 9335.107 | H8: {=IFERROR(INDEX($B$6:$B$74,_xlfn.AGGREGATE(15,3,ROW($B$6:$B$74)-ROW($B$5)/($B$6:$B$74<>""),ROWS($B$6:B8))),NA())} -> Feasibility funding | I8: {=IFERROR(INDEX($D$6:$D$74,_xlfn.AGGREGATE(15,3,ROW($D$6:$D$74)-ROW($D$5)/($D$6:$D$74<>""),ROWS($D$6:D8))),NA())} -> 0 | J8: {=IFERROR(INDEX($E$6:$E$74,_xlfn.AGGREGATE(15,3,ROW($E$6:$E$74)-ROW($E$5)/($E$6:$E$74<>""),ROWS($E$6:E8))),NA())} -> 1517863.3 | K8: {=IFERROR(INDEX($F$6:$F$74,_xlfn.AGGREGATE(15,3,ROW($F$6:$F$74)-ROW($F$5)/($F$6:$F$74<>""),ROWS($F$6:F8))),NA())} -> 9335.107 | L8: Feasibility funding | M8: 0 | N8: 1517863.3 | O8: 9335.107
B9: =IF('Step 2_Revenue1'!C29="","",'Step 2_Revenue1'!C29) -> PPA | C9: =NPV('Step 1_Expenditure1'!$C$21,Yearly_revenue1!G7:DB7)+Yearly_revenue1!F7 -> 132051.36 | D9: =IF(B9="","",0) -> 0 | E9: =IF(B9="","",E8+F8) -> 1527198.4 | F9: =IF(B9="","",C9) -> 132051.36 | H9: {=IFERROR(INDEX($B$6:$B$74,_xlfn.AGGREGATE(15,3,ROW($B$6:$B$74)-ROW($B$5)/($B$6:$B$74<>""),ROWS($B$6:B9))),NA())} -> PPA | I9: {=IFERROR(INDEX($D$6:$D$74,_xlfn.AGGREGATE(15,3,ROW($D$6:$D$74)-ROW($D$5)/($D$6:$D$74<>""),ROWS($D$6:D9))),NA())} -> 0 | J9: {=IFERROR(INDEX($E$6:$E$74,_xlfn.AGGREGATE(15,3,ROW($E$6:$E$74)-ROW($E$5)/($E$6:$E$74<>""),ROWS($E$6:E9))),NA())} -> 1527198.4 | K9: {=IFERROR(INDEX($F$6:$F$74,_xlfn.AGGREGATE(15,3,ROW($F$6:$F$74)-ROW($F$5)/($F$6:$F$74<>""),ROWS($F$6:F9))),NA())} -> 132051.36 | L9: PPA | M9: 0 | N9: 1527198.4 | O9: 132051.36
B10: =IF('Step 2_Revenue1'!C30="","",'Step 2_Revenue1'!C30) -> REGO Certificate | C10: =NPV('Step 1_Expenditure1'!$C$21,Yearly_revenue1!G8:DB8)+Yearly_revenue1!F8 -> 395640.94 | D10: =IF(B10="","",0) -> 0 | E10: =IF(B10="","",E9+F9) -> 1659249.7 | F10: =IF(B10="","",C10) -> 395640.94 | H10: {=IFERROR(INDEX($B$6:$B$74,_xlfn.AGGREGATE(15,3,ROW($B$6:$B$74)-ROW($B$5)/($B$6:$B$74<>""),ROWS($B$6:B10))),NA())} -> REGO Certificate | I10: {=IFERROR(INDEX($D$6:$D$74,_xlfn.AGGREGATE(15,3,ROW($D$6:$D$74)-ROW($D$5)/($D$6:$D$74<>""),ROWS($D$6:D10))),NA())} -> 0 | J10: {=IFERROR(INDEX($E$6:$E$74,_xlfn.AGGREGATE(15,3,ROW($E$6:$E$74)-ROW($E$5)/($E$6:$E$74<>""),ROWS($E$6:E10))),NA())} -> 1659249.7 | K10: {=IFERROR(INDEX($F$6:$F$74,_xlfn.AGGREGATE(15,3,ROW($F$6:$F$74)-ROW($F$5)/($F$6:$F$74<>""),ROWS($F$6:F10))),NA())} -> 395640.94 | L10: REGO Certificate | M10: 0 | N10: 1659249.7 | O10: 395640.94
B11: =IF('Step 2_Revenue1'!C31="","",'Step 2_Revenue1'!C31) | C11: =NPV('Step 1_Expenditure1'!$C$21,Yearly_revenue1!G9:DB9)+Yearly_revenue1!F9 -> 0 | D11: =IF(B11="","",0) | E11: =IF(B11="","",E10+F10) | F11: =IF(B11="","",C11) | H11: {=IFERROR(INDEX($B$6:$B$74,_xlfn.AGGREGATE(15,3,ROW($B$6:$B$74)-ROW($B$5)/($B$6:$B$74<>""),ROWS($B$6:B11))),NA())} -> Engineer Consultancy | I11: {=IFERROR(INDEX($D$6:$D$74,_xlfn.AGGREGATE(15,3,ROW($D$6:$D$74)-ROW($D$5)/($D$6:$D$74<>""),ROWS($D$6:D11))),NA())} -> 0 | J11: {=IFERROR(INDEX($E$6:$E$74,_xlfn.AGGREGATE(15,3,ROW($E$6:$E$74)-ROW($E$5)/($E$6:$E$74<>""),ROWS($E$6:E11))),NA())} -> 2039890.7 | K11: {=IFERROR(INDEX($F$6:$F$74,_xlfn.AGGREGATE(15,3,ROW($F$6:$F$74)-ROW($F$5)/($F$6:$F$74<>""),ROWS($F$6:F11))),NA())} -> 15000 | L11: Engineer Consultancy | M11: 0 | N11: 2039890.7 | O11: 15000
B12: =IF('Step 2_Revenue1'!C32="","",'Step 2_Revenue1'!C32) | C12: =NPV('Step 1_Expenditure1'!$C$21,Yearly_revenue1!G10:DB10)+Yearly_revenue1!F10 -> 0 | D12: =IF(B12="","",0) | E12: =IF(B12="","",E11+F11) | F12: =IF(B12="","",C12) | H12: {=IFERROR(INDEX($B$6:$B$74,_xlfn.AGGREGATE(15,3,ROW($B$6:$B$74)-ROW($B$5)/($B$6:$B$74<>""),ROWS($B$6:B12))),NA())} -> Site Surveys | I12: {=IFERROR(INDEX($D$6:$D$74,_xlfn.AGGREGATE(15,3,ROW($D$6:$D$74)-ROW($D$5)/($D$6:$D$74<>""),ROWS($D$6:D12))),NA())} -> 0 | J12: {=IFERROR(INDEX($E$6:$E$74,_xlfn.AGGREGATE(15,3,ROW($E$6:$E$74)-ROW($E$5)/($E$6:$E$74<>""),ROWS($E$6:E12))),NA())} -> 2034890.7 | K12: {=IFERROR(INDEX($F$6:$F$74,_xlfn.AGGREGATE(15,3,ROW($F$6:$F$74)-ROW($F$5)/($F$6:$F$74<>""),ROWS($F$6:F12))),NA())} -> 5000 | L12: Site Surveys | M12: 0 | N12: 2034890.7 | O12: 5000
B13: =IF('Step 2_Revenue1'!C33="","",'Step 2_Revenue1'!C33) | C13: =NPV('Step 1_Expenditure1'!$C$21,Yearly_revenue1!G11:DB11)+Yearly_revenue1!F11 -> 0 | D13: =IF(B13="","",0) | E13: =IF(B13="","",E12+F12) | F13: =IF(B13="","",C13) | H13: {=IFERROR(INDEX($B$6:$B$74,_xlfn.AGGREGATE(15,3,ROW($B$6:$B$74)-ROW($B$5)/($B$6:$B$74<>""),ROWS($B$6:B13))),NA())} -> Specification consulation | I13: {=IFERROR(INDEX($D$6:$D$74,_xlfn.AGGREGATE(15,3,ROW($D$6:$D$74)-ROW($D$5)/($D$6:$D$74<>""),ROWS($D$6:D13))),NA())} -> 0 | J13: {=IFERROR(INDEX($E$6:$E$74,_xlfn.AGGREGATE(15,3,ROW($E$6:$E$74)-ROW($E$5)/($E$6:$E$74<>""),ROWS($E$6:E13))),NA())} -> 2031890.7 | K13: {=IFERROR(INDEX($F$6:$F$74,_xlfn.AGGREGATE(15,3,ROW($F$6:$F$74)-ROW($F$5)/($F$6:$F$74<>""),ROWS($F$6:F13))),NA())} -> 3000 | L13: Specification consulation | M13: 0 | N13: 2031890.7 | O13: 3000
B14: =IF('Step 2_Revenue1'!C34="","",'Step 2_Revenue1'!C34) | C14: =NPV('Step 1_Expenditure1'!$C$21,Yearly_revenue1!G12:DB12)+Yearly_revenue1!F12 -> 0 | D14: =IF(B14="","",0) | E14: =IF(B14="","",E13+F13) | F14: =IF(B14="","",C14) | H14: {=IFERROR(INDEX($B$6:$B$74,_xlfn.AGGREGATE(15,3,ROW($B$6:$B$74)-ROW($B$5)/($B$6:$B$74<>""),ROWS($B$6:B14))),NA())} -> Community Consultant | I14: {=IFERROR(INDEX($D$6:$D$74,_xlfn.AGGREGATE(15,3,ROW($D$6:$D$74)-ROW($D$5)/($D$6:$D$74<>""),ROWS($D$6:D14))),NA())} -> 0 | J14: {=IFERROR(INDEX($E$6:$E$74,_xlfn.AGGREGATE(15,3,ROW($E$6:$E$74)-ROW($E$5)/($E$6:$E$74<>""),ROWS($E$6:E14))),NA())} -> 2028890.7 | K14: {=IFERROR(INDEX($F$6:$F$74,_xlfn.AGGREGATE(15,3,ROW($F$6:$F$74)-ROW($F$5)/($F$6:$F$74<>""),ROWS($F$6:F14))),NA())} -> 3000 | L14: Community Consultant | M14: 0 | N14: 2028890.7 | O14: 3000
B15: =IF('Step 2_Revenue1'!C35="","",'Step 2_Revenue1'!C35) | C15: =NPV('Step 1_Expenditure1'!$C$21,Yearly_revenue1!G13:DB13)+Yearly_revenue1!F13 -> 0 | D15: =IF(B15="","",0) | E15: =IF(B15="","",E14+F14) | F15: =IF(B15="","",C15) | H15: {=IFERROR(INDEX($B$6:$B$74,_xlfn.AGGREGATE(15,3,ROW($B$6:$B$74)-ROW($B$5)/($B$6:$B$74<>""),ROWS($B$6:B15))),NA())} -> Planning consultant | I15: {=IFERROR(INDEX($D$6:$D$74,_xlfn.AGGREGATE(15,3,ROW($D$6:$D$74)-ROW($D$5)/($D$6:$D$74<>""),ROWS($D$6:D15))),NA())} -> 0 | J15: {=IFERROR(INDEX($E$6:$E$74,_xlfn.AGGREGATE(15,3,ROW($E$6:$E$74)-ROW($E$5)/($E$6:$E$74<>""),ROWS($E$6:E15))),NA())} -> 2025890.7 | K15: {=IFERROR(INDEX($F$6:$F$74,_xlfn.AGGREGATE(15,3,ROW($F$6:$F$74)-ROW($F$5)/($F$6:$F$74<>""),ROWS($F$6:F15))),NA())} -> 3000 | L15: Planning consultant | M15: 0 | N15: 2025890.7 | O15: 3000
B16: =IF('Step 2_Revenue1'!C36="","",'Step 2_Revenue1'!C36) | C16: =NPV('Step 1_Expenditure1'!$C$21,Yearly_revenue1!G14:DB14)+Yearly_revenue1!F14 -> 0 | D16: =IF(B16="","",0) | E16: =IF(B16="","",E15+F15) | F16: =IF(B16="","",C16) | H16: {=IFERROR(INDEX($B$6:$B$74,_xlfn.AGGREGATE(15,3,ROW($B$6:$B$74)-ROW($B$5)/($B$6:$B$74<>""),ROWS($B$6:B16))),NA())} -> Financial Consultation | I16: {=IFERROR(INDEX($D$6:$D$74,_xlfn.AGGREGATE(15,3,ROW($D$6:$D$74)-ROW($D$5)/($D$6:$D$74<>""),ROWS($D$6:D16))),NA())} -> 0 | J16: {=IFERROR(INDEX($E$6:$E$74,_xlfn.AGGREGATE(15,3,ROW($E$6:$E$74)-ROW($E$5)/($E$6:$E$74<>""),ROWS($E$6:E16))),NA())} -> 2020890.7 | K16: {=IFERROR(INDEX($F$6:$F$74,_xlfn.AGGREGATE(15,3,ROW($F$6:$F$74)-ROW($F$5)/($F$6:$F$74<>""),ROWS($F$6:F16))),NA())} -> 5000 | L16: Financial Consultation | M16: 0 | N16: 2020890.7 | O16: 5000
B17: =IF('Step 2_Revenue1'!C37="","",'Step 2_Revenue1'!C37) | C17: =NPV('Step 1_Expenditure1'!$C$21,Yearly_revenue1!G15:DB15)+Yearly_revenue1!F15 -> 0 | D17: =IF(B17="","",0) | E17: =IF(B17="","",E16+F16) | F17: =IF(B17="","",C17) | H17: {=IFERROR(INDEX($B$6:$B$74,_xlfn.AGGREGATE(15,3,ROW($B$6:$B$74)-ROW($B$5)/($B$6:$B$74<>""),ROWS($B$6:B17))),NA())} -> Design team | I17: {=IFERROR(INDEX($D$6:$D$74,_xlfn.AGGREGATE(15,3,ROW($D$6:$D$74)-ROW($D$5)/($D$6:$D$74<>""),ROWS($D$6:D17))),NA())} -> 0 | J17: {=IFERROR(INDEX($E$6:$E$74,_xlfn.AGGREGATE(15,3,ROW($E$6:$E$74)-ROW($E$5)/($E$6:$E$74<>""),ROWS($E$6:E17))),NA())} -> 1990890.7 | K17: {=IFERROR(INDEX($F$6:$F$74,_xlfn.AGGREGATE(15,3,ROW($F$6:$F$74)-ROW($F$5)/($F$6:$F$74<>""),ROWS($F$6:F17))),NA())} -> 30000 | L17: Design team | M17: 0 | N17: 1990890.7 | O17: 30000
B18: =IF('Step 2_Revenue1'!C38="","",'Step 2_Revenue1'!C38) | C18: =NPV('Step 1_Expenditure1'!$C$21,Yearly_revenue1!G16:DB16)+Yearly_revenue1!F16 -> 0 | D18: =IF(B18="","",0) | E18: =IF(B18="","",E17+F17) | F18: =IF(B18="","",C18) | H18: {=IFERROR(INDEX($B$6:$B$74,_xlfn.AGGREGATE(15,3,ROW($B$6:$B$74)-ROW($B$5)/($B$6:$B$74<>""),ROWS($B$6:B18))),NA())} -> Solar Modules | I18: {=IFERROR(INDEX($D$6:$D$74,_xlfn.AGGREGATE(15,3,ROW($D$6:$D$74)-ROW($D$5)/($D$6:$D$74<>""),ROWS($D$6:D18))),NA())} -> 0 | J18: {=IFERROR(INDEX($E$6:$E$74,_xlfn.AGGREGATE(15,3,ROW($E$6:$E$74)-ROW($E$5)/($E$6:$E$74<>""),ROWS($E$6:E18))),NA())} -> 1797654 | K18: {=IFERROR(INDEX($F$6:$F$74,_xlfn.AGGREGATE(15,3,ROW($F$6:$F$74)-ROW($F$5)/($F$6:$F$74<>""),ROWS($F$6:F18))),NA())} -> 193236.71 | L18: Solar Modules | M18: 0 | N18: 1797654 | O18: 193236.71
... B27: =IF('Step 2_Revenue1'!C47="","",'Step 2_Revenue1'!C47) | C27: =NPV('Step 1_Expenditure1'!$C$21,Yearly_revenue1!G25:DB25)+Yearly_revenue1!F25 -> 0 | D27: =IF(B27="","",0) | E27: =IF(B27="","",E26+F26) | F27: =IF(B27="","",C27) | H27: {=IFERROR(INDEX($B$6:$B$74,_xlfn.AGGREGATE(15,3,ROW($B$6:$B$74)-ROW($B$5)/($B$6:$B$74<>""),ROWS($B$6:B27))),NA())} -> Nominal NPV before Tax | I27: {=IFERROR(INDEX($D$6:$D$74,_xlfn.AGGREGATE(15,3,ROW($D$6:$D$74)-ROW($D$5)/($D$6:$D$74<>""),ROWS($D$6:D27))),NA())} -> 0 | J27: {=IFERROR(INDEX($E$6:$E$74,_xlfn.AGGREGATE(15,3,ROW($E$6:$E$74)-ROW($E$5)/($E$6:$E$74<>""),ROWS($E$6:E27))),NA())} -> 0 | K27: {=IFERROR(INDEX($F$6:$F$74,_xlfn.AGGREGATE(15,3,ROW($F$6:$F$74)-ROW($F$5)/($F$6:$F$74<>""),ROWS($F$6:F27))),NA())} -> 971943.07 | L27: Nominal NPV before Tax | M27: 0 | N27: 0 | O27: 971943.07
B28: =IF('Step 2_Revenue1'!C48="","",'Step 2_Revenue1'!C48) | C28: =NPV('Step 1_Expenditure1'!$C$21,Yearly_revenue1!G26:DB26)+Yearly_revenue1!F26 -> 0 | D28: =IF(B28="","",0) | E28: =IF(B28="","",E27+F27) | F28: =IF(B28="","",C28) | H28: {=IFERROR(INDEX($B$6:$B$74,_xlfn.AGGREGATE(15,3,ROW($B$6:$B$74)-ROW($B$5)/($B$6:$B$74<>""),ROWS($B$6:B28))),NA())} -> #N/A | I28: {=IFERROR(INDEX($D$6:$D$74,_xlfn.AGGREGATE(15,3,ROW($D$6:$D$74)-ROW($D$5)/($D$6:$D$74<>""),ROWS($D$6:D28))),NA())} -> #N/A | J28: {=IFERROR(INDEX($E$6:$E$74,_xlfn.AGGREGATE(15,3,ROW($E$6:$E$74)-ROW($E$5)/($E$6:$E$74<>""),ROWS($E$6:E28))),NA())} -> #N/A | K28: {=IFERROR(INDEX($F$6:$F$74,_xlfn.AGGREGATE(15,3,ROW($F$6:$F$74)-ROW($F$5)/($F$6:$F$74<>""),ROWS($F$6:F28))),NA())} -> #N/A
B29: =IF('Step 2_Revenue1'!C49="","",'Step 2_Revenue1'!C49) | C29: =NPV('Step 1_Expenditure1'!$C$21,Yearly_revenue1!G27:DB27)+Yearly_revenue1!F27 -> 0 | D29: =IF(B29="","",0) | E29: =IF(B29="","",E28+F28) | F29: =IF(B29="","",C29) | H29: {=IFERROR(INDEX($B$6:$B$74,_xlfn.AGGREGATE(15,3,ROW($B$6:$B$74)-ROW($B$5)/($B$6:$B$74<>""),ROWS($B$6:B29))),NA())} -> #N/A | I29: {=IFERROR(INDEX($D$6:$D$74,_xlfn.AGGREGATE(15,3,ROW($D$6:$D$74)-ROW($D$5)/($D$6:$D$74<>""),ROWS($D$6:D29))),NA())} -> #N/A | J29: {=IFERROR(INDEX($E$6:$E$74,_xlfn.AGGREGATE(15,3,ROW($E$6:$E$74)-ROW($E$5)/($E$6:$E$74<>""),ROWS($E$6:E29))),NA())} -> #N/A | K29: {=IFERROR(INDEX($F$6:$F$74,_xlfn.AGGREGATE(15,3,ROW($F$6:$F$74)-ROW($F$5)/($F$6:$F$74<>""),ROWS($F$6:F29))),NA())} -> #N/A
B30: =IF('Step 2_Revenue1'!C50="","",'Step 2_Revenue1'!C50) | C30: =NPV('Step 1_Expenditure1'!$C$21,Yearly_revenue1!G28:DB28)+Yearly_revenue1!F28 -> 0 | D30: =IF(B30="","",0) | E30: =IF(B30="","",E29+F29) | F30: =IF(B30="","",C30) | H30: {=IFERROR(INDEX($B$6:$B$74,_xlfn.AGGREGATE(15,3,ROW($B$6:$B$74)-ROW($B$5)/($B$6:$B$74<>""),ROWS($B$6:B30))),NA())} -> #N/A | I30: {=IFERROR(INDEX($D$6:$D$74,_xlfn.AGGREGATE(15,3,ROW($D$6:$D$74)-ROW($D$5)/($D$6:$D$74<>""),ROWS($D$6:D30))),NA())} -> #N/A | J30: {=IFERROR(INDEX($E$6:$E$74,_xlfn.AGGREGATE(15,3,ROW($E$6:$E$74)-ROW($E$5)/($E$6:$E$74<>""),ROWS($E$6:E30))),NA())} -> #N/A | K30: {=IFERROR(INDEX($F$6:$F$74,_xlfn.AGGREGATE(15,3,ROW($F$6:$F$74)-ROW($F$5)/($F$6:$F$74<>""),ROWS($F$6:F30))),NA())} -> #N/A
B31: =IF('Step 2_Revenue1'!C51="","",'Step 2_Revenue1'!C51) | C31: =NPV('Step 1_Expenditure1'!$C$21,Yearly_revenue1!G29:DB29)+Yearly_revenue1!F29 -> 0 | D31: =IF(B31="","",0) | E31: =IF(B31="","",E30+F30) | F31: =IF(B31="","",C31) | H31: {=IFERROR(INDEX($B$6:$B$74,_xlfn.AGGREGATE(15,3,ROW($B$6:$B$74)-ROW($B$5)/($B$6:$B$74<>""),ROWS($B$6:B31))),NA())} -> #N/A | I31: {=IFERROR(INDEX($D$6:$D$74,_xlfn.AGGREGATE(15,3,ROW($D$6:$D$74)-ROW($D$5)/($D$6:$D$74<>""),ROWS($D$6:D31))),NA())} -> #N/A | J31: {=IFERROR(INDEX($E$6:$E$74,_xlfn.AGGREGATE(15,3,ROW($E$6:$E$74)-ROW($E$5)/($E$6:$E$74<>""),ROWS($E$6:E31))),NA())} -> #N/A | K31: {=IFERROR(INDEX($F$6:$F$74,_xlfn.AGGREGATE(15,3,ROW($F$6:$F$74)-ROW($F$5)/($F$6:$F$74<>""),ROWS($F$6:F31))),NA())} -> #N/A
B32: =IF('Step 2_Revenue1'!C52="","",'Step 2_Revenue1'!C52) | C32: =NPV('Step 1_Expenditure1'!$C$21,Yearly_revenue1!G30:DB30)+Yearly_revenue1!F30 -> 0 | D32: =IF(B32="","",0) | E32: =IF(B32="","",E31+F31) | F32: =IF(B32="","",C32) | H32: {=IFERROR(INDEX($B$6:$B$74,_xlfn.AGGREGATE(15,3,ROW($B$6:$B$74)-ROW($B$5)/($B$6:$B$74<>""),ROWS($B$6:B32))),NA())} -> #N/A | I32: {=IFERROR(INDEX($D$6:$D$74,_xlfn.AGGREGATE(15,3,ROW($D$6:$D$74)-ROW($D$5)/($D$6:$D$74<>""),ROWS($D$6:D32))),NA())} -> #N/A | J32: {=IFERROR(INDEX($E$6:$E$74,_xlfn.AGGREGATE(15,3,ROW($E$6:$E$74)-ROW($E$5)/($E$6:$E$74<>""),ROWS($E$6:E32))),NA())} -> #N/A | K32: {=IFERROR(INDEX($F$6:$F$74,_xlfn.AGGREGATE(15,3,ROW($F$6:$F$74)-ROW($F$5)/($F$6:$F$74<>""),ROWS($F$6:F32))),NA())} -> #N/A
B33: =IF('Step 2_Revenue1'!C53="","",'Step 2_Revenue1'!C53) | C33: =NPV('Step 1_Expenditure1'!$C$21,Yearly_revenue1!G31:DB31)+Yearly_revenue1!F31 -> 0 | D33: =IF(B33="","",0) | E33: =IF(B33="","",E32+F32) | F33: =IF(B33="","",C33) | H33: {=IFERROR(INDEX($B$6:$B$74,_xlfn.AGGREGATE(15,3,ROW($B$6:$B$74)-ROW($B$5)/($B$6:$B$74<>""),ROWS($B$6:B33))),NA())} -> #N/A | I33: {=IFERROR(INDEX($D$6:$D$74,_xlfn.AGGREGATE(15,3,ROW($D$6:$D$74)-ROW($D$5)/($D$6:$D$74<>""),ROWS($D$6:D33))),NA())} -> #N/A | J33: {=IFERROR(INDEX($E$6:$E$74,_xlfn.AGGREGATE(15,3,ROW($E$6:$E$74)-ROW($E$5)/($E$6:$E$74<>""),ROWS($E$6:E33))),NA())} -> #N/A | K33: {=IFERROR(INDEX($F$6:$F$74,_xlfn.AGGREGATE(15,3,ROW($F$6:$F$74)-ROW($F$5)/($F$6:$F$74<>""),ROWS($F$6:F33))),NA())} -> #N/A
B34: =IF('Step 2_Revenue1'!C54="","",'Step 2_Revenue1'!C54) | C34: =NPV('Step 1_Expenditure1'!$C$21,Yearly_revenue1!G32:DB32)+Yearly_revenue1!F32 -> 0 | D34: =IF(B34="","",0) | E34: =IF(B34="","",E33+F33) | F34: =IF(B34="","",C34) | H34: {=IFERROR(INDEX($B$6:$B$74,_xlfn.AGGREGATE(15,3,ROW($B$6:$B$74)-ROW($B$5)/($B$6:$B$74<>""),ROWS($B$6:B34))),NA())} -> #N/A | I34: {=IFERROR(INDEX($D$6:$D$74,_xlfn.AGGREGATE(15,3,ROW($D$6:$D$74)-ROW($D$5)/($D$6:$D$74<>""),ROWS($D$6:D34))),NA())} -> #N/A | J34: {=IFERROR(INDEX($E$6:$E$74,_xlfn.AGGREGATE(15,3,ROW($E$6:$E$74)-ROW($E$5)/($E$6:$E$74<>""),ROWS($E$6:E34))),NA())} -> #N/A | K34: {=IFERROR(INDEX($F$6:$F$74,_xlfn.AGGREGATE(15,3,ROW($F$6:$F$74)-ROW($F$5)/($F$6:$F$74<>""),ROWS($F$6:F34))),NA())} -> #N/A
B35: =IF('Step 2_Revenue1'!C55="","",'Step 2_Revenue1'!C55) | C35: =NPV('Step 1_Expenditure1'!$C$21,Yearly_revenue1!G33:DB33)+Yearly_revenue1!F33 -> 0 | D35: =IF(B35="","",0) | E35: =IF(B35="","",E34+F34) | F35: =IF(B35="","",C35) | H35: {=IFERROR(INDEX($B$6:$B$74,_xlfn.AGGREGATE(15,3,ROW($B$6:$B$74)-ROW($B$5)/($B$6:$B$74<>""),ROWS($B$6:B35))),NA())} -> #N/A | I35: {=IFERROR(INDEX($D$6:$D$74,_xlfn.AGGREGATE(15,3,ROW($D$6:$D$74)-ROW($D$5)/($D$6:$D$74<>""),ROWS($D$6:D35))),NA())} -> #N/A | J35: {=IFERROR(INDEX($E$6:$E$74,_xlfn.AGGREGATE(15,3,ROW($E$6:$E$74)-ROW($E$5)/($E$6:$E$74<>""),ROWS($E$6:E35))),NA())} -> #N/A | K35: {=IFERROR(INDEX($F$6:$F$74,_xlfn.AGGREGATE(15,3,ROW($F$6:$F$74)-ROW($F$5)/($F$6:$F$74<>""),ROWS($F$6:F35))),NA())} -> #N/A
B36: =IF('Step 2_Revenue1'!C56="","",'Step 2_Revenue1'!C56) | C36: =NPV('Step 1_Expenditure1'!$C$21,Yearly_revenue1!G34:DB34)+Yearly_revenue1!F34 -> 0 | D36: =IF(B36="","",0) | E36: =IF(B36="","",E35+F35) | F36: =IF(B36="","",C36) | H36: {=IFERROR(INDEX($B$6:$B$74,_xlfn.AGGREGATE(15,3,ROW($B$6:$B$74)-ROW($B$5)/($B$6:$B$74<>""),ROWS($B$6:B36))),NA())} -> #N/A | I36: {=IFERROR(INDEX($D$6:$D$74,_xlfn.AGGREGATE(15,3,ROW($D$6:$D$74)-ROW($D$5)/($D$6:$D$74<>""),ROWS($D$6:D36))),NA())} -> #N/A | J36: {=IFERROR(INDEX($E$6:$E$74,_xlfn.AGGREGATE(15,3,ROW($E$6:$E$74)-ROW($E$5)/($E$6:$E$74<>""),ROWS($E$6:E36))),NA())} -> #N/A | K36: {=IFERROR(INDEX($F$6:$F$74,_xlfn.AGGREGATE(15,3,ROW($F$6:$F$74)-ROW($F$5)/($F$6:$F$74<>""),ROWS($F$6:F36))),NA())} -> #N/A
B37: =IF('Step 1_Expenditure1'!C26="","",'Step 1_Expenditure1'!C26) -> Engineer Consultancy | C37: =NPV('Step 1_Expenditure1'!$C$21,Yearly_expenditure1!G4:DB4)+Yearly_expenditure1!F4 -> 15000 | D37: =IF(B37="","",0) -> 0 | E37: =IF(B37="","",IF(MAX($E$6:$E$36)+INDEX(F6:F36,MATCH(MAX($E$6:$E$36),E6:E36))-C37<0,0,MAX($E$6:$E$36)+INDEX(F6:F36,MATCH(MAX($E$6:$E$36),E6:E36))-C37)) -> 2039890.7 | F37: =IF(B37="","",C37) -> 15000 | H37: {=IFERROR(INDEX($B$6:$B$74,_xlfn.AGGREGATE(15,3,ROW($B$6:$B$74)-ROW($B$5)/($B$6:$B$74<>""),ROWS($B$6:B37))),NA())} -> #N/A | I37: {=IFERROR(INDEX($D$6:$D$74,_xlfn.AGGREGATE(15,3,ROW($D$6:$D$74)-ROW($D$5)/($D$6:$D$74<>""),ROWS($D$6:D37))),NA())} -> #N/A | J37: {=IFERROR(INDEX($E$6:$E$74,_xlfn.AGGREGATE(15,3,ROW($E$6:$E$74)-ROW($E$5)/($E$6:$E$74<>""),ROWS($E$6:E37))),NA())} -> #N/A | K37: {=IFERROR(INDEX($F$6:$F$74,_xlfn.AGGREGATE(15,3,ROW($F$6:$F$74)-ROW($F$5)/($F$6:$F$74<>""),ROWS($F$6:F37))),NA())} -> #N/A
B38: =IF('Step 1_Expenditure1'!C27="","",'Step 1_Expenditure1'!C27) -> Site Surveys | C38: =NPV('Step 1_Expenditure1'!$C$21,Yearly_expenditure1!G5:DB5)+Yearly_expenditure1!F5 -> 5000 | D38: =IF(B38="","",IF(E37-C38<0,IF(E37<=0,-C38,E37-C38),0)) -> 0 | E38: =IF(B38="","",IF(E37-C38<0,IF(E37<0,D37+E37,D37),E37-C38)) -> 2034890.7 | F38: =IF(B38="","",IF(D38<0,IF(E38<0,0,E37),C38)) -> 5000 | H38: {=IFERROR(INDEX($B$6:$B$74,_xlfn.AGGREGATE(15,3,ROW($B$6:$B$74)-ROW($B$5)/($B$6:$B$74<>""),ROWS($B$6:B38))),NA())} -> #N/A | I38: {=IFERROR(INDEX($D$6:$D$74,_xlfn.AGGREGATE(15,3,ROW($D$6:$D$74)-ROW($D$5)/($D$6:$D$74<>""),ROWS($D$6:D38))),NA())} -> #N/A | J38: {=IFERROR(INDEX($E$6:$E$74,_xlfn.AGGREGATE(15,3,ROW($E$6:$E$74)-ROW($E$5)/($E$6:$E$74<>""),ROWS($E$6:E38))),NA())} -> #N/A | K38: {=IFERROR(INDEX($F$6:$F$74,_xlfn.AGGREGATE(15,3,ROW($F$6:$F$74)-ROW($F$5)/($F$6:$F$74<>""),ROWS($F$6:F38))),NA())} -> #N/A
B39: =IF('Step 1_Expenditure1'!C28="","",'Step 1_Expenditure1'!C28) -> Specification consulation | C39: =NPV('Step 1_Expenditure1'!$C$21,Yearly_expenditure1!G6:DB6)+Yearly_expenditure1!F6 -> 3000 | D39: =IF(B39="","",IF(E38-C39<0,IF(E38<=0,-C39,E38-C39),0)) -> 0 | E39: =IF(B39="","",IF(E38-C39<0,IF(E38<0,D38+E38,D38),E38-C39)) -> 2031890.7 | F39: =IF(B39="","",IF(D39<0,IF(E39<0,0,E38),C39)) -> 3000 | H39: {=IFERROR(INDEX($B$6:$B$74,_xlfn.AGGREGATE(15,3,ROW($B$6:$B$74)-ROW($B$5)/($B$6:$B$74<>""),ROWS($B$6:B39))),NA())} -> #N/A | I39: {=IFERROR(INDEX($D$6:$D$74,_xlfn.AGGREGATE(15,3,ROW($D$6:$D$74)-ROW($D$5)/($D$6:$D$74<>""),ROWS($D$6:D39))),NA())} -> #N/A | J39: {=IFERROR(INDEX($E$6:$E$74,_xlfn.AGGREGATE(15,3,ROW($E$6:$E$74)-ROW($E$5)/($E$6:$E$74<>""),ROWS($E$6:E39))),NA())} -> #N/A | K39: {=IFERROR(INDEX($F$6:$F$74,_xlfn.AGGREGATE(15,3,ROW($F$6:$F$74)-ROW($F$5)/($F$6:$F$74<>""),ROWS($F$6:F39))),NA())} -> #N/A
B40: =IF('Step 1_Expenditure1'!C29="","",'Step 1_Expenditure1'!C29) -> Community Consultant | C40: =NPV('Step 1_Expenditure1'!$C$21,Yearly_expenditure1!G7:DB7)+Yearly_expenditure1!F7 -> 3000 | D40: =IF(B40="","",IF(E39-C40<0,IF(E39<=0,-C40,E39-C40),0)) -> 0 | E40: =IF(B40="","",IF(E39-C40<0,IF(E39<0,D39+E39,D39),E39-C40)) -> 2028890.7 | F40: =IF(B40="","",IF(D40<0,IF(E40<0,0,E39),C40)) -> 3000 | H40: {=IFERROR(INDEX($B$6:$B$74,_xlfn.AGGREGATE(15,3,ROW($B$6:$B$74)-ROW($B$5)/($B$6:$B$74<>""),ROWS($B$6:B40))),NA())} -> #N/A | I40: {=IFERROR(INDEX($D$6:$D$74,_xlfn.AGGREGATE(15,3,ROW($D$6:$D$74)-ROW($D$5)/($D$6:$D$74<>""),ROWS($D$6:D40))),NA())} -> #N/A | J40: {=IFERROR(INDEX($E$6:$E$74,_xlfn.AGGREGATE(15,3,ROW($E$6:$E$74)-ROW($E$5)/($E$6:$E$74<>""),ROWS($E$6:E40))),NA())} -> #N/A | K40: {=IFERROR(INDEX($F$6:$F$74,_xlfn.AGGREGATE(15,3,ROW($F$6:$F$74)-ROW($F$5)/($F$6:$F$74<>""),ROWS($F$6:F40))),NA())} -> #N/A
B41: =IF('Step 1_Expenditure1'!C30="","",'Step 1_Expenditure1'!C30) -> Planning consultant | C41: =NPV('Step 1_Expenditure1'!$C$21,Yearly_expenditure1!G8:DB8)+Yearly_expenditure1!F8 -> 3000 | D41: =IF(B41="","",IF(E40-C41<0,IF(E40<=0,-C41,E40-C41),0)) -> 0 | E41: =IF(B41="","",IF(E40-C41<0,IF(E40<0,D40+E40,D40),E40-C41)) -> 2025890.7 | F41: =IF(B41="","",IF(D41<0,IF(E41<0,0,E40),C41)) -> 3000 | H41: {=IFERROR(INDEX($B$6:$B$74,_xlfn.AGGREGATE(15,3,ROW($B$6:$B$74)-ROW($B$5)/($B$6:$B$74<>""),ROWS($B$6:B41))),NA())} -> #N/A | I41: {=IFERROR(INDEX($D$6:$D$74,_xlfn.AGGREGATE(15,3,ROW($D$6:$D$74)-ROW($D$5)/($D$6:$D$74<>""),ROWS($D$6:D41))),NA())} -> #N/A | J41: {=IFERROR(INDEX($E$6:$E$74,_xlfn.AGGREGATE(15,3,ROW($E$6:$E$74)-ROW($E$5)/($E$6:$E$74<>""),ROWS($E$6:E41))),NA())} -> #N/A | K41: {=IFERROR(INDEX($F$6:$F$74,_xlfn.AGGREGATE(15,3,ROW($F$6:$F$74)-ROW($F$5)/($F$6:$F$74<>""),ROWS($F$6:F41))),NA())} -> #N/A
B42: =IF('Step 1_Expenditure1'!C31="","",'Step 1_Expenditure1'!C31) -> Financial Consultation | C42: =NPV('Step 1_Expenditure1'!$C$21,Yearly_expenditure1!G9:DB9)+Yearly_expenditure1!F9 -> 5000 | D42: =IF(B42="","",IF(E41-C42<0,IF(E41<=0,-C42,E41-C42),0)) -> 0 | E42: =IF(B42="","",IF(E41-C42<0,IF(E41<0,D41+E41,D41),E41-C42)) -> 2020890.7 | F42: =IF(B42="","",IF(D42<0,IF(E42<0,0,E41),C42)) -> 5000 | H42: {=IFERROR(INDEX($B$6:$B$74,_xlfn.AGGREGATE(15,3,ROW($B$6:$B$74)-ROW($B$5)/($B$6:$B$74<>""),ROWS($B$6:B42))),NA())} -> #N/A | I42: {=IFERROR(INDEX($D$6:$D$74,_xlfn.AGGREGATE(15,3,ROW($D$6:$D$74)-ROW($D$5)/($D$6:$D$74<>""),ROWS($D$6:D42))),NA())} -> #N/A | J42: {=IFERROR(INDEX($E$6:$E$74,_xlfn.AGGREGATE(15,3,ROW($E$6:$E$74)-ROW($E$5)/($E$6:$E$74<>""),ROWS($E$6:E42))),NA())} -> #N/A | K42: {=IFERROR(INDEX($F$6:$F$74,_xlfn.AGGREGATE(15,3,ROW($F$6:$F$74)-ROW($F$5)/($F$6:$F$74<>""),ROWS($F$6:F42))),NA())} -> #N/A
B43: =IF('Step 1_Expenditure1'!C32="","",'Step 1_Expenditure1'!C32) -> Design team | C43: =NPV('Step 1_Expenditure1'!$C$21,Yearly_expenditure1!G10:DB10)+Yearly_expenditure1!F10 -> 30000 | D43: =IF(B43="","",IF(E42-C43<0,IF(E42<=0,-C43,E42-C43),0)) -> 0 | E43: =IF(B43="","",IF(E42-C43<0,IF(E42<0,D42+E42,D42),E42-C43)) -> 1990890.7 | F43: =IF(B43="","",IF(D43<0,IF(E43<0,0,E42),C43)) -> 30000 | H43: {=IFERROR(INDEX($B$6:$B$74,_xlfn.AGGREGATE(15,3,ROW($B$6:$B$74)-ROW($B$5)/($B$6:$B$74<>""),ROWS($B$6:B43))),NA())} -> #N/A | I43: {=IFERROR(INDEX($D$6:$D$74,_xlfn.AGGREGATE(15,3,ROW($D$6:$D$74)-ROW($D$5)/($D$6:$D$74<>""),ROWS($D$6:D43))),NA())} -> #N/A | J43: {=IFERROR(INDEX($E$6:$E$74,_xlfn.AGGREGATE(15,3,ROW($E$6:$E$74)-ROW($E$5)/($E$6:$E$74<>""),ROWS($E$6:E43))),NA())} -> #N/A | K43: {=IFERROR(INDEX($F$6:$F$74,_xlfn.AGGREGATE(15,3,ROW($F$6:$F$74)-ROW($F$5)/($F$6:$F$74<>""),ROWS($F$6:F43))),NA())} -> #N/A
B44: =IF('Step 1_Expenditure1'!C33="","",'Step 1_Expenditure1'!C33) -> Solar Modules | C44: =NPV('Step 1_Expenditure1'!$C$21,Yearly_expenditure1!G11:DB11)+Yearly_expenditure1!F11 -> 193236.71 | D44: =IF(B44="","",IF(E43-C44<0,IF(E43<=0,-C44,E43-C44),0)) -> 0 | E44: =IF(B44="","",IF(E43-C44<0,IF(E43<0,D43+E43,D43),E43-C44)) -> 1797654 | F44: =IF(B44="","",IF(D44<0,IF(E44<0,0,E43),C44)) -> 193236.71 | H44: {=IFERROR(INDEX($B$6:$B$74,_xlfn.AGGREGATE(15,3,ROW($B$6:$B$74)-ROW($B$5)/($B$6:$B$74<>""),ROWS($B$6:B44))),NA())} -> #N/A | I44: {=IFERROR(INDEX($D$6:$D$74,_xlfn.AGGREGATE(15,3,ROW($D$6:$D$74)-ROW($D$5)/($D$6:$D$74<>""),ROWS($D$6:D44))),NA())} -> #N/A | J44: {=IFERROR(INDEX($E$6:$E$74,_xlfn.AGGREGATE(15,3,ROW($E$6:$E$74)-ROW($E$5)/($E$6:$E$74<>""),ROWS($E$6:E44))),NA())} -> #N/A | K44: {=IFERROR(INDEX($F$6:$F$74,_xlfn.AGGREGATE(15,3,ROW($F$6:$F$74)-ROW($F$5)/($F$6:$F$74<>""),ROWS($F$6:F44))),NA())} -> #N/A
B45: =IF('Step 1_Expenditure1'!C34="","",'Step 1_Expenditure1'!C34) -> Inverters | C45: =NPV('Step 1_Expenditure1'!$C$21,Yearly_expenditure1!G12:DB12)+Yearly_expenditure1!F12 -> 48309.179 | D45: =IF(B45="","",IF(E44-C45<0,IF(E44<=0,-C45,E44-C45),0)) -> 0 | E45: =IF(B45="","",IF(E44-C45<0,IF(E44<0,D44+E44,D44),E44-C45)) -> 1749344.8 | F45: =IF(B45="","",IF(D45<0,IF(E45<0,0,E44),C45)) -> 48309.179 | H45: {=IFERROR(INDEX($B$6:$B$74,_xlfn.AGGREGATE(15,3,ROW($B$6:$B$74)-ROW($B$5)/($B$6:$B$74<>""),ROWS($B$6:B45))),NA())} -> #N/A | I45: {=IFERROR(INDEX($D$6:$D$74,_xlfn.AGGREGATE(15,3,ROW($D$6:$D$74)-ROW($D$5)/($D$6:$D$74<>""),ROWS($D$6:D45))),NA())} -> #N/A | J45: {=IFERROR(INDEX($E$6:$E$74,_xlfn.AGGREGATE(15,3,ROW($E$6:$E$74)-ROW($E$5)/($E$6:$E$74<>""),ROWS($E$6:E45))),NA())} -> #N/A | K45: {=IFERROR(INDEX($F$6:$F$74,_xlfn.AGGREGATE(15,3,ROW($F$6:$F$74)-ROW($F$5)/($F$6:$F$74<>""),ROWS($F$6:F45))),NA())} -> #N/A
B46: =IF('Step 1_Expenditure1'!C35="","",'Step 1_Expenditure1'!C35) -> Installation | C46: =NPV('Step 1_Expenditure1'!$C$21,Yearly_expenditure1!G13:DB13)+Yearly_expenditure1!F13 -> 44444.444 | D46: =IF(B46="","",IF(E45-C46<0,IF(E45<=0,-C46,E45-C46),0)) -> 0 | E46: =IF(B46="","",IF(E45-C46<0,IF(E45<0,D45+E45,D45),E45-C46)) -> 1704900.3 | F46: =IF(B46="","",IF(D46<0,IF(E46<0,0,E45),C46)) -> 44444.444 | H46: {=IFERROR(INDEX($B$6:$B$74,_xlfn.AGGREGATE(15,3,ROW($B$6:$B$74)-ROW($B$5)/($B$6:$B$74<>""),ROWS($B$6:B46))),NA())} -> #N/A | I46: {=IFERROR(INDEX($D$6:$D$74,_xlfn.AGGREGATE(15,3,ROW($D$6:$D$74)-ROW($D$5)/($D$6:$D$74<>""),ROWS($D$6:D46))),NA())} -> #N/A | J46: {=IFERROR(INDEX($E$6:$E$74,_xlfn.AGGREGATE(15,3,ROW($E$6:$E$74)-ROW($E$5)/($E$6:$E$74<>""),ROWS($E$6:E46))),NA())} -> #N/A | K46: {=IFERROR(INDEX($F$6:$F$74,_xlfn.AGGREGATE(15,3,ROW($F$6:$F$74)-ROW($F$5)/($F$6:$F$74<>""),ROWS($F$6:F46))),NA())} -> #N/A
B47: =IF('Step 1_Expenditure1'!C36="","",'Step 1_Expenditure1'!C36) -> Grid Cost | C47: =NPV('Step 1_Expenditure1'!$C$21,Yearly_expenditure1!G14:DB14)+Yearly_expenditure1!F14 -> 57971.014 | D47: =IF(B47="","",IF(E46-C47<0,IF(E46<=0,-C47,E46-C47),0)) -> 0 | E47: =IF(B47="","",IF(E46-C47<0,IF(E46<0,D46+E46,D46),E46-C47)) -> 1646929.3 | F47: =IF(B47="","",IF(D47<0,IF(E47<0,0,E46),C47)) -> 57971.014 | H47: {=IFERROR(INDEX($B$6:$B$74,_xlfn.AGGREGATE(15,3,ROW($B$6:$B$74)-ROW($B$5)/($B$6:$B$74<>""),ROWS($B$6:B47))),NA())} -> #N/A | I47: {=IFERROR(INDEX($D$6:$D$74,_xlfn.AGGREGATE(15,3,ROW($D$6:$D$74)-ROW($D$5)/($D$6:$D$74<>""),ROWS($D$6:D47))),NA())} -> #N/A | J47: {=IFERROR(INDEX($E$6:$E$74,_xlfn.AGGREGATE(15,3,ROW($E$6:$E$74)-ROW($E$5)/($E$6:$E$74<>""),ROWS($E$6:E47))),NA())} -> #N/A | K47: {=IFERROR(INDEX($F$6:$F$74,_xlfn.AGGREGATE(15,3,ROW($F$6:$F$74)-ROW($F$5)/($F$6:$F$74<>""),ROWS($F$6:F47))),NA())} -> #N/A
B48: =IF('Step 1_Expenditure1'!C37="","",'Step 1_Expenditure1'!C37) -> Other Capex, Balance of System | C48: =NPV('Step 1_Expenditure1'!$C$21,Yearly_expenditure1!G15:DB15)+Yearly_expenditure1!F15 -> 144927.54 | D48: =IF(B48="","",IF(E47-C48<0,IF(E47<=0,-C48,E47-C48),0)) -> 0 | E48: =IF(B48="","",IF(E47-C48<0,IF(E47<0,D47+E47,D47),E47-C48)) -> 1502001.8 | F48: =IF(B48="","",IF(D48<0,IF(E48<0,0,E47),C48)) -> 144927.54 | H48: {=IFERROR(INDEX($B$6:$B$74,_xlfn.AGGREGATE(15,3,ROW($B$6:$B$74)-ROW($B$5)/($B$6:$B$74<>""),ROWS($B$6:B48))),NA())} -> #N/A | I48: {=IFERROR(INDEX($D$6:$D$74,_xlfn.AGGREGATE(15,3,ROW($D$6:$D$74)-ROW($D$5)/($D$6:$D$74<>""),ROWS($D$6:D48))),NA())} -> #N/A | J48: {=IFERROR(INDEX($E$6:$E$74,_xlfn.AGGREGATE(15,3,ROW($E$6:$E$74)-ROW($E$5)/($E$6:$E$74<>""),ROWS($E$6:E48))),NA())} -> #N/A | K48: {=IFERROR(INDEX($F$6:$F$74,_xlfn.AGGREGATE(15,3,ROW($F$6:$F$74)-ROW($F$5)/($F$6:$F$74<>""),ROWS($F$6:F48))),NA())} -> #N/A
B49: =IF('Step 1_Expenditure1'!C38="","",'Step 1_Expenditure1'!C38) -> Operational Costs | C49: =NPV('Step 1_Expenditure1'!$C$21,Yearly_expenditure1!G16:DB16)+Yearly_expenditure1!F16 -> 307297.48 | D49: =IF(B49="","",IF(E48-C49<0,IF(E48<=0,-C49,E48-C49),0)) -> 0 | E49: =IF(B49="","",IF(E48-C49<0,IF(E48<0,D48+E48,D48),E48-C49)) -> 1194704.3 | F49: =IF(B49="","",IF(D49<0,IF(E49<0,0,E48),C49)) -> 307297.48 | H49: {=IFERROR(INDEX($B$6:$B$74,_xlfn.AGGREGATE(15,3,ROW($B$6:$B$74)-ROW($B$5)/($B$6:$B$74<>""),ROWS($B$6:B49))),NA())} -> #N/A | I49: {=IFERROR(INDEX($D$6:$D$74,_xlfn.AGGREGATE(15,3,ROW($D$6:$D$74)-ROW($D$5)/($D$6:$D$74<>""),ROWS($D$6:D49))),NA())} -> #N/A | J49: {=IFERROR(INDEX($E$6:$E$74,_xlfn.AGGREGATE(15,3,ROW($E$6:$E$74)-ROW($E$5)/($E$6:$E$74<>""),ROWS($E$6:E49))),NA())} -> #N/A | K49: {=IFERROR(INDEX($F$6:$F$74,_xlfn.AGGREGATE(15,3,ROW($F$6:$F$74)-ROW($F$5)/($F$6:$F$74<>""),ROWS($F$6:F49))),NA())} -> #N/A
... B73: =IF('Step 1_Expenditure1'!C62="","",'Step 1_Expenditure1'!C62) | C73: =NPV('Step 1_Expenditure1'!$C$21,Yearly_expenditure1!G40:DB40)+Yearly_expenditure1!F40 -> 0 | D73: =IF(B73="","",IF(E72-C73<0,IF(E72<=0,-C73,E72-C73),0)) | E73: =IF(B73="","",IF(E72-C73<0,IF(E72<0,D72+E72,D72),E72-C73)) | F73: =IF(B73="","",IF(D73<0,IF(E73<0,0,E72),C73)) | H73: {=IFERROR(INDEX($B$6:$B$74,_xlfn.AGGREGATE(15,3,ROW($B$6:$B$74)-ROW($B$5)/($B$6:$B$74<>""),ROWS($B$6:B73))),NA())} -> #N/A | I73: {=IFERROR(INDEX($D$6:$D$74,_xlfn.AGGREGATE(15,3,ROW($D$6:$D$74)-ROW($D$5)/($D$6:$D$74<>""),ROWS($D$6:D73))),NA())} -> #N/A | J73: {=IFERROR(INDEX($E$6:$E$74,_xlfn.AGGREGATE(15,3,ROW($E$6:$E$74)-ROW($E$5)/($E$6:$E$74<>""),ROWS($E$6:E73))),NA())} -> #N/A | K73: {=IFERROR(INDEX($F$6:$F$74,_xlfn.AGGREGATE(15,3,ROW($F$6:$F$74)-ROW($F$5)/($F$6:$F$74<>""),ROWS($F$6:F73))),NA())} -> #N/A
B74: Nominal NPV before Tax | C74: =SUM(C6:C36)-SUM(C37:C73) -> 971943.07 | D74: =IF(B74="","",0) -> 0 | E74: =IF(C74<0,0,MIN(E37:E73)-C74) -> 0 | F74: =C74 -> 971943.07 | H74: {=IFERROR(INDEX($B$6:$B$74,_xlfn.AGGREGATE(15,3,ROW($B$6:$B$74)-ROW($B$5)/($B$6:$B$74<>""),ROWS($B$6:B74))),NA())} -> #N/A | I74: {=IFERROR(INDEX($D$6:$D$74,_xlfn.AGGREGATE(15,3,ROW($D$6:$D$74)-ROW($D$5)/($D$6:$D$74<>""),ROWS($D$6:D74))),NA())} -> #N/A | J74: {=IFERROR(INDEX($E$6:$E$74,_xlfn.AGGREGATE(15,3,ROW($E$6:$E$74)-ROW($E$5)/($E$6:$E$74<>""),ROWS($E$6:E74))),NA())} -> #N/A | K74: {=IFERROR(INDEX($F$6:$F$74,_xlfn.AGGREGATE(15,3,ROW($F$6:$F$74)-ROW($F$5)/($F$6:$F$74<>""),ROWS($F$6:F74))),NA())} -> #N/A

Sheet Cash flows1
A5: Year | B5: =IF(OR(COUNTA(Table5[Price (£ or £/year)])=0,COUNTA(Table1[Units ('#/year)])=0),NA(),IF('Step 1_Expenditure1'!$C$20="",NA(),0)) -> 0 | C5: =IF(OR(COUNTA(Table5[Start year])=0,COUNTA(Table1[Rate (£/Unit)])=0),NA(),IF('Step 1_Expenditure1'!$C$20="",NA(),1)) -> 1 | D5: =IF(C$15="",NA(),IF(C$5<'Step 1_Expenditure1'!$C$20,C$5+1,NA())) -> 2 | E5: =IF(D$15="",NA(),IF(D$5<'Step 1_Expenditure1'!$C$20,D$5+1,NA())) -> 3 | F5: =IF(E$15="",NA(),IF(E$5<'Step 1_Expenditure1'!$C$20,E$5+1,NA())) -> 4 | G5: =IF(F$15="",NA(),IF(F$5<'Step 1_Expenditure1'!$C$20,F$5+1,NA())) -> 5 | H5: =IF(G$15="",NA(),IF(G$5<'Step 1_Expenditure1'!$C$20,G$5+1,NA())) -> 6 | I5: =IF(H$15="",NA(),IF(H$5<'Step 1_Expenditure1'!$C$20,H$5+1,NA())) -> 7 | J5: =IF(I$15="",NA(),IF(I$5<'Step 1_Expenditure1'!$C$20,I$5+1,NA())) -> 8 | K5: =IF(J$15="",NA(),IF(J$5<'Step 1_Expenditure1'!$C$20,J$5+1,NA())) -> 9 | ... CX5: =IF(CW$15="",NA(),IF(CW$5<'Step 1_Expenditure1'!$C$20,CW$5+1,NA())) -> #N/A
A7: Revenues | B7: =IF(Yearly_expenditure1!F3="","",SUM(Yearly_revenue1!F4:F33)) -> 0 | C7: =IF(Yearly_expenditure1!G3="","",SUM(Yearly_revenue1!G4:G33)) -> 0 | D7: =IF(Yearly_expenditure1!H3="","",SUM(Yearly_revenue1!H4:H33)) -> 135188 | E7: =IF(Yearly_expenditure1!I3="","",SUM(Yearly_revenue1!I4:I33)) -> 125820.35 | F7: =IF(Yearly_expenditure1!J3="","",SUM(Yearly_revenue1!J4:J33)) -> 126458.43 | G7: =IF(Yearly_expenditure1!K3="","",SUM(Yearly_revenue1!K4:K33)) -> 127102.32 | H7: =IF(Yearly_expenditure1!L3="","",SUM(Yearly_revenue1!L4:L33)) -> 127752.1 | I7: =IF(Yearly_expenditure1!M3="","",SUM(Yearly_revenue1!M4:M33)) -> 128407.85 | ... CX7: =IF(Yearly_expenditure1!DB3="","",SUM(Yearly_revenue1!DB4:DB33))
A8: Consulting | B8: =IF(Yearly_expenditure1!F3="","",-SUMIF(Yearly_expenditure1!$C$4:$C$39,"Consultancy",Yearly_expenditure1!F4:F39)) -> -74000 | C8: =IF(Yearly_expenditure1!G3="","",-SUMIF(Yearly_expenditure1!$C$4:$C$39,"Consultancy",Yearly_expenditure1!G4:G39)) -> -5000 | D8: =IF(Yearly_expenditure1!H3="","",-SUMIF(Yearly_expenditure1!$C$4:$C$39,"Consultancy",Yearly_expenditure1!H4:H39)) -> 0 | E8: =IF(Yearly_expenditure1!I3="","",-SUMIF(Yearly_expenditure1!$C$4:$C$39,"Consultancy",Yearly_expenditure1!I4:I39)) -> 0 | F8: =IF(Yearly_expenditure1!J3="","",-SUMIF(Yearly_expenditure1!$C$4:$C$39,"Consultancy",Yearly_expenditure1!J4:J39)) -> 0 | G8: =IF(Yearly_expenditure1!K3="","",-SUMIF(Yearly_expenditure1!$C$4:$C$39,"Consultancy",Yearly_expenditure1!K4:K39)) -> 0 | H8: =IF(Yearly_expenditure1!L3="","",-SUMIF(Yearly_expenditure1!$C$4:$C$39,"Consultancy",Yearly_expenditure1!L4:L39)) -> 0 | I8: =IF(Yearly_expenditure1!M3="","",-SUMIF(Yearly_expenditure1!$C$4:$C$39,"Consultancy",Yearly_expenditure1!M4:M39)) -> 0 | ... CX8: =IF(Yearly_expenditure1!DB3="","",-SUMIF(Yearly_expenditure1!$C$4:$C$39,"Consultancy",Yearly_expenditure1!DB4:DB39))
A9: CAPEX | B9: =IF(Yearly_expenditure1!F3="","",-SUMIF(Yearly_expenditure1!$C$4:$C$39,"CAPEX",Yearly_expenditure1!F4:F39)) -> 0 | C9: =IF(Yearly_expenditure1!G3="","",-SUMIF(Yearly_expenditure1!$C$4:$C$39,"CAPEX",Yearly_expenditure1!G4:G39)) -> -506000 | D9: =IF(Yearly_expenditure1!H3="","",-SUMIF(Yearly_expenditure1!$C$4:$C$39,"CAPEX",Yearly_expenditure1!H4:H39)) -> 0 | E9: =IF(Yearly_expenditure1!I3="","",-SUMIF(Yearly_expenditure1!$C$4:$C$39,"CAPEX",Yearly_expenditure1!I4:I39)) -> 0 | F9: =IF(Yearly_expenditure1!J3="","",-SUMIF(Yearly_expenditure1!$C$4:$C$39,"CAPEX",Yearly_expenditure1!J4:J39)) -> 0 | G9: =IF(Yearly_expenditure1!K3="","",-SUMIF(Yearly_expenditure1!$C$4:$C$39,"CAPEX",Yearly_expenditure1!K4:K39)) -> 0 | H9: =IF(Yearly_expenditure1!L3="","",-SUMIF(Yearly_expenditure1!$C$4:$C$39,"CAPEX",Yearly_expenditure1!L4:L39)) -> 0 | I9: =IF(Yearly_expenditure1!M3="","",-SUMIF(Yearly_expenditure1!$C$4:$C$39,"CAPEX",Yearly_expenditure1!M4:M39)) -> 0 | ... CX9: =IF(Yearly_expenditure1!DB3="","",-SUMIF(Yearly_expenditure1!$C$4:$C$39,"CAPEX",Yearly_expenditure1!DB4:DB39))
A10: OPEX | B10: =IF(Yearly_expenditure1!F3="","",-SUMIF(Yearly_expenditure1!$C$4:$C$39,"OPEX",Yearly_expenditure1!F4:F39)) -> 0 | C10: =IF(Yearly_expenditure1!G3="","",-SUMIF(Yearly_expenditure1!$C$4:$C$39,"OPEX",Yearly_expenditure1!G4:G39)) -> -12000 | D10: =IF(Yearly_expenditure1!H3="","",-SUMIF(Yearly_expenditure1!$C$4:$C$39,"OPEX",Yearly_expenditure1!H4:H39)) -> -24600 | E10: =IF(Yearly_expenditure1!I3="","",-SUMIF(Yearly_expenditure1!$C$4:$C$39,"OPEX",Yearly_expenditure1!I4:I39)) -> -25220.4 | F10: =IF(Yearly_expenditure1!J3="","",-SUMIF(Yearly_expenditure1!$C$4:$C$39,"OPEX",Yearly_expenditure1!J4:J39)) -> -25861.98 | G10: =IF(Yearly_expenditure1!K3="","",-SUMIF(Yearly_expenditure1!$C$4:$C$39,"OPEX",Yearly_expenditure1!K4:K39)) -> -26525.551 | H10: =IF(Yearly_expenditure1!L3="","",-SUMIF(Yearly_expenditure1!$C$4:$C$39,"OPEX",Yearly_expenditure1!L4:L39)) -> -27211.955 | I10: =IF(Yearly_expenditure1!M3="","",-SUMIF(Yearly_expenditure1!$C$4:$C$39,"OPEX",Yearly_expenditure1!M4:M39)) -> -27922.07 | ... CX10: =IF(Yearly_expenditure1!DB3="","",-SUMIF(Yearly_expenditure1!$C$4:$C$39,"OPEX",Yearly_expenditure1!DB4:DB39))
A11: Cashflow (EBITDA) | B11: =IF(Yearly_expenditure1!F3="","",SUM(Yearly_revenue1!F4:F33)-SUM(Yearly_expenditure1!F4:F39)) -> -74000 | C11: =IF(Yearly_expenditure1!G3="","",SUM(Yearly_revenue1!G4:G33)-SUM(Yearly_expenditure1!G4:G39)) -> -523000 | D11: =IF(Yearly_expenditure1!H3="","",SUM(Yearly_revenue1!H4:H33)-SUM(Yearly_expenditure1!H4:H39)) -> 110588 | E11: =IF(Yearly_expenditure1!I3="","",SUM(Yearly_revenue1!I4:I33)-SUM(Yearly_expenditure1!I4:I39)) -> 100599.95 | F11: =IF(Yearly_expenditure1!J3="","",SUM(Yearly_revenue1!J4:J33)-SUM(Yearly_expenditure1!J4:J39)) -> 100596.45 | G11: =IF(Yearly_expenditure1!K3="","",SUM(Yearly_revenue1!K4:K33)-SUM(Yearly_expenditure1!K4:K39)) -> 100576.77 | H11: =IF(Yearly_expenditure1!L3="","",SUM(Yearly_revenue1!L4:L33)-SUM(Yearly_expenditure1!L4:L39)) -> 100540.15 | I11: =IF(Yearly_expenditure1!M3="","",SUM(Yearly_revenue1!M4:M33)-SUM(Yearly_expenditure1!M4:M39)) -> 100485.78 | ... CX11: =IF(Yearly_expenditure1!DB3="","",SUM(Yearly_revenue1!DB4:DB33)-SUM(Yearly_expenditure1!DB4:DB39))
A12: Cumulative Cashflow (EBITDA) | B12: =B11 -> -74000 | C12: =IF(Yearly_expenditure1!G3="","",B12+C11) -> -597000 | D12: =IF(Yearly_expenditure1!H3="","",C12+D11) -> -486412 | E12: =IF(Yearly_expenditure1!I3="","",D12+E11) -> -385812.05 | F12: =IF(Yearly_expenditure1!J3="","",E12+F11) -> -285215.6 | G12: =IF(Yearly_expenditure1!K3="","",F12+G11) -> -184638.83 | H12: =IF(Yearly_expenditure1!L3="","",G12+H11) -> -84098.686 | I12: =IF(Yearly_expenditure1!M3="","",H12+I11) -> 16387.094 | J12: =IF(Yearly_expenditure1!N3="","",I12+J11) -> 116799.94 | ... CX12: =IF(Yearly_expenditure1!DB3="","",CW12+CX11)
A15: Payback year Scenario | B15: 0 | C15: =IF(C12 = "", "", IF(AND(C12>0,B12<0),C5,0)) -> 0 | D15: =IF(D12 = "", "", IF(AND(D12>0,C12<0),D5,0)) -> 0 | E15: =IF(E12 = "", "", IF(AND(E12>0,D12<0),E5,0)) -> 0 | F15: =IF(F12 = "", "", IF(AND(F12>0,E12<0),F5,0)) -> 0 | G15: =IF(G12 = "", "", IF(AND(G12>0,F12<0),G5,0)) -> 0 | H15: =IF(H12 = "", "", IF(AND(H12>0,G12<0),H5,0)) -> 0 | I15: =IF(I12 = "", "", IF(AND(I12>0,H12<0),I5,0)) -> 7 | J15: =IF(J12 = "", "", IF(AND(J12>0,I12<0),J5,0)) -> 0 | ... CX15: =IF(CX12 = "", "", IF(AND(CX12>0,CW12<0),CX5,0))
A16: Discounted Cashflow | B16: =IF(B11="","",B11/((1+'Step 1_Expenditure1'!$C$21)^(B5))) -> -74000 | C16: =IF(C11="","",C11/((1+'Step 1_Expenditure1'!$C$21)^(C5))) -> -505314.01 | D16: =IF(D11="","",D11/((1+'Step 1_Expenditure1'!$C$21)^(D5))) -> 103235.08 | E16: =IF(E11="","",E11/((1+'Step 1_Expenditure1'!$C$21)^(E5))) -> 90735.39 | F16: =IF(F11="","",F11/((1+'Step 1_Expenditure1'!$C$21)^(F5))) -> 87663.994 | G16: =IF(G11="","",G11/((1+'Step 1_Expenditure1'!$C$21)^(G5))) -> 84682.942 | H16: =IF(H11="","",H11/((1+'Step 1_Expenditure1'!$C$21)^(H5))) -> 81789.473 | I16: =IF(I11="","",I11/((1+'Step 1_Expenditure1'!$C$21)^(I5))) -> 78980.915 | ... CX16: =IF(CX11="","",CX11/((1+'Step 1_Expenditure1'!$C$21)^(CX5)))
A17: Discounted Cumulative Cashflow (EBITDA) | B17: =B16 -> -74000 | C17: =IF(Yearly_expenditure1!G6="","",B17+C16) -> -579314.01 | D17: =IF(Yearly_expenditure1!H6="","",C17+D16) -> -476078.93 | E17: =IF(Yearly_expenditure1!I6="","",D17+E16) -> -385343.54 | F17: =IF(Yearly_expenditure1!J6="","",E17+F16) -> -297679.54 | G17: =IF(Yearly_expenditure1!K6="","",F17+G16) -> -212996.6 | H17: =IF(Yearly_expenditure1!L6="","",G17+H16) -> -131207.13 | I17: =IF(Yearly_expenditure1!M6="","",H17+I16) -> -52226.215 | J17: =IF(Yearly_expenditure1!N6="","",I17+J16) -> 24028.46 | ... CX17: =IF(Yearly_expenditure1!DB6="","",CW17+CX16)
A18: Discounted Payback year Scenario (EBITDA) | B18: 0 | C18: =IF(C17 = "", "", IF(AND(C17>0,B17<0),C5,0)) -> 0 | D18: =IF(D17 = "", "", IF(AND(D17>0,C17<0),D5,0)) -> 0 | E18: =IF(E17 = "", "", IF(AND(E17>0,D17<0),E5,0)) -> 0 | F18: =IF(F17 = "", "", IF(AND(F17>0,E17<0),F5,0)) -> 0 | G18: =IF(G17 = "", "", IF(AND(G17>0,F17<0),G5,0)) -> 0 | H18: =IF(H17 = "", "", IF(AND(H17>0,G17<0),H5,0)) -> 0 | I18: =IF(I17 = "", "", IF(AND(I17>0,H17<0),I5,0)) -> 0 | J18: =IF(J17 = "", "", IF(AND(J17>0,I17<0),J5,0)) -> 8 | ... CX18: =IF(CX17 = "", "", IF(AND(CX17>0,CW17<0),CX5,0))

Sheet Step 1_Expenditure2
B19: Fixed Financial Inputs | C19: Values
B20: Project lifetime [years] | C20: 20
B21: Discount rate [%] | C21: 0.035
B25: Plan of work Stage | C25: Name | D25: Category | E25: Price (£ or £/year) | F25: Start year | G25: Lifetime (only OPEX) | H25: Annual Increase (only OPEX) | I25: Description | J25: Reference
B26: Stage 0: Strategic Definition | C26: Site Selection/Appraisal | D26: Consultancy | E26: 1000 | F26: 0 | H26: 0
B27: Stage 0: Strategic Definition | C27: First Stage Battery Modelling | D27: Consultancy | E27: 1000 | F27: 0 | H27: 0 | I27: Includes: BESS type and parameters Grid connected/BTM parameters Export options: Sleeving/ancillary services/arbitrage/load balancing/BM Initial BESS sizing options and revenues High level assessment of co-located vs standalone charge dynamics
B28: Stage 0: Strategic Definition | C28: Outline Business Case | D28: Consultancy | E28: 500 | F28: 0 | H28: 0 | I28: 3 initial options with CAPEX and initial 10 year modelling view.
B29: Stage 1: Preparation and Briefing | C29: Budget 99 Application | D29: Consultancy | E29: 2500 | F29: 0 | H29: 0
B30: Stage 1: Preparation and Briefing | C30: Second Stage Battery Modelling based on G99 Application | D30: Consultancy | E30: 3000 | F30: 0 | H30: 0 | I30: Includes: State of Charge Battery cycling Round Trip Efficiency Optimisation Strategy Integration with Renewables Policy impacts
B31: Stage 3: Spatial Coordination and Localisation | C31: - Full Grid Connection Application -Planning Application - Detailed site surveys - Detailed Design/Architectural Drawings | D31: Consultancy | E31: 25000 | F31: 1 | H31: 0
B32: Stage 5: Manufacturing and Construction | C32: BESS construction and installation | D32: CAPEX | E32: 650000 | F32: 1 | G32: 1 | H32: 0
B33: Stage 7: Use (and Operation) | C33: Battery Cell Replacement | D33: CAPEX | E33: 400000 | F33: 10 | G33: 1 | H33: 0

Sheet Step 2_Revenue2
B25: Plan of work Stage | C25: Name | D25: Units (#/year) | E25: Rate (£/Unit) | F25: Annual Perfomance decrease rate | G25: Annual price increase | H25: Start Year | I25: Lifetime | J25: Description | K25: Reference
B26: Stage 2: Concept Design | C26: Grant | D26: 1 | E26: 50000 | F26: 0 | G26: 0 | H26: 1 | I26: 1 | J26: Business Case development Grant
B27: Stage 7: Use (and Operation) | C27: Dynamic Containment | D27: 1 | E27: 50000 | F27: 0 | G27: 0.025 | H27: 2 | I27: 20 | J27: Flexibility Services
B28: Stage 7: Use (and Operation) | C28: Trading on Capacity Market | D28: 1 | E28: 20000 | F28: 0 | G28: 0.02 | H28: 2 | I28: 20 | J28: Flexibility Services

Sheet Output2
A3: Output - Scenario 2
G14: Metrics | H14: Scenario 2
G15: IRR | H15: =IFERROR(IRR('Cash flows2'!$B11:$CX11),"") -> 0.075452807
G16: Nominal NPV before Tax | H16: =IFERROR(NPV('Step 1_Expenditure2'!$C$21,'Cash flows2'!C11:CX11)+'Cash flows2'!B11,"") -> 256989.33
G17: SPT [years] | H17: =IF($H$15="","",IF('Cash flows2'!B15>0,0,IF(SUM('Cash flows2'!B15:CX15)=0,"never pays back",SMALL('Cash flows2'!B15:CX15,COUNTIF('Cash flows2'!B15:CX15,0)+1)))) -> 14
G18: DPT [years] | H18: =IF($H$15="","",IF('Cash flows2'!B18>0,0,IF(SUM('Cash flows2'!B18:CX18)=0,"never pays back",SMALL('Cash flows2'!B18:CX18,COUNTIF('Cash flows2'!B18:CX18,0)+1)))) -> 16
D66: EXPENDITURE SUMMARY | E66: Start Year | F66: End Year | G66: Total | I66: REVENUE SUMMARY | J66: Start Year | K66: End Year | L66: Total
D67: Stage 0: Strategic Definition | E67: =_xlfn.MINIFS(Table57[Start year],Table57[Plan of work Stage],D67) -> 0 | F67: =_xlfn.MAXIFS(Yearly_expenditure2!$D$4:$D$39,Yearly_expenditure2!$B$4:$B$39,D67) -> 0 | G67: =SUMIFS(Yearly_expenditure2!$A$4:$A$32,Yearly_expenditure2!$B$4:$B$32,Output2!D67) -> 2500 | I67: Stage 0: Strategic Definition | J67: =_xlfn.MINIFS(Table110[Start Year],Table110[Plan of work Stage],I67) -> 0 | K67: =_xlfn.MAXIFS(Yearly_revenue2!$D$4:$D$33,Yearly_revenue2!$B$4:$B$33,I67) -> 0 | L67: =SUMIFS(Yearly_revenue2!$A$4:$A$33,Yearly_revenue2!$B$4:$B$33,Output2!I67) -> 0
D68: Stage 1: Preparation and Briefing | E68: =_xlfn.MINIFS(Table57[Start year],Table57[Plan of work Stage],D68) -> 0 | F68: =_xlfn.MAXIFS(Yearly_expenditure2!$D$4:$D$39,Yearly_expenditure2!$B$4:$B$39,D68) -> 0 | G68: =SUMIFS(Yearly_expenditure2!$A$4:$A$32,Yearly_expenditure2!$B$4:$B$32,Output2!D68) -> 5500 | I68: Stage 1: Preparation and Briefing | J68: =_xlfn.MINIFS(Table110[Start Year],Table110[Plan of work Stage],I68) -> 0 | K68: =_xlfn.MAXIFS(Yearly_revenue2!$D$4:$D$33,Yearly_revenue2!$B$4:$B$33,I68) -> 0 | L68: =SUMIFS(Yearly_revenue2!$A$4:$A$33,Yearly_revenue2!$B$4:$B$33,Output2!I68) -> 0
