Workbook
Name LURisks: Tables!$A$18:$A$22
Name LURiskstatus: Tables!$A$18:$A$22
Name NamesList: OFFSET(Responsibilities!$D$17, 0, 0, COUNTA(Responsibilities!$D:$D), 1)
Name POWActivities: ProjectSchedule!$A$11:$B$59
Name RiskIds: OFFSET(Risks!$A$13, 0, 0, COUNTA(Risks!$A:$A), 1)
Name task_end: ProjectSchedule!$F1
Name task_progress: ProjectSchedule!$D1
Name task_start: ProjectSchedule!$E1
Name today: ProjectSchedule!$E$7

Sheet Release
B2: Document Version | D2: 1 | E2: initial release | G2: 45017
D3: 1.1 | E3: removed macros | G3: 46175
D4: 1.2 | E4: Added risk dropdowns | G4: 46175

Sheet Project Info
C1: Project Schedule provided by Net Zero Go. The intital tasks are aligned with the Net Zero Go plan of work
C2: http://www.netzerogo.org.uk
C3: Project Info
C6: Edit yellow fields
B7: Project title | C7: My Super Project
B8: Primary contact | C8: Steve Buscemi
B9: Lead organisation | C9: Blandford
B10: Project sponsor | C10: My Sponsor name
B11: PM name | C11: My PM Name
B13: How to use this document
B14: 1. Fill out project details
B15: 2. Review the stage activites and stages below.
B16: 3. Fill out personal and responibilities
B17: 4. Review and update schedule if required
B18: 5. Fill out Risk log
B19: 6. Fill out stakeholder mapping
B21: Net Zero Go project activites and stages
B22: Edit these to change lookup lists in Risks
B24: Stage 0: Strategic Definition | C24: Stage 1: Preparation and Briefing | D24: Stage 2: Concept Design | E24: Stage 3: Spatial Coordination and Localisation | F24: Stage 4: Technical Design | G24: Stage 5: Construction, Integration and Installation | H24: Stage 6: Handover | I24: Stage 7: Use (and Operation)
B25: Project Cost | C25: Project Budget, Costs, and Revenues | D25: Concept Design | E25: Planning Application | F25: Detailed Technical Design | G25: Commissioning | H25: Project Performance Review | I25: Customer Management
B26: Strategic Capability Identification | C26: Feasibility Studies | D26: Project Programme Development | E26: Locally Coordinated Design | F26: Building Regulations Application | G26: Practical Completion | H26: Plan for Use Strategy | I26: Verify project outcomes
B27: Project Risks, Opportunities, Constraints and Dependencies | C27: Site Information and Surveys | D27: Cost Plan | E27: System Connection Applications | F27: Construction Information | G27: Quality Monitoring | H27: Aftercare Tasks | I27: Facilities management
B28: Site Appraisals | C28: Capability Identification | E28: Consultation and Community Engagement | F28: Confirm Network Connections | G28: Site Logistics | H28: Post-Handover Evaluation | I28: Asset management
B29: Define Requirements and outcomes | C29: Procurement Strategy | F29: Spatially Coordinated Design | G29: Operations Manual | H29: Handover | I29: Post Commission evaluation
B30: Review Feedback from previous projects | C30: Project Programme | G30: Construction Programme
C31: Funding and Investment Options

Sheet Skills
B5: Project Cost
B6: Strategic Capability Identification
B7: Project Risks, Opportunities, Constraints and Dependencies
B8: Site Appraisals
B9: Define Requirements and outcomes
B10: Review Feedback from previous projects
B12: Project Budget, Costs, and Revenues
B13: Feasibility Studies
B14: Site Information and Surveys
B15: Capability Identification
B16: Procurement Strategy
B17: Project Programme
... B54: Post Commission evaluation

Sheet Responsibilities
C2: Project Gant Chart provided by Net Zero Go. The intital tasks are aligned with the Net Zero Go plan of work
C3: http://www.netzerogo.org.uk
C4: RACIS Matrix - Enter your team and allocate responsibilities using the dropdowns in the matrix below
A5: ='Project Info'!C7 -> My Super Project | Q5: Roles and Responsibilities
A7: R | B7: Responsible | C7: Assigned to complete the task or deliverable.
A8: A | B8: Accountable | C8: Accountable for delivery. Authority to progress project through goverance stages
A9: C | B9: Consulted | C9: An adviser, stakeholder, or subject matter expert who is consulted before a decision or action.
A10: I | B10: Informed | C10: Must be informed after a decision or action.
A11: S | B11: Support | C11: Provides support during implementation.
E14: {=TRANSPOSE(POWActivities)} -> Stage | F14: Task | G14: Task | H14: Task | I14: Task | J14: Task | K14: Task | L14: Stage | M14: Task | N14: Task | O14: Task | P14: Task | Q14: Task | R14: Task | S14: Task | T14: Stage | U14: Task | V14: Task | W14: Task | X14: Stage | Y14: Task | Z14: Task | AA14: Task | AB14: Task | AC14: Stage | AD14: Task | AE14: Task | AF14: Task | AG14: Task | AH14: Task | AI14: Stage | AJ14: Task | AK14: Task | AL14: Task | AM14: Task | AN14: Task | AO14: Task | AP14: Stage | AQ14: Task | AR14: Task | AS14: Task | AT14: Task | AU14: Task | AV14: Stage | AW14: Task | AX14: Task | AY14: Task | AZ14: Task | BA14: Task
E15: Stage 0: Strategic Definition | F15: Project Cost | G15: Strategic Capability Identification | H15: Project Risks, Opportunities, Constraints and Dependencies | I15: Site Appraisals | J15: Define Requirements and outcomes | K15: Review Feedback from previous projects | L15: Stage 1: Preparation and Briefing | M15: Project Budget, Costs, and Revenues | N15: Feasibility Studies | O15: Site Information and Surveys | P15: Capability Identification | Q15: Procurement Strategy | R15: Project Programme | S15: Funding and Investment Options | T15: Stage 2: Concept Design | U15: Concept Design | V15: Project Programme Development | W15: Cost Plan | X15: Stage 3: Spatial Coordination and Localisation | Y15: Planning Application | Z15: Locally Coordinated Design | AA15: System Connection Applications | AB15: Consultation and Community Engagement | AC15: Stage 4: Technical Design | AD15: Detailed Technical Design | AE15: Building Regulations Application | AF15: Construction Information | AG15: Confirm Network Connections | AH15: Spatially Coordinated Design | AI15: Stage 5: Construction, Integration and Installation | AJ15: Commissioning | AK15: Practical Completion | AL15: Quality Monitoring | AM15: Site Logistics | AN15: Operations Manual | AO15: Construction Programme | AP15: Stage 6: Handover | AQ15: Project Performance Review | AR15: Plan for Use Strategy | AS15: Aftercare Tasks | AT15: Post-Handover Evaluation | AU15: Handover | AV15: Stage 7: Use (and Operation) | AW15: Customer Management | AX15: Verify project outcomes | AY15: Facilities management | AZ15: Asset management | BA15: Post Commission evaluation
B16: Team | C16: Role | D16: Name
B17: Leadership | C17: ='Project Info'!B10 -> Project sponsor | D17: ='Project Info'!C10 -> My Sponsor name | E17: I | F17: R
B18: Project | C18: ='Project Info'!B11 -> PM name | D18: ='Project Info'!C11 -> My PM Name | F18: A | H18: R
B19: Consultant | C19: Lead Technical Consultant | D19: Mrs Consultant
B20: Project | C20: Project officer | D20: Miss Project Officer | L20: R

Sheet ProjectSchedule
C2: Project Schedule provided by Net Zero Go. The intital tasks are aligned with the Net Zero Go plan of work
C3: http://www.netzerogo.org.uk
C4: Project Schedule - update as required
B5: ='Project Info'!C7 -> My Super Project
B6: Update progress, dates and assignees | D6: Project Start: | E6: 44831
D7: Today: | E7: =TODAY() -> 46175
D8: Display Week: | E8: 1 | F8: =E6+E8*7 -> 44838 | J8: =J9 -> 44830 | Q8: =Q9 -> 44837 | X8: =X9 -> 44844 | AE8: =AE9 -> 44851 | AL8: =AL9 -> 44858 | AS8: =AS9 -> 44865 | AZ8: =AZ9 -> 44872 | BG8: =BG9 -> 44879 | BN8: =BN9 -> 44886 | BU8: =BU9 -> 44893 | CB8: =CB9 -> 44900 | CI8: =CI9 -> 44907 | CP8: =CP9 -> 44914 | CW8: =CW9 -> 44921 | DD8: =DD9 -> 44928 | DK8: =DK9 -> 44935 | DR8: =DR9 -> 44942 | DY8: =DY9 -> 44949 | EF8: =EF9 -> 44956 | EM8: =EM9 -> 44963 | ET8: =ET9 -> 44970 | FA8: =FA9 -> 44977 | FH8: =FH9 -> 44984 | FO8: =FO9 -> 44991 | FV8: =FV9 -> 44998 | GC8: =GC9 -> 45005
J9: =E6-WEEKDAY(E6,1)+2+7*(E8-1) -> 44830 | K9: =J9+1 -> 44831 | L9: =K9+1 -> 44832 | M9: =L9+1 -> 44833 | N9: =M9+1 -> 44834 | O9: =N9+1 -> 44835 | P9: =O9+1 -> 44836 | Q9: =P9+1 -> 44837 | R9: =Q9+1 -> 44838 | ... GI9: =GH9+1 -> 45011
A10: Type | B10: Item | C10: ASSIGNED TO | D10: PROGRESS | E10: START | F10: END | G10: Position | H10: Weeks | I10: Days | J10: =LEFT(TEXT(J9,"ddd"),1) -> M | K10: =LEFT(TEXT(K9,"ddd"),1) -> T | L10: =LEFT(TEXT(L9,"ddd"),1) -> W | M10: =LEFT(TEXT(M9,"ddd"),1) -> T | N10: =LEFT(TEXT(N9,"ddd"),1) -> F | O10: =LEFT(TEXT(O9,"ddd"),1) -> S | P10: =LEFT(TEXT(P9,"ddd"),1) -> S | Q10: =LEFT(TEXT(Q9,"ddd"),1) -> M | ... GI10: =LEFT(TEXT(GI9,"ddd"),1) -> S
A11: Stage | B11: Stage 0: Strategic Definition | D11: =SUM(D12:D17)/COUNT(D12:D17) -> 0.44166667 | E11: =MIN(E12:E17) -> 44835 | F11: =MAX(F12:F17) -> 44872 | G11: =RAND()*100 -> 27.620368 | H11: =IFERROR(I11/7,"") -> 5.4285714 | I11: =MAX(I12:I17) -> 38
A12: Task | B12: Project Cost | D12: 1 | E12: 44835 | F12: 44866 | G12: =RAND()*100 -> 27.513829 | H12: =IFERROR(I12/7,"") -> 4.5714286 | I12: =IF(OR(ISBLANK(task_start),ISBLANK(task_end)),"",task_end-task_start+1) -> 32
A13: Task | B13: Strategic Capability Identification | D13: 0.2 | E13: 44835 | F13: 44868 | G13: =RAND()*100 -> 58.366023 | H13: =IFERROR(I13/7,"") -> 4.8571429 | I13: =IF(OR(ISBLANK(task_start),ISBLANK(task_end)),"",task_end-task_start+1) -> 34
A14: Task | B14: Project Risks, Opportunities, Constraints and Dependencies | D14: 0.3 | E14: 44835 | F14: 44869 | G14: =RAND()*100 -> 12.795801 | H14: =IFERROR(I14/7,"") -> 5 | I14: =IF(OR(ISBLANK(task_start),ISBLANK(task_end)),"",task_end-task_start+1) -> 35
A15: Task | B15: Site Appraisals | D15: 0.4 | E15: 44835 | F15: 44870 | G15: =RAND()*100 -> 33.383497 | H15: =IFERROR(I15/7,"") -> 5.1428571 | I15: =IF(OR(ISBLANK(task_start),ISBLANK(task_end)),"",task_end-task_start+1) -> 36
A16: Task | B16: Define Requirements and outcomes | D16: 0.5 | E16: 44835 | F16: 44871 | G16: =RAND()*100 -> 30.732538 | H16: =IFERROR(I16/7,"") -> 5.2857143 | I16: =IF(OR(ISBLANK(task_start),ISBLANK(task_end)),"",task_end-task_start+1) -> 37
A17: Task | B17: Review Feedback from previous projects | D17: 0.25 | E17: 44835 | F17: 44872 | G17: =RAND()*100 -> 86.174299 | H17: =IFERROR(I17/7,"") -> 5.4285714 | I17: =IF(OR(ISBLANK(task_start),ISBLANK(task_end)),"",task_end-task_start+1) -> 38
A18: Stage | B18: Stage 1: Preparation and Briefing | D18: =SUM(D19:D25)/COUNT(D19:D25) -> 0.2 | E18: =MIN(E19:E25) -> 44835 | F18: =MAX(F19:F25) -> 44946 | G18: =RAND()*100 -> 10.908998 | H18: =IFERROR(I18/7,"") -> 16 | I18: =IF(OR(ISBLANK(task_start),ISBLANK(task_end)),"",task_end-task_start+1) -> 112
A19: Task | B19: Project Budget, Costs, and Revenues | D19: 0 | E19: 44875 | F19: 44941 | G19: =RAND()*100 -> 25.44297 | H19: =IFERROR(I19/7,"") -> 9.5714286 | I19: =IF(OR(ISBLANK(task_start),ISBLANK(task_end)),"",task_end-task_start+1) -> 67
A20: Task | B20: Feasibility Studies | D20: 0.1 | E20: 44835 | F20: 44867 | G20: =RAND()*100 -> 60.828147 | H20: =IFERROR(I20/7,"") -> 4.7142857 | I20: =IF(OR(ISBLANK(task_start),ISBLANK(task_end)),"",task_end-task_start+1) -> 33
A21: Task | B21: Site Information and Surveys | D21: 0.1 | E21: 44876 | F21: 44942 | G21: =RAND()*100 -> 52.245965 | H21: =IFERROR(I21/7,"") -> 9.5714286 | I21: =IF(OR(ISBLANK(task_start),ISBLANK(task_end)),"",task_end-task_start+1) -> 67
A22: Task | B22: Capability Identification | D22: 0.5 | E22: 44877 | F22: 44943 | G22: =RAND()*100 -> 76.161136 | H22: =IFERROR(I22/7,"") -> 9.5714286 | I22: =IF(OR(ISBLANK(task_start),ISBLANK(task_end)),"",task_end-task_start+1) -> 67
A23: Task | B23: Procurement Strategy | D23: 0.7 | E23: 44878 | F23: 44944 | G23: =RAND()*100 -> 17.525229 | H23: =IFERROR(I23/7,"") -> 9.5714286 | I23: =IF(OR(ISBLANK(task_start),ISBLANK(task_end)),"",task_end-task_start+1) -> 67
A24: Task | B24: Project Programme | D24: 0 | E24: 44879 | F24: 44945 | G24: =RAND()*100 -> 23.120658 | H24: =IFERROR(I24/7,"") -> 9.5714286 | I24: =IF(OR(ISBLANK(task_start),ISBLANK(task_end)),"",task_end-task_start+1) -> 67
A25: Task | B25: Funding and Investment Options | D25: 0 | E25: 44880 | F25: 44946 | G25: =RAND()*100 -> 15.166814 | H25: =IFERROR(I25/7,"") -> 9.5714286 | I25: =IF(OR(ISBLANK(task_start),ISBLANK(task_end)),"",task_end-task_start+1) -> 67
A26: Stage | B26: Stage 2: Concept Design | D26: 0 | E26: =F18 -> 44946 | F26: =MAX(F27:F29) -> 44959 | G26: =RAND()*100 -> 75.64554 | H26: =IFERROR(I26/7,"") -> 2 | I26: =IF(OR(ISBLANK(task_start),ISBLANK(task_end)),"",task_end-task_start+1) -> 14
A27: Task | B27: Concept Design | D27: 0 | E27: 44946 | F27: 44959 | G27: =RAND()*100 -> 84.707631 | H27: =IFERROR(I27/7,"") -> 2 | I27: =IF(OR(ISBLANK(task_start),ISBLANK(task_end)),"",task_end-task_start+1) -> 14
A28: Task | B28: Project Programme Development | D28: 0 | G28: =RAND()*100 -> 63.546423 | H28: =IFERROR(I28/7,"") | I28: =IF(OR(ISBLANK(task_start),ISBLANK(task_end)),"",task_end-task_start+1)
A29: Task | B29: Cost Plan | D29: 0 | G29: =RAND()*100 -> 95.891183 | H29: =IFERROR(I29/7,"") | I29: =IF(OR(ISBLANK(task_start),ISBLANK(task_end)),"",task_end-task_start+1)
A30: Stage | B30: Stage 3: Spatial Coordination and Localisation | D30: 0 | E30: =F26 -> 44959 | F30: =MAX(F31:F34) -> 44995 | G30: =RAND()*100 -> 39.542591 | H30: =IFERROR(I30/7,"") -> 5.2857143 | I30: =IF(OR(ISBLANK(task_start),ISBLANK(task_end)),"",task_end-task_start+1) -> 37
A31: Task | B31: Planning Application | D31: 0 | E31: 44959 | F31: 44959 | G31: =RAND()*100 -> 94.972675 | H31: =IFERROR(I31/7,"") -> 0.14285714 | I31: =IF(OR(ISBLANK(task_start),ISBLANK(task_end)),"",task_end-task_start+1) -> 1
A32: Task | B32: Locally Coordinated Design | D32: 0 | G32: =RAND()*100 -> 85.868275 | H32: =IFERROR(I32/7,"") | I32: =IF(OR(ISBLANK(task_start),ISBLANK(task_end)),"",task_end-task_start+1)
A33: Task | B33: System Connection Applications | D33: 0 | G33: =RAND()*100 -> 60.870001 | H33: =IFERROR(I33/7,"") | I33: =IF(OR(ISBLANK(task_start),ISBLANK(task_end)),"",task_end-task_start+1)
A34: Task | B34: Consultation and Community Engagement | D34: 0 | E34: 44959 | F34: 44995 | G34: =RAND()*100 -> 56.68492 | H34: =IFERROR(I34/7,"") -> 5.2857143 | I34: =IF(OR(ISBLANK(task_start),ISBLANK(task_end)),"",task_end-task_start+1) -> 37
A35: Stage | B35: Stage 4: Technical Design | D35: 0 | E35: =F30 -> 44995 | F35: =MAX(F36:F40) -> 45046 | G35: =RAND()*100 -> 99.630711 | H35: =IFERROR(I35/7,"") -> 7.4285714 | I35: =IF(OR(ISBLANK(task_start),ISBLANK(task_end)),"",task_end-task_start+1) -> 52
A36: Task | B36: Detailed Technical Design | D36: 0 | E36: 45005 | F36: 45046 | G36: =RAND()*100 -> 81.741044 | H36: =IFERROR(I36/7,"") -> 6 | I36: =IF(OR(ISBLANK(task_start),ISBLANK(task_end)),"",task_end-task_start+1) -> 42
A37: Task | B37: Building Regulations Application | D37: 0 | G37: =RAND()*100 -> 30.48506 | H37: =IFERROR(I37/7,"") | I37: =IF(OR(ISBLANK(task_start),ISBLANK(task_end)),"",task_end-task_start+1)
A38: Task | B38: Construction Information | D38: 0 | G38: =RAND()*100 -> 41.389707 | H38: =IFERROR(I38/7,"") | I38: =IF(OR(ISBLANK(task_start),ISBLANK(task_end)),"",task_end-task_start+1)
A39: Task | B39: Confirm Network Connections | D39: 0 | G39: =RAND()*100 -> 58.050082 | H39: =IFERROR(I39/7,"") | I39: =IF(OR(ISBLANK(task_start),ISBLANK(task_end)),"",task_end-task_start+1)
A40: Task | B40: Spatially Coordinated Design | D40: 0 | G40: =RAND()*100 -> 70.279736 | H40: =IFERROR(I40/7,"") | I40: =IF(OR(ISBLANK(task_start),ISBLANK(task_end)),"",task_end-task_start+1)
A41: Stage | B41: Stage 5: Construction, Integration and Installation | D41: 0 | E41: =F35 -> 45046 | F41: =MAX(F42:F47) -> 45076 | G41: =RAND()*100 -> 68.972635 | H41: =IFERROR(I41/7,"") -> 4.4285714 | I41: =IF(OR(ISBLANK(task_start),ISBLANK(task_end)),"",task_end-task_start+1) -> 31
...

Sheet Milestone Chart
E1: Project Gant chart provided by Net Zero Go.
E2: http://www.netzerogo.org.uk
E3: Project Milestone Chart
B7: This provides a simple milestone chart for your project. This runs off data in the project schedule tab
B11: Type | C11: Stage
B13: END | C13: Item | D13: Position
B14: 44872 | C14: Stage 0: Strategic Definition | D14: 51.788531
B15: 44946 | C15: Stage 1: Preparation and Briefing | D15: 28.24327
B16: 44959 | C16: Stage 2: Concept Design | D16: 19.211663
B17: 44995 | C17: Stage 3: Spatial Coordination and Localisation | D17: 74.650937
B18: 45046 | C18: Stage 4: Technical Design | D18: 34.625945
B19: 45076 | C19: Stage 5: Construction, Integration and Installation | D19: 43.955967
B20: 45079 | C20: Stage 6: Handover | D20: 20.139906
B21: 45109 | C21: Stage 7: Use (and Operation) | D21: 80.885865

Sheet Risks
C2: RAID Log provided by Net Zero Go. The categories are aligned with Net Zero Go Risk Categories
C3: http://www.netzerogo.org.uk
C4: Risk and mitigation Log
A5: ='Project Info'!C7 -> My Super Project | P5: Roles and Responsibilities
A6: Project Sponsor | C6: ='Project Info'!C10 -> My Sponsor name
A7: PM | C7: ='Project Info'!C11 -> My PM Name
A8: Score before mitigation | C8: =SUM(tblRisk[Risk Score]) -> 6
A9: Score after mitigation | C9: =SUM(tblRisk[Risk Score after mitigation]) -> 2
A10: Cost of mitigation | C10: =SUM(tblRisk[Mitigation Cost]) -> 999
A12: Risk | B12: Date raised | C12: Status | D12: Raised By | E12: Owner | F12: Risk description | G12: Risk Category | H12: Stage project affected | I12: Activity Affected | J12: Effect of Impact on cost, quality and timetable | K12: Probability | L12: Impact | M12: Risk Score | N12: Mitigation | O12: Mitigation Cost | P12: Actions required | Q12: Probability after mitigation | R12: Impact after mitigation | S12: Risk Score after mitigation
A13: Risk 1 | B13: 44562 | C13: Open | D13: concerned citizen | E13: My PM Name | F13: Description | G13: Economic | H13: Stage 0: Strategic Definition | I13: Project Cost | J13: No effect | K13: 2 | L13: 3 | M13: =IF(AND(tblRisk[[#This Row],[Probability]]>0,tblRisk[[#This Row],[Impact]]>0),tblRisk[[#This Row],[Probability]]*tblRisk[[#This Row],[Impact]],0) -> 6 | N13: Mitigation | O13: 999 | P13: Actions to achieve mitigation | Q13: 2 | R13: 1 | S13: =IF(AND(tblRisk[[#This Row],[Probability after mitigation]]>0,tblRisk[[#This Row],[Impact after mitigation]]>0),tblRisk[[#This Row],[Probability after mitigation]]*tblRisk[[#This Row],[Impact after mitigation]],0) -> 2
M14: =IF(AND(tblRisk[[#This Row],[Probability]]>0,tblRisk[[#This Row],[Impact]]>0),tblRisk[[#This Row],[Probability]]*tblRisk[[#This Row],[Impact]],0) -> 0 | S14: =IF(AND(tblRisk[[#This Row],[Probability after mitigation]]>0,tblRisk[[#This Row],[Impact after mitigation]]>0),tblRisk[[#This Row],[Probability after mitigation]]*tblRisk[[#This Row],[Impact after mitigation]],0) -> 0

Sheet Tables
A1: Risk categories
A3: Risk Categories | B3: Description
A4: Technical | B4: What the local energy project needs to do, what it is and how it performs in its environment and with related systems.
A5: Market | B5: Commercial arrangements for the local energy project that result in value being realised.
A6: Social | B6: People or groups involved in or impacted by a local energy project and its stakeholders, environment and related systems.
A7: Policy | B7: Government interventions to support or constrain a local energy project and its stakeholders, environment and related systems.
A8: Legal | B8: Law relating to a local energy project and its stakeholders, environment and related systems, including regulation.
A9: Economic | B9: Economic impact or constraints on a local energy project and its stakeholders, environment and related systems.
A10: Environment | B10: External effects associated with the development, production, utilisation, support and retirement of a local energy project and its stakeholders, environment and related systems.
A11: Organisation | B11: Organisation(s) delivering the project, including the supply chain.
A12: Project | B12: Delivery of local energy projects.
A13: Schedule | B13: Relating to timing or delay of the delivery of a local energy project due to internal and external factors.
A17: Risk Status
A18: Open
A19: Assessed
A20: Controlled
A21: Triggered
A22: Closed

Sheet Stakeholder Analysis
C2: RAID Log provided by Net Zero Go. The categories are aligned with Net Zero Go Risk Categories
C3: http://www.netzerogo.org.uk
C4: Stakeholder log
A5: ='Project Info'!C7 -> My Super Project | O5: Roles and Responsibilities
K7: Commitment
K8: P - passive, -1 against, 0 neutral,1 supportive
A9: Stakeholder name | B9: Title | C9: Email | D9: Influence | E9: Interest | F9: Priority | G9: SME? | H9: Decision-Maker | I9: Comm. Freq. | J9: Comm. Method | K9: Current Level | L9: Required Level | M9: Notes
A10: Ed Harris | B10: Finance | C10: ed@email | D10: 3 | E10: 3 | F10: =Table6[[#This Row],[Interest]]*Table6[[#This Row],[Influence]] -> 9 | G10: Yes | H10: No | I10: Monthly | J10: Email | K10: P | L10: -1
A11: sadfsdf | D11: 3 | E11: 3 | F11: =Table6[[#This Row],[Interest]]*Table6[[#This Row],[Influence]] -> 9 | G11: No | K11: -1 | L11: 1
A12: fsdf | B12: sdf | D12: 2 | E12: 3 | F12: =Table6[[#This Row],[Interest]]*Table6[[#This Row],[Influence]] -> 6 | K12: 0 | L12: 1
A13: sdfs | D13: 2 | E13: 3 | F13: =Table6[[#This Row],[Interest]]*Table6[[#This Row],[Influence]] -> 6 | K13: 1 | L13: 1
A14: sdfs | D14: 2 | E14: 2 | F14: =Table6[[#This Row],[Interest]]*Table6[[#This Row],[Influence]] -> 4 | K14: -1 | L14: 1
A15: dfsd | B15: df | D15: 1 | E15: 3 | F15: =Table6[[#This Row],[Interest]]*Table6[[#This Row],[Influence]] -> 3 | K15: 1 | L15: 1
A16: Don Lu | B16: Engineer | C16: donlu@email | D16: 1 | E16: 2 | F16: =Table6[[#This Row],[Interest]]*Table6[[#This Row],[Influence]] -> 2 | G16: Yes | H16: Yes | I16: Weekly | J16: In Person | K16: -1 | L16: 1
A17: Jo Ann | B17: Design | C17: jo@email | D17: 2 | E17: 1 | F17: =Table6[[#This Row],[Interest]]*Table6[[#This Row],[Influence]] -> 2 | G17: No | H17: No | I17: Weekly | J17: Phone | K17: 1 | L17: 1
A18: sdafs | D18: 1 | E18: 1 | F18: =Table6[[#This Row],[Interest]]*Table6[[#This Row],[Influence]] -> 1 | K18: -1 | L18: 1
A19: new name | D19: 1 | E19: 1 | F19: =Table6[[#This Row],[Interest]]*Table6[[#This Row],[Influence]] -> 1 | K19: 1 | L19: 1
