Workbook
Name ad: '[1]Model Settings'!$C$4
Name Add_Generation_2: 'I_Generation and growth FCast'!$B$55:$H$65
Name AdditionalPolicyCost_Domestic: '[2]Policy billing'!$D$4
Name AssetList: 'I_Asset List'!$B$34:$H$234
Name AutoGen_Capacity1: [2]Autogeneration!$C$12
Name AutoGen_Capacity2: [2]Autogeneration!$D$12
Name AutoGen_Capacity3: [2]Autogeneration!$E$12
Name AutoGen_Capacity4: [2]Autogeneration!$F$12
Name AutoGen_LoadFactor1: [3]Autogeneration!$C$8
Name AutoGen_LoadFactor2: [3]Autogeneration!$D$8
Name AutoGen_LoadFactor3: [4]Autogeneration!$E$8
Name AutoGen_LoadFactor4: [2]Autogeneration!$F$8
Name AvSiteCapacity: '[5]IRR Calc'!$F$19
Name B_Regs: '[6]Source Numbers for Master Lists'!$J$13:$J$17
Name C_T: '[6]Source Numbers for Master Lists'!$J$42:$J$43
Name CapPay1_AnnualMaxCapacity: '[2]Capacity Payment 1'!$C$11
Name CapPay1_ChargeBack: '[2]Capacity Payment 1'!$C$9
Name CapPay1_HurdleRateAdjustment: '[2]Capacity Payment 1'!$D$17
Name CapPay1_Index: '[2]Capacity Payment 1'!$C$17
Name CapPay1_Payment_Matrix: '[2]Capacity Payment 1'!$G$6
Name CapPay1_Switch_String: '[2]Capacity Payment 1'!$B$4
Name CapPay1_Tech: '[2]Capacity Payment 1'!$B$17
Name CarbonEmissions: #REF!
Name CarbonPrice_ChargeBack: #REF!
Name Categories: 'I_Asset List'!$B$9:$C$29
Name CBA_end: '[7]CBA control'!$C$19
Name CBA_start: '[7]CBA control'!$C$18
Name ccl: '[6]Source Numbers for Master Lists'!$J$21:$J$22
Name CfD1_AnnualMaxCapacity: '[2]CfD 1'!$C$15
Name CfD1_ChargeBack: '[2]CfD 1'!$C$13
Name CfD1_HurdleRateAdjustment: '[2]CfD 1'!$D$23
Name CfD1_Index: '[2]CfD 1'!$C$23
Name CfD1_Payment_Matrix: '[2]CfD 1'!$G$6
Name CfD1_PaymentType_String: '[2]CfD 1'!$C$9
Name CfD1_Switch_String: '[2]CfD 1'!$B$4
Name CfD1_Tech: '[2]CfD 1'!$B$23
Name CfD1_UpsideOption: '[2]CfD 1'!$C$11
Name CfD11_AllowForDistortion: #REF!
Name CfD11_AnnualMaxCapacity: #REF!
Name CfD11_ChargeBack: #REF!
Name CfD11_HurdleRateAdjustment: #REF!
Name CfD11_Index: #REF!
Name CfD11_Name_String: #REF!
Name CfD11_Payment_Matrix: #REF!
Name CfD11_PaymentType_String: #REF!
Name CfD11_ReferencePriceType: #REF!
Name CfD11_Switch_String: #REF!
Name CfD11_Tech: #REF!
Name CfD11_UpsideOption: #REF!
Name CfD19_AllowForDistortion: #REF!
Name CfD19_AnnualMaxCapacity: #REF!
Name CfD19_ChargeBack: #REF!
Name CfD19_HurdleRateAdjustment: #REF!
Name CfD19_Index: #REF!
Name CfD19_MerchantPPA_Matrix: #REF!
Name CfD19_Name_String: #REF!
Name CfD19_Payment_Matrix: #REF!
Name CfD19_PaymentType_String: #REF!
Name CfD19_ReferencePriceType: #REF!
Name CfD19_Switch_String: #REF!

Sheet O_Disclaimer 
B7: DISCLAIMER
B9: This Electricity Procurement Tool has been produced by Local Partnerships to help local authorities determine their future electricity procurement requirements. Please read the “Guidance” sheet carefully to support you with relevant information regarding electricity reduction interventions. The forecast also provides emissions, determined by the multiplying of consumption data from your authority with conversion factors set by BEIS. Emissions are reported as CO2e. Please enter the relevant data points with the units prescribed in the input sheet. Any input cells are coloured light yellow; calculation cells are white; drop-down menu cells are dark green. If you have any questions please contact Local Partnerships at nathan.wicks@localpartnerships.gov.uk. Disclaimer This Electricity Procurement Tool has been produced and published in good faith by Local Partnerships and Local Partnerships shall not incur any liability for any action or omission arising out of any reliance being placed on it (including any information it contains) by any individual/organisation. This Tool is intended to provide general guidance only, and any individual/organisation should consider independent technical, legal, financial and/or other relevant professional advice when considering what action (if any) to take in respect of any associated initiative, proposal or other arrangement, or before placing any reliance on this Tool (including any information it contains). This Tool has been produced to support the public sector, and in particular local authorities in the management of their own emissions. It is not intended for use by commercial organisations where the accounting guidance may differ. Charging for the use of this Tool shall not be permitted in any circumstances.

Sheet O_Summary
B2: SUMMARY
B5: 1. Total electricity and procurement forecast
G8: ='C_Projection '!G147 -> 2023 | H8: ='C_Projection '!H147 -> 2024 | I8: ='C_Projection '!I147 -> 2025 | J8: ='C_Projection '!J147 -> 2026 | K8: ='C_Projection '!K147 -> 2027 | L8: ='C_Projection '!L147 -> 2028
B10: Electricity use at start of period | H10: =IF('C_Projection '!H149=0,"",'C_Projection '!H149) -> 21000 | I10: =IF('C_Projection '!I149=0,"",'C_Projection '!I149) -> 26356.55 | J10: =IF('C_Projection '!J149=0,"",'C_Projection '!J149) -> 30051.81 | K10: =IF('C_Projection '!K149=0,"",'C_Projection '!K149) -> 33139.862 | L10: =IF('C_Projection '!L149=0,"",'C_Projection '!L149) -> 35918.426
G11: =IF('C_Projection '!G150=0,"",'C_Projection '!G150) | H11: =IF('C_Projection '!H150=0,"",'C_Projection '!H150) | I11: =IF('C_Projection '!I150=0,"",'C_Projection '!I150) | J11: =IF('C_Projection '!J150=0,"",'C_Projection '!J150) | K11: =IF('C_Projection '!K150=0,"",'C_Projection '!K150) | L11: =IF('C_Projection '!L150=0,"",'C_Projection '!L150)
B12: Growth (KwH) | H12: ='C_Projection '!H151+'C_Projection '!H152 -> 5823.05 | I12: ='C_Projection '!I151+'C_Projection '!I152 -> 4236.26 | J12: ='C_Projection '!J151+'C_Projection '!J152 -> 4237.0521 | K12: ='C_Projection '!K151+'C_Projection '!K152 -> 4231.5638 | L12: ='C_Projection '!L151+'C_Projection '!L152 -> 4222.7846
B13: ='C_Projection '!F153 -> Intervention | G13: =IF('C_Projection '!G153=0,"",'C_Projection '!G153) | H13: =IF('C_Projection '!H153=0,"",'C_Projection '!H153) -> -466.5 | I13: =IF('C_Projection '!I153=0,"",'C_Projection '!I153) -> -541 | J13: =IF('C_Projection '!J153=0,"",'C_Projection '!J153) -> -1149 | K13: =IF('C_Projection '!K153=0,"",'C_Projection '!K153) -> -1453 | L13: =IF('C_Projection '!L153=0,"",'C_Projection '!L153) -> -2061
B14: Electricity use at end of period | G14: =IF('C_Projection '!G154=0,"",'C_Projection '!G154) -> 21000 | H14: =IF('C_Projection '!H154=0,"",'C_Projection '!H154) -> 26356.55 | I14: =IF('C_Projection '!I154=0,"",'C_Projection '!I154) -> 30051.81 | J14: =IF('C_Projection '!J154=0,"",'C_Projection '!J154) -> 33139.862 | K14: =IF('C_Projection '!K154=0,"",'C_Projection '!K154) -> 35918.426 | L14: =IF('C_Projection '!L154=0,"",'C_Projection '!L154) -> 38080.211
B15: Growth per annum | H15: =(H14-G14)/G14*100% -> 0.25507381 | I15: =(I14-H14)/H14*100% -> 0.14020272 | J15: =(J14-I14)/I14*100% -> 0.10275761 | K15: =(K14-J14)/J14*100% -> 0.083843555 | L15: =(L14-K14)/K14*100% -> 0.060185949
B17: Internal generation | H17: ='C_Projection '!H158+'C_Projection '!H160 -> -3400 | I17: ='C_Projection '!I158+'C_Projection '!I160 -> -5300 | J17: ='C_Projection '!J158+'C_Projection '!J160 -> -4900 | K17: ='C_Projection '!K158+'C_Projection '!K160 -> -6500 | L17: ='C_Projection '!L158+'C_Projection '!L160 -> -6700 | O17: Assumed forecast price (£/KwH)
B18: Procurement requirement | H18: =H14+H17 -> 22956.55 | I18: =I14+I17 -> 24751.81 | J18: =J14+J17 -> 28239.862 | K18: =K14+K17 -> 29418.426 | L18: =L14+L17 -> 31380.211 | O18: 0.34 | P18: 0.34 | Q18: 0.34 | R18: 0.34 | S18: 0.34
B20: Procurement Forecast | G20: =G8 -> 2023 | H20: =H8 -> 2024 | I20: =I8 -> 2025 | J20: =J8 -> 2026 | K20: =K8 -> 2027 | L20: =L8 -> 2028 | N20: =G20 -> 2023 | O20: =H20 -> 2024 | P20: =I20 -> 2025 | Q20: =J20 -> 2026 | R20: =K20 -> 2027 | S20: =L20 -> 2028
B22: ='I_Energy Procurement'!B24 -> Power Purchase Agreement | H22: ='I_Energy Procurement'!G35 -> 450000 | I22: ='I_Energy Procurement'!H35 -> 223150.68 | J22: ='I_Energy Procurement'!I35 -> 29315.068 | K22: ='I_Energy Procurement'!J35 -> 50000 | L22: ='I_Energy Procurement'!K35 -> 33424.658 | O22: =H22*O$18 -> 153000 | P22: =I22*P$18 -> 75871.233 | Q22: =J22*Q$18 -> 9967.1233 | R22: =K22*R$18 -> 17000 | S22: =L22*S$18 -> 11364.384
B23: ='I_Energy Procurement'!B40 -> Electricity Supply Agreement | H23: ='I_Energy Procurement'!G61 -> 0 | I23: ='I_Energy Procurement'!H61 -> 0 | J23: ='I_Energy Procurement'!I61 -> 112000 | K23: ='I_Energy Procurement'!J61 -> 168000 | L23: ='I_Energy Procurement'!K61 -> 157500 | O23: =H23*O$18 -> 0 | P23: =I23*P$18 -> 0 | Q23: =J23*Q$18 -> 38080 | R23: =K23*R$18 -> 57120 | S23: =L23*S$18 -> 53550
B24: Total electricity procured | H24: =SUM(H22:H22) -> 450000 | I24: =SUM(I22:I22) -> 223150.68 | J24: =SUM(J22:J22) -> 29315.068 | K24: =SUM(K22:K22) -> 50000 | L24: =SUM(L22:L22) -> 33424.658 | O24: =H24*O$18 -> 153000 | P24: =I24*P$18 -> 75871.233 | Q24: =J24*Q$18 -> 9967.1233 | R24: =K24*R$18 -> 17000 | S24: =L24*S$18 -> 11364.384
B26: Variance | H26: =H24-H18 -> 427043.45 | I26: =I24-I18 -> 198398.87 | J26: =J24-J18 -> 1075.2064 | K26: =K24-K18 -> 20581.574 | L26: =L24-L18 -> 2044.447 | O26: =H26*O$18 -> 145194.77 | P26: =I26*P$18 -> 67455.617 | Q26: =J26*Q$18 -> 365.57017 | R26: =K26*R$18 -> 6997.7352 | S26: =L26*S$18 -> 695.11199
B30: 2. Electricity forecast by category
G33: 1 | H33: 2 | I33: 3 | J33: 4 | K33: 5 | L33: 6
G34: =G8 -> 2023 | H34: =H8 -> 2024 | I34: =I8 -> 2025 | J34: =J8 -> 2026 | K34: =K8 -> 2027 | L34: =L8 -> 2028
B36: Community Centres | F36: Beginning of period | G36: =OFFSET('C_Projection '!$F$5,MATCH(O_Summary!$B$36,'C_Projection '!$B$5:$B$138)-1,G$33) -> 3000 | H36: =OFFSET('C_Projection '!$F$5,MATCH(O_Summary!$B$36,'C_Projection '!$B$5:$B$138)-1,H$33) -> 3000 | I36: =OFFSET('C_Projection '!$F$5,MATCH(O_Summary!$B$36,'C_Projection '!$B$5:$B$138)-1,I$33) -> 3083 | J36: =OFFSET('C_Projection '!$F$5,MATCH(O_Summary!$B$36,'C_Projection '!$B$5:$B$138)-1,J$33) -> 3066.66 | K36: =OFFSET('C_Projection '!$F$5,MATCH(O_Summary!$B$36,'C_Projection '!$B$5:$B$138)-1,K$33) -> 2965.9932 | L36: =OFFSET('C_Projection '!$F$5,MATCH(O_Summary!$B$36,'C_Projection '!$B$5:$B$138)-1,L$33) -> 2821.3131
F38: Growth (%) | H38: =OFFSET('C_Projection '!$F$5,MATCH(O_Summary!$B$36,'C_Projection '!$B$5:$B$138)+1,H$33) -> 150 | I38: =OFFSET('C_Projection '!$F$5,MATCH(O_Summary!$B$36,'C_Projection '!$B$5:$B$138)+1,I$33) -> 61.66 | J38: =OFFSET('C_Projection '!$F$5,MATCH(O_Summary!$B$36,'C_Projection '!$B$5:$B$138)+1,J$33) -> 61.3332 | K38: =OFFSET('C_Projection '!$F$5,MATCH(O_Summary!$B$36,'C_Projection '!$B$5:$B$138)+1,K$33) -> 59.319864 | L38: =OFFSET('C_Projection '!$F$5,MATCH(O_Summary!$B$36,'C_Projection '!$B$5:$B$138)+1,L$33) -> 56.426261
F39: Growth (KwH) | H39: =OFFSET('C_Projection '!$F$5,MATCH(O_Summary!$B$36,'C_Projection '!$B$5:$B$138)+2,H$33) -> 0 | I39: =OFFSET('C_Projection '!$F$5,MATCH(O_Summary!$B$36,'C_Projection '!$B$5:$B$138)+2,I$33) -> 0 | J39: =OFFSET('C_Projection '!$F$5,MATCH(O_Summary!$B$36,'C_Projection '!$B$5:$B$138)+2,J$33) -> 0 | K39: =OFFSET('C_Projection '!$F$5,MATCH(O_Summary!$B$36,'C_Projection '!$B$5:$B$138)+2,K$33) -> 0 | L39: =OFFSET('C_Projection '!$F$5,MATCH(O_Summary!$B$36,'C_Projection '!$B$5:$B$138)+2,L$33) -> 0
F40: Intervention | H40: =OFFSET('C_Projection '!$F$5,MATCH(O_Summary!$B$36,'C_Projection '!$B$5:$B$138)+3,H$33) -> -67 | I40: =OFFSET('C_Projection '!$F$5,MATCH(O_Summary!$B$36,'C_Projection '!$B$5:$B$138)+3,I$33) -> -78 | J40: =OFFSET('C_Projection '!$F$5,MATCH(O_Summary!$B$36,'C_Projection '!$B$5:$B$138)+3,J$33) -> -162 | K40: =OFFSET('C_Projection '!$F$5,MATCH(O_Summary!$B$36,'C_Projection '!$B$5:$B$138)+3,K$33) -> -204 | L40: =OFFSET('C_Projection '!$F$5,MATCH(O_Summary!$B$36,'C_Projection '!$B$5:$B$138)+3,L$33) -> -288
F41: End of Period | G41: =OFFSET('C_Projection '!$F$5,MATCH(O_Summary!$B$36,'C_Projection '!$B$5:$B$138)+4,G$33) -> 3000 | H41: =OFFSET('C_Projection '!$F$5,MATCH(O_Summary!$B$36,'C_Projection '!$B$5:$B$138)+4,H$33) -> 3083 | I41: =OFFSET('C_Projection '!$F$5,MATCH(O_Summary!$B$36,'C_Projection '!$B$5:$B$138)+4,I$33) -> 3066.66 | J41: =OFFSET('C_Projection '!$F$5,MATCH(O_Summary!$B$36,'C_Projection '!$B$5:$B$138)+4,J$33) -> 2965.9932 | K41: =OFFSET('C_Projection '!$F$5,MATCH(O_Summary!$B$36,'C_Projection '!$B$5:$B$138)+4,K$33) -> 2821.3131 | L41: =OFFSET('C_Projection '!$F$5,MATCH(O_Summary!$B$36,'C_Projection '!$B$5:$B$138)+4,L$33) -> 2589.7393
B55: 3. On site generation forecast
C58: Project
B59: Year | C59: (blank) | D59: blue | E59: arrow | F59: waterway | G59: Total (KWh)
B60: 2024 | D60: 100 | E60: 100 | F60: 200 | G60: 400
B61: 2025 | D61: 1000 | E61: 1000 | F61: 300 | G61: 2300
B62: 2026 | D62: 1000 | E62: 500 | F62: 400 | G62: 1900
B63: 2027 | D63: 1500 | E63: 1500 | F63: 500 | G63: 3500
B64: 2028 | D64: 1500 | E64: 1500 | F64: 700 | G64: 3700
B71: 4. Total electricity forecast (CO2)
G74: =G8 -> 2023 | H74: =H8 -> 2024 | I74: =I8 -> 2025 | J74: =J8 -> 2026 | K74: =K8 -> 2027 | L74: =L8 -> 2028
B76: =B14 -> Electricity use at end of period | G76: =G14 -> 21000 | H76: =H14 -> 26356.55 | I76: =I14 -> 30051.81 | J76: =J14 -> 33139.862 | K76: =K14 -> 35918.426 | L76: =L14 -> 38080.211
B77: Equivalent CO2 | G77: =C_EmissionsFactors!N13 -> 5.2580466 | H77: =C_EmissionsFactors!O13 -> 6.2089048 | I77: =C_EmissionsFactors!P13 -> 6.6090913 | J77: =C_EmissionsFactors!Q13 -> 6.7401396 | K77: =C_EmissionsFactors!R13 -> 6.6774997 | L77: =C_EmissionsFactors!S13 -> 6.376076
B81: 5. Total electricity savings by intervention (KWh)
B84: Intervention | C84: 2024 | D84: 2025 | E84: 2026 | F84: 2027 | G84: 2028
B85: Boilers | C85: 60 | D85: 120 | E85: 180 | F85: 210 | G85: 270
B86: Building management systems | C86: 15 | D86: 30 | E86: 90 | F86: 120 | G86: 180
...

Sheet O_Scenarios
B2: SCENARIO TOOL
B4: Fill in the yellow cells to determine the impact of growth, intervention and procurement scenarios
B5: Please note this scenario tool does not change the Summary sheet or any of the Input sheets
B7: Current energy forecast (KWh) | G7: =O_Summary!G8 -> 2023 | H7: =O_Summary!H8 -> 2024 | I7: =O_Summary!I8 -> 2025 | J7: =O_Summary!J8 -> 2026 | K7: =O_Summary!K8 -> 2027 | L7: =O_Summary!L8 -> 2028
B9: =O_Summary!B10 -> Electricity use at start of period | H9: =G17 -> 21000 | I9: =H17 -> 26938.855 | J9: =I17 -> 31057.741 | K9: =J17 -> 34569.498 | L9: =K17 -> 37771.219
B10: Current projected growth | H10: =O_Summary!H12 -> 5823.05 | I10: =O_Summary!I12 -> 4236.26 | J10: =O_Summary!J12 -> 4237.0521 | K10: =O_Summary!K12 -> 4231.5638 | L10: =O_Summary!L12 -> 4222.7846
B11: Growth scenario | H11: =10%*H10 -> 582.305 | I11: =10%*I10 -> 423.626 | J11: =10%*J10 -> 423.70521 | K11: =10%*K10 -> 423.15638 | L11: =10%*L10 -> 422.27846
B13: Current intervention estimate | H13: =O_Summary!H13 -> -466.5 | I13: =O_Summary!I13 -> -541 | J13: =O_Summary!J13 -> -1149 | K13: =O_Summary!K13 -> -1453 | L13: =O_Summary!L13 -> -2061
B14: Intervention scenario
B15: Other adjustment
G16: =IF('C_Projection '!H146=0,"",'C_Projection '!H146) | H16: =IF('C_Projection '!I146=0,"",'C_Projection '!I146) | I16: =IF('C_Projection '!J146=0,"",'C_Projection '!J146) | J16: =IF('C_Projection '!K146=0,"",'C_Projection '!K146) | K16: =IF('C_Projection '!L146=0,"",'C_Projection '!L146) | L16: =IF('C_Projection '!M146=0,"",'C_Projection '!M146)
B17: =O_Summary!B14 -> Electricity use at end of period | G17: =O_Summary!G14 -> 21000 | H17: =SUM(H9:H14) -> 26938.855 | I17: =SUM(I9:I14) -> 31057.741 | J17: =SUM(J9:J14) -> 34569.498 | K17: =SUM(K9:K14) -> 37771.219 | L17: =SUM(L9:L14) -> 40355.282
H18: =(H17-G17)/G17*100% -> 0.28280262 | I18: =(I17-H17)/H17*100% -> 0.15289759 | J18: =(J17-I17)/I17*100% -> 0.11307188 | K18: =(K17-J17)/J17*100% -> 0.092616913 | L18: =(L17-K17)/K17*100% -> 0.068413546
B20: Internal generation | H20: =O_Summary!H17 -> -3400 | I20: =O_Summary!I17 -> -5300 | J20: =O_Summary!J17 -> -4900 | K20: =O_Summary!K17 -> -6500 | L20: =O_Summary!L17 -> -6700
B21: Generation scenario
B22: Total generation | H22: =SUM(H20:H21) -> -3400 | I22: =SUM(I20:I21) -> -5300 | J22: =SUM(J20:J21) -> -4900 | K22: =SUM(K20:K21) -> -6500 | L22: =SUM(L20:L21) -> -6700
B24: Procurement requirement | H24: =H17+H22 -> 23538.855 | I24: =I17+I22 -> 25757.741 | J24: =J17+J22 -> 29669.498 | K24: =K17+K22 -> 31271.219 | L24: =L17+L22 -> 33655.282
B27: Current planed electricity procurement | H27: =O_Summary!H24 -> 450000 | I27: =O_Summary!I24 -> 223150.68 | J27: =O_Summary!J24 -> 29315.068 | K27: =O_Summary!K24 -> 50000 | L27: =O_Summary!L24 -> 33424.658
B28: Procurement scenario
B29: Total procurement | H29: =SUM(H27:H28) -> 450000 | I29: =SUM(I27:I28) -> 223150.68 | J29: =SUM(J27:J28) -> 29315.068 | K29: =SUM(K27:K28) -> 50000 | L29: =SUM(L27:L28) -> 33424.658
B31: Variance | H31: =H29-H24 -> 426461.15 | I31: =I29-I24 -> 197392.94 | J31: =J29-J24 -> -354.42982 | K31: =K29-K24 -> 18728.781 | L31: =L29-L24 -> -230.62402

Sheet I_Asset List
B2: ASSET AND CATEGORY LIST
B5: Please insert the categories you use to group your building types (eg schools, car parks, care homes)
B7: Building Category
B9: Category Number | C9: Asset Category Name
B10: 1 | C10: Admin Buildings /Offices
B11: 2 | C11: Car Parks
B12: 3 | C12: Care Homes
B13: 4 | C13: Commercial Properties
B14: 5 | C14: Community Centres
B15: 6 | C15: Day Centres
B16: 7 | C16: Depots
B17: 8
B18: 9
B19: 10
B20: 11
B21: 12
B22: 13
B23: 14
B24: 15
B25: 16
B26: 17
B27: 18
B28: 19
B29: 20
B32: Asset List | C32: Please insert the relevant information for your buildings in the yellow and green cells. Please do not change any of the other cells.
B34: Property Number | C34: Property Name | D34: Asset Category | E34: Electricity Consumption (kWh) | F34: Square meters | G34: Consumption per square meter | H34: MPAN - Consumption measurement period
B35: 1 | C35: Building 1 | D35: Admin Buildings /Offices | E35: 3000 | F35: 1000 | G35: =E35/F35 -> 3 | H35: Half Hourly
B36: 2 | C36: Building 2 | D36: Car Parks | E36: 3000 | F36: 1000 | G36: =E36/F36 -> 3 | H36: Half Hourly
B37: 3 | C37: Building 3 | D37: Care Homes | E37: 3000 | F37: 1000 | G37: =E37/F37 -> 3 | H37: Half Hourly
B38: 4 | C38: Building 4 | D38: Commercial Properties | E38: 3000 | F38: 1000 | G38: =E38/F38 -> 3 | H38: Half Hourly
B39: 5 | C39: Building 5 | D39: Community Centres | E39: 3000 | F39: 1000 | G39: =E39/F39 -> 3 | H39: Half Hourly
B40: 6 | C40: Building 6 | D40: Day Centres | E40: 3000 | F40: 1000 | G40: =E40/F40 -> 3 | H40: Half Hourly
B41: 7 | C41: Building 7 | D41: Depots | E41: 3000 | F41: 1000 | G41: =E41/F41 -> 3 | H41: Half Hourly
B42: 8 | C42: Building 8 | G42: =E42/F42 -> #DIV/0!
B43: 9 | C43: Building 9 | G43: =E43/F43 -> #DIV/0!
B44: 10 | C44: Building 10 | G44: =E44/F44 -> #DIV/0!
B45: 11 | C45: Building 11 | G45: =E45/F45 -> #DIV/0!
B46: 12 | C46: Building 12 | G46: =E46/F46 -> #DIV/0!
B47: 13 | C47: Building 13 | G47: =E47/F47 -> #DIV/0!
B48: 14 | C48: Building 14 | G48: =E48/F48 -> #DIV/0!
...

Sheet I_Baseline
B2: ENERGY CONSUMPTION BASELINE
B3: Please insert all the relevant information in the yellow and green cells in the tables below. Please do not change any of the other cells.
B4: Baseline year | C4: 2023
B6: Baseline year – Total Local Authority Electricity Consumption (KWh) | C6: =SUM(C8:C9) -> 21000
B8: MPANs - Electricity consumption non-half hourly (KWh) | C8: =SUMIF('I_Asset List'!H$35:H$234,C_Lists!AD6,'I_Asset List'!E$35:E$234) -> 0
B9: MPANs - Electricity consumption half hourly (KWh) | C9: =SUMIF('I_Asset List'!H$35:H$234,C_Lists!AD5,'I_Asset List'!E$35:E$234) -> 21000
B12: Total number of meters (MPAN reflects a physical meter point) | C12: 500
B13: Mean consumption per meter (KWh) | C13: =C6/C12 -> 42
B15: Electricity consumed by asset category | C15: Total number of assets | D15: Baseline consumption (KWh) | E15: % of Total | F15: Number of square meters | G15: Baseline Consumption per square meter
B16: ='I_Asset List'!C10 -> Admin Buildings /Offices | C16: =COUNTIF('I_Asset List'!D$35:D$234,I_Baseline!B16) -> 1 | D16: =SUMIF('I_Asset List'!D$35:D$234,I_Baseline!B16,'I_Asset List'!E$35:E$234) -> 3000 | E16: =D16/$D$36 -> 0.14285714 | F16: =SUMIF('I_Asset List'!D$35:D$234,I_Baseline!B16,'I_Asset List'!F$35:F$234) -> 1000 | G16: =IFERROR(D16/F16,0) -> 3
B17: ='I_Asset List'!C11 -> Car Parks | C17: =COUNTIF('I_Asset List'!D$35:D$234,I_Baseline!B17) -> 1 | D17: =SUMIF('I_Asset List'!D$35:D$234,I_Baseline!B17,'I_Asset List'!E$35:E$234) -> 3000 | E17: =D17/$D$36 -> 0.14285714 | F17: =SUMIF('I_Asset List'!D$35:D$234,I_Baseline!B17,'I_Asset List'!F$35:F$234) -> 1000 | G17: =IFERROR(D17/F17,0) -> 3
B18: ='I_Asset List'!C12 -> Care Homes | C18: =COUNTIF('I_Asset List'!D$35:D$234,I_Baseline!B18) -> 1 | D18: =SUMIF('I_Asset List'!D$35:D$234,I_Baseline!B18,'I_Asset List'!E$35:E$234) -> 3000 | E18: =D18/$D$36 -> 0.14285714 | F18: =SUMIF('I_Asset List'!D$35:D$234,I_Baseline!B18,'I_Asset List'!F$35:F$234) -> 1000 | G18: =IFERROR(D18/F18,0) -> 3
B19: ='I_Asset List'!C13 -> Commercial Properties | C19: =COUNTIF('I_Asset List'!D$35:D$234,I_Baseline!B19) -> 1 | D19: =SUMIF('I_Asset List'!D$35:D$234,I_Baseline!B19,'I_Asset List'!E$35:E$234) -> 3000 | E19: =D19/$D$36 -> 0.14285714 | F19: =SUMIF('I_Asset List'!D$35:D$234,I_Baseline!B19,'I_Asset List'!F$35:F$234) -> 1000 | G19: =IFERROR(D19/F19,0) -> 3
B20: ='I_Asset List'!C14 -> Community Centres | C20: =COUNTIF('I_Asset List'!D$35:D$234,I_Baseline!B20) -> 1 | D20: =SUMIF('I_Asset List'!D$35:D$234,I_Baseline!B20,'I_Asset List'!E$35:E$234) -> 3000 | E20: =D20/$D$36 -> 0.14285714 | F20: =SUMIF('I_Asset List'!D$35:D$234,I_Baseline!B20,'I_Asset List'!F$35:F$234) -> 1000 | G20: =IFERROR(D20/F20,0) -> 3
B21: ='I_Asset List'!C15 -> Day Centres | C21: =COUNTIF('I_Asset List'!D$35:D$234,I_Baseline!B21) -> 1 | D21: =SUMIF('I_Asset List'!D$35:D$234,I_Baseline!B21,'I_Asset List'!E$35:E$234) -> 3000 | E21: =D21/$D$36 -> 0.14285714 | F21: =SUMIF('I_Asset List'!D$35:D$234,I_Baseline!B21,'I_Asset List'!F$35:F$234) -> 1000 | G21: =IFERROR(D21/F21,0) -> 3
B22: ='I_Asset List'!C16 -> Depots | C22: =COUNTIF('I_Asset List'!D$35:D$234,I_Baseline!B22) -> 1 | D22: =SUMIF('I_Asset List'!D$35:D$234,I_Baseline!B22,'I_Asset List'!E$35:E$234) -> 3000 | E22: =D22/$D$36 -> 0.14285714 | F22: =SUMIF('I_Asset List'!D$35:D$234,I_Baseline!B22,'I_Asset List'!F$35:F$234) -> 1000 | G22: =IFERROR(D22/F22,0) -> 3
B23: ='I_Asset List'!C17 -> 0 | C23: =COUNTIF('I_Asset List'!D$35:D$234,I_Baseline!B23) -> 0 | D23: =SUMIF('I_Asset List'!D$35:D$234,I_Baseline!B23,'I_Asset List'!E$35:E$234) -> 0 | E23: =D23/$D$36 -> 0 | F23: =SUMIF('I_Asset List'!D$35:D$234,I_Baseline!B23,'I_Asset List'!F$35:F$234) -> 0 | G23: =IFERROR(D23/F23,0) -> 0
B24: ='I_Asset List'!C18 -> 0 | C24: =COUNTIF('I_Asset List'!D$35:D$234,I_Baseline!B24) -> 0 | D24: =SUMIF('I_Asset List'!D$35:D$234,I_Baseline!B24,'I_Asset List'!E$35:E$234) -> 0 | E24: =D24/$D$36 -> 0 | F24: =SUMIF('I_Asset List'!D$35:D$234,I_Baseline!B24,'I_Asset List'!F$35:F$234) -> 0 | G24: =IFERROR(D24/F24,0) -> 0
B25: ='I_Asset List'!C19 -> 0 | C25: =COUNTIF('I_Asset List'!D$35:D$234,I_Baseline!B25) -> 0 | D25: =SUMIF('I_Asset List'!D$35:D$234,I_Baseline!B25,'I_Asset List'!E$35:E$234) -> 0 | E25: =D25/$D$36 -> 0 | F25: =SUMIF('I_Asset List'!D$35:D$234,I_Baseline!B25,'I_Asset List'!F$35:F$234) -> 0 | G25: =IFERROR(D25/F25,0) -> 0
B26: ='I_Asset List'!C20 -> 0 | C26: =COUNTIF('I_Asset List'!D$35:D$234,I_Baseline!B26) -> 0 | D26: =SUMIF('I_Asset List'!D$35:D$234,I_Baseline!B26,'I_Asset List'!E$35:E$234) -> 0 | E26: =D26/$D$36 -> 0 | F26: =SUMIF('I_Asset List'!D$35:D$234,I_Baseline!B26,'I_Asset List'!F$35:F$234) -> 0 | G26: =IFERROR(D26/F26,0) -> 0
B27: ='I_Asset List'!C21 -> 0 | C27: =COUNTIF('I_Asset List'!D$35:D$234,I_Baseline!B27) -> 0 | D27: =SUMIF('I_Asset List'!D$35:D$234,I_Baseline!B27,'I_Asset List'!E$35:E$234) -> 0 | E27: =D27/$D$36 -> 0 | F27: =SUMIF('I_Asset List'!D$35:D$234,I_Baseline!B27,'I_Asset List'!F$35:F$234) -> 0 | G27: =IFERROR(D27/F27,0) -> 0
... B35: ='I_Asset List'!C29 -> 0 | C35: =COUNTIF('I_Asset List'!D$35:D$234,I_Baseline!B35) -> 0 | D35: =SUMIF('I_Asset List'!D$35:D$234,I_Baseline!B35,'I_Asset List'!E$35:E$234) -> 0 | E35: =D35/$D$36 -> 0 | F35: =SUMIF('I_Asset List'!D$35:D$234,I_Baseline!B35,'I_Asset List'!F$35:F$234) -> 0 | G35: =IFERROR(D35/F35,0) -> 0
B36: Total | C36: =SUM(C16:C35) -> 7 | D36: =SUM(D16:D35) -> 21000
B40: Electricity Procurement
B42: Electricity consumed directly from on-site generation (kWh reduction) | C42: Technology | D42: Total (KWh)
B43: Site A | C43: Biomass | D43: 3000
B44: [Insert site name]
B45: [Insert site name]
B46: [Insert site name]
B47: [Insert site name]
B48: [Insert site name]
B49: [Insert site name]
B50: [Insert site name]
B51: [Insert site name]
B52: [Insert site name]
B53: On-site generation Total | D53: =SUM(D43:D52) -> 3000
B56: Power Purchase Agreement | C56: Technology | D56: Total (KWh) | E56: Contract Start Date | F56: Contract End Date
B57: PPA Number One | C57: Onshore Wind | D57: 50000 | E57: 45078 | F57: 46266
B58: PPA 2 | C58: Onshore Wind | D58: 50000 | E58: 45078 | F58: 45839
B59: PPA3 | C59: Onshore Wind | D59: 50000 | E59: 45078 | F59: 45839
...

Sheet I_Intervention FCast
D1: `
C2: INTERVENTION FORECAST
C4: Please insert all the relevant information in the yellow and green cells in the tables below. Please do not change any of the other cells.
C5: Targeted interventions for forecast years (kWh reduction)
F6: Reduction calculated as a percentage of current usage or KWh? | H6: Percentage KWh reduction | I6: Cumulative percentage of assets covered | O6: Number of interventions implemented | T6: Local Authority Estimated KWh reduction per intervention | W6: Total estimated reduction (per annum)
C7: Asset Category | E7: Energy efficiency intervention | I7: =I_Baseline!C4+1 -> 2024 | J7: =I7+1 -> 2025 | K7: =J7+1 -> 2026 | L7: =K7+1 -> 2027 | M7: =L7+1 -> 2028 | O7: =I_Baseline!C4+1 -> 2024 | P7: =O7+1 -> 2025 | Q7: =P7+1 -> 2026 | R7: =Q7+1 -> 2027 | S7: =R7+1 -> 2028 | V7: Baseline | W7: =I_Baseline!C4+1 -> 2024 | X7: =W7+1 -> 2025 | Y7: =X7+1 -> 2026 | Z7: =Y7+1 -> 2027 | AA7: =Z7+1 -> 2028
C8: =I_Baseline!B16 -> Admin Buildings /Offices | E8: Building management systems | F8: % | H8: 0.1 | O8: 2 | P8: 4 | Q8: 6 | R8: 7 | S8: 9 | T8: 5 | V8: =I_Baseline!D16 -> 3000 | W8: =IF($F8="KWh",$C9*O8*$T8,$V8*$H8*I8) -> 0 | X8: =IF($F8="KWh",$C9*P8*$T8,$V8*$H8*J8) -> 0 | Y8: =IF($F8="KWh",$C9*Q8*$T8,$V8*$H8*K8) -> 0 | Z8: =IF($F8="KWh",$C9*R8*$T8,$V8*$H8*L8) -> 0 | AA8: =IF($F8="KWh",$C9*S8*$T8,$V8*$H8*M8) -> 0
C9: =IF(C8=0,0,1) -> 1 | E9: Building management systems | F9: % | H9: 0.1 | I9: 0.05 | J9: 0.1 | K9: 0.3 | L9: 0.4 | M9: 0.6 | V9: =V8 -> 3000 | W9: =IF($F9="KWh",$C9*O9*$T9,$V9*$H9*I9) -> 15 | X9: =IF($F9="KWh",$C9*P9*$T9,$V9*$H9*J9) -> 30 | Y9: =IF($F9="KWh",$C9*Q9*$T9,$V9*$H9*K9) -> 90 | Z9: =IF($F9="KWh",$C9*R9*$T9,$V9*$H9*L9) -> 120 | AA9: =IF($F9="KWh",$C9*S9*$T9,$V9*$H9*M9) -> 180
E10: Cooling | F10: KWh | O10: 6 | P10: 4 | Q10: 6 | R10: 7 | S10: 9 | T10: 7 | V10: =V8 -> 3000 | W10: =IF($F10="KWh",$C9*O10*$T10,$V10*$H10*I10) -> 42 | X10: =IF($F10="KWh",$C9*P10*$T10,$V10*$H10*J10) -> 28 | Y10: =IF($F10="KWh",$C9*Q10*$T10,$V10*$H10*K10) -> 42 | Z10: =IF($F10="KWh",$C9*R10*$T10,$V10*$H10*L10) -> 49 | AA10: =IF($F10="KWh",$C9*S10*$T10,$V10*$H10*M10) -> 63
E11: Energy from waste | F11: % | H11: 0.05 | I11: 0.05 | J11: 0.1 | K11: 0.3 | L11: 0.4 | M11: 0.6 | V11: =V8 -> 3000 | W11: =IF($F11="KWh",$C9*O11*$T11,$V11*$H11*I11) -> 7.5 | X11: =IF($F11="KWh",$C9*P11*$T11,$V11*$H11*J11) -> 15 | Y11: =IF($F11="KWh",$C9*Q11*$T11,$V11*$H11*K11) -> 45 | Z11: =IF($F11="KWh",$C9*R11*$T11,$V11*$H11*L11) -> 60 | AA11: =IF($F11="KWh",$C9*S11*$T11,$V11*$H11*M11) -> 90
W12: =SUM(W8:W11) -> 64.5 | X12: =SUM(X8:X11) -> 73 | Y12: =SUM(Y8:Y11) -> 177 | Z12: =SUM(Z8:Z11) -> 229 | AA12: =SUM(AA8:AA11) -> 333
C14: =I_Baseline!B17 -> Car Parks | E14: Boilers | F14: KWh | O14: 2 | P14: 4 | Q14: 6 | R14: 7 | S14: 9 | T14: 5 | V14: =I_Baseline!D17 -> 3000 | W14: =IF($F14="KWh",$C15*O14*$T14,$V14*$H14*I14) -> 10 | X14: =IF($F14="KWh",$C15*P14*$T14,$V14*$H14*J14) -> 20 | Y14: =IF($F14="KWh",$C15*Q14*$T14,$V14*$H14*K14) -> 30 | Z14: =IF($F14="KWh",$C15*R14*$T14,$V14*$H14*L14) -> 35 | AA14: =IF($F14="KWh",$C15*S14*$T14,$V14*$H14*M14) -> 45
C15: =IF(C14=0,0,1) -> 1 | E15: Compressor | F15: % | H15: 0.05 | I15: 0.05 | J15: 0.1 | K15: 0.3 | L15: 0.4 | M15: 0.6 | V15: =V14 -> 3000 | W15: =IF($F15="KWh",$C15*O15*$T15,$V15*$H15*I15) -> 7.5 | X15: =IF($F15="KWh",$C15*P15*$T15,$V15*$H15*J15) -> 15 | Y15: =IF($F15="KWh",$C15*Q15*$T15,$V15*$H15*K15) -> 45 | Z15: =IF($F15="KWh",$C15*R15*$T15,$V15*$H15*L15) -> 60 | AA15: =IF($F15="KWh",$C15*S15*$T15,$V15*$H15*M15) -> 90
E16: Cooling | F16: KWh | O16: 6 | P16: 4 | Q16: 6 | R16: 7 | S16: 9 | T16: 7 | V16: =V14 -> 3000 | W16: =IF($F16="KWh",$C15*O16*$T16,$V16*$H16*I16) -> 42 | X16: =IF($F16="KWh",$C15*P16*$T16,$V16*$H16*J16) -> 28 | Y16: =IF($F16="KWh",$C15*Q16*$T16,$V16*$H16*K16) -> 42 | Z16: =IF($F16="KWh",$C15*R16*$T16,$V16*$H16*L16) -> 49 | AA16: =IF($F16="KWh",$C15*S16*$T16,$V16*$H16*M16) -> 63
E17: Energy from waste | F17: % | H17: 0.05 | I17: 0.05 | J17: 0.1 | K17: 0.3 | L17: 0.4 | M17: 0.6 | V17: =V14 -> 3000 | W17: =IF($F17="KWh",$C15*O17*$T17,$V17*$H17*I17) -> 7.5 | X17: =IF($F17="KWh",$C15*P17*$T17,$V17*$H17*J17) -> 15 | Y17: =IF($F17="KWh",$C15*Q17*$T17,$V17*$H17*K17) -> 45 | Z17: =IF($F17="KWh",$C15*R17*$T17,$V17*$H17*L17) -> 60 | AA17: =IF($F17="KWh",$C15*S17*$T17,$V17*$H17*M17) -> 90
W18: =SUM(W14:W17) -> 67 | X18: =SUM(X14:X17) -> 78 | Y18: =SUM(Y14:Y17) -> 162 | Z18: =SUM(Z14:Z17) -> 204 | AA18: =SUM(AA14:AA17) -> 288
C20: =I_Baseline!B18 -> Care Homes | E20: Boilers | F20: KWh | O20: 2 | P20: 4 | Q20: 6 | R20: 7 | S20: 9 | T20: 5 | V20: =I_Baseline!D18 -> 3000 | W20: =IF($F20="KWh",$C21*O20*$T20,$V20*$H20*I20) -> 10 | X20: =IF($F20="KWh",$C21*P20*$T20,$V20*$H20*J20) -> 20 | Y20: =IF($F20="KWh",$C21*Q20*$T20,$V20*$H20*K20) -> 30 | Z20: =IF($F20="KWh",$C21*R20*$T20,$V20*$H20*L20) -> 35 | AA20: =IF($F20="KWh",$C21*S20*$T20,$V20*$H20*M20) -> 45
C21: =IF(C20=0,0,1) -> 1 | E21: Compressor | F21: % | H21: 0.05 | I21: 0.05 | J21: 0.1 | K21: 0.3 | L21: 0.4 | M21: 0.6 | V21: =V20 -> 3000 | W21: =IF($F21="KWh",$C21*O21*$T21,$V21*$H21*I21) -> 7.5 | X21: =IF($F21="KWh",$C21*P21*$T21,$V21*$H21*J21) -> 15 | Y21: =IF($F21="KWh",$C21*Q21*$T21,$V21*$H21*K21) -> 45 | Z21: =IF($F21="KWh",$C21*R21*$T21,$V21*$H21*L21) -> 60 | AA21: =IF($F21="KWh",$C21*S21*$T21,$V21*$H21*M21) -> 90
E22: Cooling | F22: KWh | O22: 6 | P22: 4 | Q22: 6 | R22: 7 | S22: 9 | T22: 7 | V22: =V20 -> 3000 | W22: =IF($F22="KWh",$C21*O22*$T22,$V22*$H22*I22) -> 42 | X22: =IF($F22="KWh",$C21*P22*$T22,$V22*$H22*J22) -> 28 | Y22: =IF($F22="KWh",$C21*Q22*$T22,$V22*$H22*K22) -> 42 | Z22: =IF($F22="KWh",$C21*R22*$T22,$V22*$H22*L22) -> 49 | AA22: =IF($F22="KWh",$C21*S22*$T22,$V22*$H22*M22) -> 63
E23: Energy from waste | F23: % | H23: 0.05 | I23: 0.05 | J23: 0.1 | K23: 0.3 | L23: 0.4 | M23: 0.6 | V23: =V20 -> 3000 | W23: =IF($F23="KWh",$C21*O23*$T23,$V23*$H23*I23) -> 7.5 | X23: =IF($F23="KWh",$C21*P23*$T23,$V23*$H23*J23) -> 15 | Y23: =IF($F23="KWh",$C21*Q23*$T23,$V23*$H23*K23) -> 45 | Z23: =IF($F23="KWh",$C21*R23*$T23,$V23*$H23*L23) -> 60 | AA23: =IF($F23="KWh",$C21*S23*$T23,$V23*$H23*M23) -> 90
W24: =SUM(W20:W23) -> 67 | X24: =SUM(X20:X23) -> 78 | Y24: =SUM(Y20:Y23) -> 162 | Z24: =SUM(Z20:Z23) -> 204 | AA24: =SUM(AA20:AA23) -> 288
C26: =I_Baseline!B19 -> Commercial Properties | E26: Boilers | F26: KWh | O26: 2 | P26: 4 | Q26: 6 | R26: 7 | S26: 9 | T26: 5 | V26: =I_Baseline!D19 -> 3000 | W26: =IF($F26="KWh",$C27*O26*$T26,$V26*$H26*I26) -> 10 | X26: =IF($F26="KWh",$C27*P26*$T26,$V26*$H26*J26) -> 20 | Y26: =IF($F26="KWh",$C27*Q26*$T26,$V26*$H26*K26) -> 30 | Z26: =IF($F26="KWh",$C27*R26*$T26,$V26*$H26*L26) -> 35 | AA26: =IF($F26="KWh",$C27*S26*$T26,$V26*$H26*M26) -> 45
C27: =IF(C26=0,0,1) -> 1 | E27: Compressor | F27: % | H27: 0.05 | I27: 0.05 | J27: 0.1 | K27: 0.3 | L27: 0.4 | M27: 0.6 | V27: =V26 -> 3000 | W27: =IF($F27="KWh",$C27*O27*$T27,$V27*$H27*I27) -> 7.5 | X27: =IF($F27="KWh",$C27*P27*$T27,$V27*$H27*J27) -> 15 | Y27: =IF($F27="KWh",$C27*Q27*$T27,$V27*$H27*K27) -> 45 | Z27: =IF($F27="KWh",$C27*R27*$T27,$V27*$H27*L27) -> 60 | AA27: =IF($F27="KWh",$C27*S27*$T27,$V27*$H27*M27) -> 90
E28: Cooling | F28: KWh | O28: 6 | P28: 4 | Q28: 6 | R28: 7 | S28: 9 | T28: 7 | V28: =V26 -> 3000 | W28: =IF($F28="KWh",$C27*O28*$T28,$V28*$H28*I28) -> 42 | X28: =IF($F28="KWh",$C27*P28*$T28,$V28*$H28*J28) -> 28 | Y28: =IF($F28="KWh",$C27*Q28*$T28,$V28*$H28*K28) -> 42 | Z28: =IF($F28="KWh",$C27*R28*$T28,$V28*$H28*L28) -> 49 | AA28: =IF($F28="KWh",$C27*S28*$T28,$V28*$H28*M28) -> 63
E29: Energy from waste | F29: % | H29: 0.05 | I29: 0.05 | J29: 0.1 | K29: 0.3 | L29: 0.4 | M29: 0.6 | V29: =V26 -> 3000 | W29: =IF($F29="KWh",$C27*O29*$T29,$V29*$H29*I29) -> 7.5 | X29: =IF($F29="KWh",$C27*P29*$T29,$V29*$H29*J29) -> 15 | Y29: =IF($F29="KWh",$C27*Q29*$T29,$V29*$H29*K29) -> 45 | Z29: =IF($F29="KWh",$C27*R29*$T29,$V29*$H29*L29) -> 60 | AA29: =IF($F29="KWh",$C27*S29*$T29,$V29*$H29*M29) -> 90
W30: =SUM(W26:W29) -> 67 | X30: =SUM(X26:X29) -> 78 | Y30: =SUM(Y26:Y29) -> 162 | Z30: =SUM(Z26:Z29) -> 204 | AA30: =SUM(AA26:AA29) -> 288
C32: =I_Baseline!B20 -> Community Centres | E32: Boilers | F32: KWh | O32: 2 | P32: 4 | Q32: 6 | R32: 7 | S32: 9 | T32: 5 | V32: =I_Baseline!D20 -> 3000 | W32: =IF($F32="KWh",$C33*O32*$T32,$V32*$H32*I32) -> 10 | X32: =IF($F32="KWh",$C33*P32*$T32,$V32*$H32*J32) -> 20 | Y32: =IF($F32="KWh",$C33*Q32*$T32,$V32*$H32*K32) -> 30 | Z32: =IF($F32="KWh",$C33*R32*$T32,$V32*$H32*L32) -> 35 | AA32: =IF($F32="KWh",$C33*S32*$T32,$V32*$H32*M32) -> 45
C33: =IF(C32=0,0,1) -> 1 | E33: Compressor | F33: % | H33: 0.05 | I33: 0.05 | J33: 0.1 | K33: 0.3 | L33: 0.4 | M33: 0.6 | V33: =V32 -> 3000 | W33: =IF($F33="KWh",$C33*O33*$T33,$V33*$H33*I33) -> 7.5 | X33: =IF($F33="KWh",$C33*P33*$T33,$V33*$H33*J33) -> 15 | Y33: =IF($F33="KWh",$C33*Q33*$T33,$V33*$H33*K33) -> 45 | Z33: =IF($F33="KWh",$C33*R33*$T33,$V33*$H33*L33) -> 60 | AA33: =IF($F33="KWh",$C33*S33*$T33,$V33*$H33*M33) -> 90
E34: Cooling | F34: KWh | O34: 6 | P34: 4 | Q34: 6 | R34: 7 | S34: 9 | T34: 7 | V34: =V32 -> 3000 | W34: =IF($F34="KWh",$C33*O34*$T34,$V34*$H34*I34) -> 42 | X34: =IF($F34="KWh",$C33*P34*$T34,$V34*$H34*J34) -> 28 | Y34: =IF($F34="KWh",$C33*Q34*$T34,$V34*$H34*K34) -> 42 | Z34: =IF($F34="KWh",$C33*R34*$T34,$V34*$H34*L34) -> 49 | AA34: =IF($F34="KWh",$C33*S34*$T34,$V34*$H34*M34) -> 63
E35: Energy from waste | F35: % | H35: 0.05 | I35: 0.05 | J35: 0.1 | K35: 0.3 | L35: 0.4 | M35: 0.6 | V35: =V32 -> 3000 | W35: =IF($F35="KWh",$C33*O35*$T35,$V35*$H35*I35) -> 7.5 | X35: =IF($F35="KWh",$C33*P35*$T35,$V35*$H35*J35) -> 15 | Y35: =IF($F35="KWh",$C33*Q35*$T35,$V35*$H35*K35) -> 45 | Z35: =IF($F35="KWh",$C33*R35*$T35,$V35*$H35*L35) -> 60 | AA35: =IF($F35="KWh",$C33*S35*$T35,$V35*$H35*M35) -> 90
W36: =SUM(W32:W35) -> 67 | X36: =SUM(X32:X35) -> 78 | Y36: =SUM(Y32:Y35) -> 162 | Z36: =SUM(Z32:Z35) -> 204 | AA36: =SUM(AA32:AA35) -> 288
C38: =I_Baseline!B21 -> Day Centres | E38: Boilers | F38: KWh | O38: 2 | P38: 4 | Q38: 6 | R38: 7 | S38: 9 | T38: 5 | V38: =I_Baseline!D21 -> 3000 | W38: =IF($F38="KWh",$C39*O38*$T38,$V38*$H38*I38) -> 10 | X38: =IF($F38="KWh",$C39*P38*$T38,$V38*$H38*J38) -> 20 | Y38: =IF($F38="KWh",$C39*Q38*$T38,$V38*$H38*K38) -> 30 | Z38: =IF($F38="KWh",$C39*R38*$T38,$V38*$H38*L38) -> 35 | AA38: =IF($F38="KWh",$C39*S38*$T38,$V38*$H38*M38) -> 45
C39: =IF(C38=0,0,1) -> 1 | E39: Compressor | F39: % | H39: 0.05 | I39: 0.05 | J39: 0.1 | K39: 0.3 | L39: 0.4 | M39: 0.6 | V39: =V38 -> 3000 | W39: =IF($F39="KWh",$C39*O39*$T39,$V39*$H39*I39) -> 7.5 | X39: =IF($F39="KWh",$C39*P39*$T39,$V39*$H39*J39) -> 15 | Y39: =IF($F39="KWh",$C39*Q39*$T39,$V39*$H39*K39) -> 45 | Z39: =IF($F39="KWh",$C39*R39*$T39,$V39*$H39*L39) -> 60 | AA39: =IF($F39="KWh",$C39*S39*$T39,$V39*$H39*M39) -> 90
E40: Cooling | F40: KWh | O40: 6 | P40: 4 | Q40: 6 | R40: 7 | S40: 9 | T40: 7 | V40: =V38 -> 3000 | W40: =IF($F40="KWh",$C39*O40*$T40,$V40*$H40*I40) -> 42 | X40: =IF($F40="KWh",$C39*P40*$T40,$V40*$H40*J40) -> 28 | Y40: =IF($F40="KWh",$C39*Q40*$T40,$V40*$H40*K40) -> 42 | Z40: =IF($F40="KWh",$C39*R40*$T40,$V40*$H40*L40) -> 49 | AA40: =IF($F40="KWh",$C39*S40*$T40,$V40*$H40*M40) -> 63
E41: Energy from waste | F41: % | H41: 0.05 | I41: 0.05 | J41: 0.1 | K41: 0.3 | L41: 0.4 | M41: 0.6 | V41: =V38 -> 3000 | W41: =IF($F41="KWh",$C39*O41*$T41,$V41*$H41*I41) -> 7.5 | X41: =IF($F41="KWh",$C39*P41*$T41,$V41*$H41*J41) -> 15 | Y41: =IF($F41="KWh",$C39*Q41*$T41,$V41*$H41*K41) -> 45 | Z41: =IF($F41="KWh",$C39*R41*$T41,$V41*$H41*L41) -> 60 | AA41: =IF($F41="KWh",$C39*S41*$T41,$V41*$H41*M41) -> 90
W42: =SUM(W38:W41) -> 67 | X42: =SUM(X38:X41) -> 78 | Y42: =SUM(Y38:Y41) -> 162 | Z42: =SUM(Z38:Z41) -> 204 | AA42: =SUM(AA38:AA41) -> 288
C44: =I_Baseline!B22 -> Depots | E44: Boilers | F44: KWh | O44: 2 | P44: 4 | Q44: 6 | R44: 7 | S44: 9 | T44: 5 | V44: =I_Baseline!D22 -> 3000 | W44: =IF($F44="KWh",$C45*O44*$T44,$V44*$H44*I44) -> 10 | X44: =IF($F44="KWh",$C45*P44*$T44,$V44*$H44*J44) -> 20 | Y44: =IF($F44="KWh",$C45*Q44*$T44,$V44*$H44*K44) -> 30 | Z44: =IF($F44="KWh",$C45*R44*$T44,$V44*$H44*L44) -> 35 | AA44: =IF($F44="KWh",$C45*S44*$T44,$V44*$H44*M44) -> 45
C45: =IF(C44=0,0,1) -> 1 | E45: Compressor | F45: % | H45: 0.05 | I45: 0.05 | J45: 0.1 | K45: 0.3 | L45: 0.4 | M45: 0.6 | V45: =V44 -> 3000 | W45: =IF($F45="KWh",$C45*O45*$T45,$V45*$H45*I45) -> 7.5 | X45: =IF($F45="KWh",$C45*P45*$T45,$V45*$H45*J45) -> 15 | Y45: =IF($F45="KWh",$C45*Q45*$T45,$V45*$H45*K45) -> 45 | Z45: =IF($F45="KWh",$C45*R45*$T45,$V45*$H45*L45) -> 60 | AA45: =IF($F45="KWh",$C45*S45*$T45,$V45*$H45*M45) -> 90
E46: Cooling | F46: KWh | O46: 6 | P46: 4 | Q46: 6 | R46: 7 | S46: 9 | T46: 7 | V46: =V44 -> 3000 | W46: =IF($F46="KWh",$C45*O46*$T46,$V46*$H46*I46) -> 42 | X46: =IF($F46="KWh",$C45*P46*$T46,$V46*$H46*J46) -> 28 | Y46: =IF($F46="KWh",$C45*Q46*$T46,$V46*$H46*K46) -> 42 | Z46: =IF($F46="KWh",$C45*R46*$T46,$V46*$H46*L46) -> 49 | AA46: =IF($F46="KWh",$C45*S46*$T46,$V46*$H46*M46) -> 63
E47: Energy from waste | F47: % | H47: 0.05 | I47: 0.05 | J47: 0.1 | K47: 0.3 | L47: 0.4 | M47: 0.6 | V47: =V44 -> 3000 | W47: =IF($F47="KWh",$C45*O47*$T47,$V47*$H47*I47) -> 7.5 | X47: =IF($F47="KWh",$C45*P47*$T47,$V47*$H47*J47) -> 15 | Y47: =IF($F47="KWh",$C45*Q47*$T47,$V47*$H47*K47) -> 45 | Z47: =IF($F47="KWh",$C45*R47*$T47,$V47*$H47*L47) -> 60 | AA47: =IF($F47="KWh",$C45*S47*$T47,$V47*$H47*M47) -> 90
...

Sheet I_Generation and growth FCast
B2: GENERATION AND GROWTH FORECAST
B4: Please insert all the relevant information in the yellow and green cells in the tables below. Please do not change any of the other cells.
D7: Local Authority Estimated generation (KWh)
B8: Renewable Energy - Additional Generation | C8: Project Name/Site | D8: =I_Baseline!C4+1 -> 2024 | E8: =D8+1 -> 2025 | F8: =E8+1 -> 2026 | G8: =F8+1 -> 2027 | H8: =G8+1 -> 2028
B9: Solar PV | C9: blue | D9: 100 | E9: 1000 | F9: 1000 | G9: 1500 | H9: 1500
B10: Solar Thermal | C10: arrow | D10: 100 | E10: 1000 | F10: 500 | G10: 1500 | H10: 1500
B11: Small Hydropower | C11: waterway | D11: 200 | E11: 300 | F11: 400 | G11: 500 | H11: 700
B19: Total | D19: =SUM(D9:D18) -> 400 | E19: =SUM(E9:E18) -> 2300 | F19: =SUM(F9:F18) -> 1900 | G19: =SUM(G9:G18) -> 3500 | H19: =SUM(H9:H18) -> 3700
F22: Increase assumed to apply to the category as a whole
B23: Growth (KWh increase) | M23: Please don’t amend
F24: Local Authority Estimated Increase (KWh or %) | M24: =C_Lists!AF5 -> Admin Buildings /Offices
B25: Asset Category | C25: Type of Growth | D25: Project Name/Site | E25: Increase in KWh or %? | F25: =I_Baseline!C4+1 -> 2024 | G25: =F25+1 -> 2025 | H25: =G25+1 -> 2026 | I25: =H25+1 -> 2027 | J25: =I25+1 -> 2028 | N25: 2023 | O25: 2024 | P25: 2025 | Q25: 2026 | R25: 2027
B26: Admin Buildings /Offices | C26: Expansion Council Buildings | D26: a | E26: % | F26: 0.02 | G26: 0.02 | H26: 0.02 | I26: 0.02 | J26: 0.02 | M26: % | N26: =SUMIFS(F$26:F$46,$B$26:$B$46,$M24,$E$26:$E$46,"%") -> 0.02 | O26: =SUMIFS(G$26:G$46,$B$26:$B$46,$M24,$E$26:$E$46,"%") -> 0.02 | P26: =SUMIFS(H$26:H$46,$B$26:$B$46,$M24,$E$26:$E$46,"%") -> 0.02 | Q26: =SUMIFS(I$26:I$46,$B$26:$B$46,$M24,$E$26:$E$46,"%") -> 0.02 | R26: =SUMIFS(J$26:J$46,$B$26:$B$46,$M24,$E$26:$E$46,"%") -> 0.02
B27: Car Parks | C27: Heat Provision | D27: b | E27: KWh | F27: 500 | G27: 500 | H27: 500 | I27: 500 | J27: 500 | M27: KWh | N27: =SUMIFS(F$26:F$46,$B$26:$B$46,$M24,$E$26:$E$46,"KWh") -> 0 | O27: =SUMIFS(G$26:G$46,$B$26:$B$46,$M24,$E$26:$E$46,"KWh") -> 0 | P27: =SUMIFS(H$26:H$46,$B$26:$B$46,$M24,$E$26:$E$46,"KWh") -> 0 | Q27: =SUMIFS(I$26:I$46,$B$26:$B$46,$M24,$E$26:$E$46,"KWh") -> 0 | R27: =SUMIFS(J$26:J$46,$B$26:$B$46,$M24,$E$26:$E$46,"KWh") -> 0
B28: Care Homes | C28: EV Infrastructure | D28: c | E28: % | F28: 0.03 | G28: 0.03 | H28: 0.03 | I28: 0.03 | J28: 0.03
B29: Commercial Properties | C29: EV Infrastructure | D29: c | E29: KWh | F29: =F27+500 -> 1000 | G29: 500 | H29: 500 | I29: 500 | J29: 500 | M29: =C_Lists!AF6 -> Car Parks
B30: Community Centres | C30: EV Infrastructure | D30: c | E30: % | F30: =F28+2% -> 0.05 | G30: 0.02 | H30: 0.02 | I30: 0.02 | J30: 0.02 | N30: 2023 | O30: 2024 | P30: 2025 | Q30: 2026 | R30: 2027
B31: Day Centres | C31: EV Infrastructure | D31: c | E31: KWh | F31: =F29+500 -> 1500 | G31: 500 | H31: 500 | I31: 500 | J31: 500 | M31: % | N31: =SUMIFS(F$26:F$46,$B$26:$B$46,$M29,$E$26:$E$46,"%") -> 0 | O31: =SUMIFS(G$26:G$46,$B$26:$B$46,$M29,$E$26:$E$46,"%") -> 0 | P31: =SUMIFS(H$26:H$46,$B$26:$B$46,$M29,$E$26:$E$46,"%") -> 0 | Q31: =SUMIFS(I$26:I$46,$B$26:$B$46,$M29,$E$26:$E$46,"%") -> 0 | R31: =SUMIFS(J$26:J$46,$B$26:$B$46,$M29,$E$26:$E$46,"%") -> 0
B32: Depots | C32: EV Infrastructure | D32: c | E32: KWh | F32: =F30+500 -> 500.05 | G32: 500 | H32: 500 | I32: 500 | J32: 500 | M32: KWh | N32: =SUMIFS(F$26:F$46,$B$26:$B$46,$M29,$E$26:$E$46,"KWh") -> 500 | O32: =SUMIFS(G$26:G$46,$B$26:$B$46,$M29,$E$26:$E$46,"KWh") -> 500 | P32: =SUMIFS(H$26:H$46,$B$26:$B$46,$M29,$E$26:$E$46,"KWh") -> 500 | Q32: =SUMIFS(I$26:I$46,$B$26:$B$46,$M29,$E$26:$E$46,"KWh") -> 500 | R32: =SUMIFS(J$26:J$46,$B$26:$B$46,$M29,$E$26:$E$46,"KWh") -> 500
B33: Galleries & Theatres | C33: EV Infrastructure | D33: c | E33: % | F33: =2% -> 0.02 | G33: 0.02 | H33: 0.02 | I33: 0.02 | J33: 0.02
B34: Industrial Estates | C34: EV Infrastructure | D34: c | E34: % | F34: =2% -> 0.02 | G34: 0.02 | H34: 0.02 | I34: 0.02 | J34: 0.02 | M34: =C_Lists!AF7 -> Care Homes
B35: Leisure Centres/Pool | C35: EV Infrastructure | D35: c | E35: KWh | F35: =F33+500 -> 500.02 | G35: 500 | H35: 500 | I35: 500 | J35: 500 | N35: 2023 | O35: 2024 | P35: 2025 | Q35: 2026 | R35: 2027
B36: Libraries | C36: EV Infrastructure | D36: c | E36: % | F36: =F34+2% -> 0.04 | G36: 0.03 | H36: 0.03 | I36: 0.03 | J36: 0.03 | M36: % | N36: =SUMIFS(F$26:F$46,$B$26:$B$46,$M34,$E$26:$E$46,"%") -> 0.03 | O36: =SUMIFS(G$26:G$46,$B$26:$B$46,$M34,$E$26:$E$46,"%") -> 0.03 | P36: =SUMIFS(H$26:H$46,$B$26:$B$46,$M34,$E$26:$E$46,"%") -> 0.03 | Q36: =SUMIFS(I$26:I$46,$B$26:$B$46,$M34,$E$26:$E$46,"%") -> 0.03 | R36: =SUMIFS(J$26:J$46,$B$26:$B$46,$M34,$E$26:$E$46,"%") -> 0.03
B37: Markets | C37: EV Infrastructure | D37: c | E37: KWh | F37: =F35+500 -> 1000.02 | G37: 500 | H37: 500 | I37: 500 | J37: 500 | M37: KWh | N37: =SUMIFS(F$26:F$46,$B$26:$B$46,$M34,$E$26:$E$46,"KWh") -> 0 | O37: =SUMIFS(G$26:G$46,$B$26:$B$46,$M34,$E$26:$E$46,"KWh") -> 0 | P37: =SUMIFS(H$26:H$46,$B$26:$B$46,$M34,$E$26:$E$46,"KWh") -> 0 | Q37: =SUMIFS(I$26:I$46,$B$26:$B$46,$M34,$E$26:$E$46,"KWh") -> 0 | R37: =SUMIFS(J$26:J$46,$B$26:$B$46,$M34,$E$26:$E$46,"KWh") -> 0
B38: Museums | C38: EV Infrastructure | D38: c | E38: % | F38: =F36+2% -> 0.06 | G38: 0.02 | H38: 0.02 | I38: 0.02 | J38: 0.02
B39: Parks | C39: EV Infrastructure | D39: c | E39: KWh | F39: =F37+500 -> 1500.02 | G39: 500 | H39: 500 | I39: 500 | J39: 500 | M39: =C_Lists!AF8 -> Commercial Properties
B40: Primary Schools | C40: EV Infrastructure | D40: c | E40: % | F40: =F38+2% -> 0.08 | G40: 0.03 | H40: 0.03 | I40: 0.03 | J40: 0.03 | N40: 2023 | O40: 2024 | P40: 2025 | Q40: 2026 | R40: 2027
B41: Public Conveniences | C41: EV Infrastructure | D41: c | E41: KWh | F41: =F39+500 -> 2000.02 | G41: 500 | H41: 500 | I41: 500 | J41: 500 | M41: % | N41: =SUMIFS(F$26:F$46,$B$26:$B$46,$M39,$E$26:$E$46,"%") -> 0 | O41: =SUMIFS(G$26:G$46,$B$26:$B$46,$M39,$E$26:$E$46,"%") -> 0 | P41: =SUMIFS(H$26:H$46,$B$26:$B$46,$M39,$E$26:$E$46,"%") -> 0 | Q41: =SUMIFS(I$26:I$46,$B$26:$B$46,$M39,$E$26:$E$46,"%") -> 0 | R41: =SUMIFS(J$26:J$46,$B$26:$B$46,$M39,$E$26:$E$46,"%") -> 0
B42: Secondary Schools | C42: EV Infrastructure | D42: c | E42: KWh | F42: =F40+500 -> 500.08 | G42: 500 | H42: 500 | I42: 500 | J42: 500 | M42: KWh | N42: =SUMIFS(F$26:F$46,$B$26:$B$46,$M39,$E$26:$E$46,"KWh") -> 1000 | O42: =SUMIFS(G$26:G$46,$B$26:$B$46,$M39,$E$26:$E$46,"KWh") -> 500 | P42: =SUMIFS(H$26:H$46,$B$26:$B$46,$M39,$E$26:$E$46,"KWh") -> 500 | Q42: =SUMIFS(I$26:I$46,$B$26:$B$46,$M39,$E$26:$E$46,"KWh") -> 500 | R42: =SUMIFS(J$26:J$46,$B$26:$B$46,$M39,$E$26:$E$46,"KWh") -> 500
B43: Street lighting | C43: EV Infrastructure | D43: c | E43: % | F43: =F40+2% -> 0.1 | G43: 0.02 | H43: 0.02 | I43: 0.02 | J43: 0.02
B44: Cat19 | C44: EV Infrastructure | D44: c | E44: KWh | F44: =F42+500 -> 1000.08 | G44: 500 | H44: 500 | I44: 500 | J44: 500 | M44: =C_Lists!AF9 -> Community Centres
B45: Cat19 | C45: EV Infrastructure | D45: c | E45: % | F45: =F43+2% -> 0.12 | G45: 0.03 | H45: 0.03 | I45: 0.03 | J45: 0.03 | N45: 2023 | O45: 2024 | P45: 2025 | Q45: 2026 | R45: 2027
B46: Cat19 | C46: EV Infrastructure | D46: c | E46: KWh | F46: =F44+500 -> 1500.08 | G46: 500 | H46: 500 | I46: 500 | J46: 500 | M46: % | N46: =SUMIFS(F$26:F$46,$B$26:$B$46,$M44,$E$26:$E$46,"%") -> 0.05 | O46: =SUMIFS(G$26:G$46,$B$26:$B$46,$M44,$E$26:$E$46,"%") -> 0.02 | P46: =SUMIFS(H$26:H$46,$B$26:$B$46,$M44,$E$26:$E$46,"%") -> 0.02 | Q46: =SUMIFS(I$26:I$46,$B$26:$B$46,$M44,$E$26:$E$46,"%") -> 0.02 | R46: =SUMIFS(J$26:J$46,$B$26:$B$46,$M44,$E$26:$E$46,"%") -> 0.02
M47: KWh | N47: =SUMIFS(F$26:F$46,$B$26:$B$46,$M44,$E$26:$E$46,"KWh") -> 0 | O47: =SUMIFS(G$26:G$46,$B$26:$B$46,$M44,$E$26:$E$46,"KWh") -> 0 | P47: =SUMIFS(H$26:H$46,$B$26:$B$46,$M44,$E$26:$E$46,"KWh") -> 0 | Q47: =SUMIFS(I$26:I$46,$B$26:$B$46,$M44,$E$26:$E$46,"KWh") -> 0 | R47: =SUMIFS(J$26:J$46,$B$26:$B$46,$M44,$E$26:$E$46,"KWh") -> 0
M49: =C_Lists!AF10 -> Day Centres
N50: 2023 | O50: 2024 | P50: 2025 | Q50: 2026 | R50: 2027
M51: % | N51: =SUMIFS(F$26:F$46,$B$26:$B$46,$M49,$E$26:$E$46,"%") -> 0 | O51: =SUMIFS(G$26:G$46,$B$26:$B$46,$M49,$E$26:$E$46,"%") -> 0 | P51: =SUMIFS(H$26:H$46,$B$26:$B$46,$M49,$E$26:$E$46,"%") -> 0 | Q51: =SUMIFS(I$26:I$46,$B$26:$B$46,$M49,$E$26:$E$46,"%") -> 0 | R51: =SUMIFS(J$26:J$46,$B$26:$B$46,$M49,$E$26:$E$46,"%") -> 0
M52: KWh | N52: =SUMIFS(F$26:F$46,$B$26:$B$46,$M49,$E$26:$E$46,"KWh") -> 1500 | O52: =SUMIFS(G$26:G$46,$B$26:$B$46,$M49,$E$26:$E$46,"KWh") -> 500 | P52: =SUMIFS(H$26:H$46,$B$26:$B$46,$M49,$E$26:$E$46,"KWh") -> 500 | Q52: =SUMIFS(I$26:I$46,$B$26:$B$46,$M49,$E$26:$E$46,"KWh") -> 500 | R52: =SUMIFS(J$26:J$46,$B$26:$B$46,$M49,$E$26:$E$46,"KWh") -> 500
B53: Data tables - Please don’t amend
M54: =C_Lists!AF11 -> Depots
...

Sheet I_Energy Procurement
B2: PROCUREMENT PLAN
AN3: Workings - do not amend
B5: PURCHASING SUMMARY | AV5: 1 sep 26
AU6: f25: | AV6: =F25 -> 46997
C7: =I_Baseline!C4+1 -> 2024 | D7: =C7+1 -> 2025 | E7: =D7+1 -> 2026 | F7: =E7+1 -> 2027 | G7: =F7+1 -> 2028 | AR7: =IF(AND(AR11=1,AR13=0)=TRUE,1,0) -> 0
AR8: =EDATE(DATE(I_Baseline!$C$4,1,1),12) -> 45292 | AT8: =AR9 -> 45658 | AV8: =AT9 -> 46023 | AX8: =AV9 -> 46388 | AZ8: =AX9 -> 46753
B9: Net Energy requirement to be purchased | C9: ='C_Projection '!H162 -> 22956.55 | D9: ='C_Projection '!I162 -> 24751.81 | E9: ='C_Projection '!J162 -> 28239.862 | F9: ='C_Projection '!K162 -> 29418.426 | G9: ='C_Projection '!L162 -> 31380.211 | AR9: =EDATE(AR8,12) -> 45658 | AT9: =EDATE(AT8,12) -> 46023 | AV9: =EDATE(AV8,12) -> 46388 | AX9: =EDATE(AX8,12) -> 46753 | AZ9: =EDATE(AZ8,12) -> 47119
AN10: 25 | AO10: is contract start date after the end of relevant year? | AR10: =IF($E$25>=$AR$9,1,0) -> 1 | AT10: =IF($E$25>=AT$9,1,0) -> 1 | AV10: =IF($E$25>=AV$9,1,0) -> 0 | AX10: =IF($E$25>=AX$9,1,0) -> 0 | AZ10: =IF($E$25>=AZ$9,1,0) -> 0
B11: Energy purchased via PPA | C11: =-V35 -> -450000 | D11: =-W35 -> -223150.68 | E11: =-X35 -> -29315.068 | F11: =-Y35 -> -50000 | G11: =-Z35 -> -33424.658 | AO11: is contract start date before beginning of relevant year? | AR11: =IF($E$25<=$AR$8,1,0) -> 0 | AT11: =IF($E$25<=AT$8,1,0) -> 0 | AV11: =IF($E$25<=AV$8,1,0) -> 0 | AX11: =IF($E$25<=AX$8,1,0) -> 1 | AZ11: =IF($E$25<=AZ$8,1,0) -> 1
AO12: is contract end date before beginning of relevant year | AR12: =IF($F$25<=$AR$8,1,0) -> 0 | AT12: =IF($F$25<=AT$8,1,0) -> 0 | AV12: =IF($F$25<=AV$8,1,0) -> 0 | AX12: =IF($F$25<=AX$8,1,0) -> 0 | AZ12: =IF($F$25<=AZ$8,1,0) -> 0
B13: Energy purchased via Supply Agreement | C13: =-V61 -> -157500 | D13: =-W61 -> -157068.49 | E13: =-X61 -> 0 | F13: =-Y61 -> 0 | G13: =-Z61 -> 0 | AO13: is contract end date before end of relevant year? | AR13: =IF($F$25<=$AR$9,1,0) -> 0 | AT13: =IF($F$25<=AT$9,1,0) -> 0 | AV13: =IF($F$25<=AV$9,1,0) -> 0 | AX13: =IF($F$25<=AX$9,1,0) -> 0 | AZ13: =IF($F$25<=AZ$9,1,0) -> 1
AR14: Scen | AS14: Value | AT14: Scen | AU14: Value | AV14: Scen | AW14: Value | AX14: Scen | AY14: Value | AZ14: Scen | BA14: Value
B15: Net Variance | C15: =SUM(C9:C13) -> -584543.45 | D15: =SUM(D9:D13) -> -355467.37 | E15: =SUM(E9:E13) -> -1075.2064 | F15: =SUM(F9:F13) -> -20581.574 | G15: =SUM(G9:G13) -> -2044.447 | AP15: scenario 1 | AR15: =IF(AND(AR11=1,AR13=0)=TRUE,1,0) -> 0 | AS15: 1 | AT15: =IF(AND(AT11=1,AT13=0)=TRUE,1,0) -> 0 | AU15: 1 | AV15: =IF(AND(AV11=1,AV13=0)=TRUE,1,0) -> 0 | AW15: 1 | AX15: =IF(AND(AX11=1,AX13=0)=TRUE,1,0) -> 1 | AY15: 1 | AZ15: =IF(AND(AZ11=1,AZ13=0)=TRUE,1,0) -> 0 | BA15: 1
AP16: scenario 5,6 | AR16: =IF(AND(AR11=1,AR12=1,AR13=1),1,0)+AR10 -> 1 | AS16: 0 | AT16: =IF(AND(AT11=1,AT12=1,AT13=1),1,0)+AT10 -> 1 | AU16: 0 | AV16: =IF(AND(AV11=1,AV12=1,AV13=1),1,0)+AV10 -> 0 | AW16: 0 | AX16: =IF(AND(AX11=1,AX12=1,AX13=1),1,0)+AX10 -> 0 | AY16: 0 | AZ16: =IF(AND(AZ11=1,AZ12=1,AZ13=1),1,0)+AZ10 -> 0 | BA16: 0
AP17: senario 2 | AR17: =IF(AND(AR11=1,AR12=0,AR13=1),1,0) -> 0 | AS17: =($F25-AR$8+1)/365 -> 4.6739726 | AT17: =IF(AND(AT11=1,AT12=0,AT13=1),1,0) -> 0 | AU17: =($F25-AT$8)/365 -> 3.6684932 | AV17: =IF(AND(AV11=1,AV12=0,AV13=1),1,0) -> 0 | AW17: =($F25-AV$8)/365 -> 2.6684932 | AX17: =IF(AND(AX11=1,AX12=0,AX13=1),1,0) -> 0 | AY17: =($F25-AX$8)/365 -> 1.6684932 | AZ17: =IF(AND(AZ11=1,AZ12=0,AZ13=1),1,0) -> 1 | BA17: =($F25-AZ$8)/365 -> 0.66849315
B18: Please insert all the relevant information in the yellow and green cells in the tables below. Please do not change any of the other cells. | AP18: scenario 3 | AR18: =IF(AND(AR10=0,AR11=0,AR13=0),1,0) -> 0 | AS18: =(AR$9-$E25)/365 -> -1.4136986 | AT18: =IF(AND(AT10=0,AT11=0,AT13=0),1,0) -> 0 | AU18: =(AT$9-$E25)/365 -> -0.41369863 | AV18: =IF(AND(AV10=0,AV11=0,AV13=0),1,0) -> 1 | AW18: =(AV$9-$E25)/365 -> 0.58630137 | AX18: =IF(AND(AX10=0,AX11=0,AX13=0),1,0) -> 0 | AY18: =(AX$9-$E25)/365 -> 1.5863014 | AZ18: =IF(AND(AZ10=0,AZ11=0,AZ13=0),1,0) -> 0 | BA18: =(AZ$9-$E25)/365 -> 2.5890411
AP19: scenario 4 | AR19: =IF(AND(AR11=0,AR13=1),1,0) -> 0 | AS19: =(F25-$E25)/365 -> 2.2547945 | AT19: =IF(AND(AT11=0,AT13=1),1,0) -> 0 | AU19: =($F25-$E25)/365 -> 2.2547945 | AV19: =IF(AND(AV11=0,AV13=1),1,0) -> 0 | AW19: =($F25-$E25)/365 -> 2.2547945 | AX19: =IF(AND(AX11=0,AX13=1),1,0) -> 0 | AY19: =($F25-$E25)/365 -> 2.2547945 | AZ19: =IF(AND(AZ11=0,AZ13=1),1,0) -> 0 | BA19: =($F25-$E25)/365 -> 2.2547945
C20: Supply Agreement purchase exceeds minimum consumption tolerance
C21: =-C13>=AB61 -> TRUE | D21: =-D13>=AC61 -> TRUE | E21: =-E13>=AD61 -> TRUE | F21: =-F13>=AE61 -> TRUE | G21: =-G13>=AF61 -> TRUE | AN21: 26 | AO21: is contract start date after the end of relevant year? | AR21: =IF($E$26>=$AR$9,1,0) -> 0 | AT21: =IF($E$26>=AT$9,1,0) -> 0 | AV21: =IF($E$26>=AV$9,1,0) -> 0 | AX21: =IF($E$26>=AX$9,1,0) -> 0 | AZ21: =IF($E$26>=AZ$9,1,0) -> 0
B22: Procurement via PPA | AO22: is contract start date before beginning of relevant year? | AR22: =IF($E$26<=$AR$8,1,0) -> 1 | AT22: =IF($E$26<=AT$8,1,0) -> 1 | AV22: =IF($E$26<=AV$8,1,0) -> 1 | AX22: =IF($E$26<=AX$8,1,0) -> 1 | AZ22: =IF($E$26<=AZ$8,1,0) -> 1
G23: Power purchased | P23: Year Flags - linked to contract dates | V23: Power purchased | AO23: is contract end date before beginning of relevant year | AR23: =IF($F$26<=$AR$8,1,0) -> 0 | AT23: =IF($F$26<=AT$8,1,0) -> 0 | AV23: =IF($F$26<=AV$8,1,0) -> 1 | AX23: =IF($F$26<=AX$8,1,0) -> 1 | AZ23: =IF($F$26<=AZ$8,1,0) -> 1
B24: Power Purchase Agreement | C24: Technology | D24: Total (kWh) | E24: Contract Start Date | F24: Contract End Date | G24: =V24 -> 2024 | H24: =W24 -> 2025 | I24: =X24 -> 2026 | J24: =Y24 -> 2027 | K24: =Z24 -> 2028 | P24: =I_Baseline!C4+1 -> 2024 | Q24: =P24+1 -> 2025 | R24: =Q24+1 -> 2026 | S24: =R24+1 -> 2027 | T24: =S24+1 -> 2028 | V24: =P24 -> 2024 | W24: =Q24 -> 2025 | X24: =R24 -> 2026 | Y24: =S24 -> 2027 | Z24: =T24 -> 2028 | AO24: is contract end date before end of relevant year? | AR24: =IF($F$26<=$AR$9,1,0) -> 0 | AT24: =IF($F$26<=AT$9,1,0) -> 1 | AV24: =IF($F$26<=AV$9,1,0) -> 1 | AX24: =IF($F$26<=AX$9,1,0) -> 1 | AZ24: =IF($F$26<=AZ$9,1,0) -> 1
B25: =I_Baseline!B57 -> PPA Number One | C25: =IF(I_Baseline!C57=0,"",I_Baseline!C57) -> Onshore Wind | D25: =IF(I_Baseline!D57=0,"",I_Baseline!D57) -> 50000 | E25: 46174 | F25: 46997 | G25: =V25 -> 0 | H25: =W25 -> 0 | I25: =X25 -> 29315.068 | J25: =Y25 -> 50000 | K25: =Z25 -> 33424.658 | P25: =SUMPRODUCT(AR$15:AR$19,AS$15:AS$19) -> 0 | Q25: =SUMPRODUCT(AT$15:AT$19,AU$15:AU$19) -> 0 | R25: =SUMPRODUCT(AV$15:AV$19,AW$15:AW$19) -> 0.58630137 | S25: =SUMPRODUCT(AX$15:AX$19,AY$15:AY$19) -> 1 | T25: =SUMPRODUCT(AZ$15:AZ$19,BA$15:BA$19) -> 0.66849315 | V25: =IFERROR(P25*$D25,"") -> 0 | W25: =IFERROR(Q25*$D25,"") -> 0 | X25: =IFERROR(R25*$D25,"") -> 29315.068 | Y25: =IFERROR(S25*$D25,"") -> 50000 | Z25: =IFERROR(T25*$D25,"") -> 33424.658 | AR25: Scen | AS25: Value | AT25: Scen | AU25: Value | AV25: Scen | AW25: Value | AX25: Scen | AY25: Value | AZ25: Scen | BA25: Value
B26: =I_Baseline!B58 -> PPA 2 | C26: =IF(I_Baseline!C58=0,"",I_Baseline!C58) -> Onshore Wind | D26: =IF(I_Baseline!D58=0,"",I_Baseline!D58) -> 50000 | E26: =IF(I_Baseline!E58=0,"",I_Baseline!E58) -> 45078 | F26: =IF(I_Baseline!F58=0,"",I_Baseline!F58) -> 45839 | G26: =V26 -> 50000 | H26: =W26 -> 24794.521 | I26: =X26 -> 0 | J26: =Y26 -> 0 | K26: =Z26 -> 0 | P26: =SUMPRODUCT(AR$26:AR$30,AS$26:AS$30) -> 1 | Q26: =SUMPRODUCT(AT$26:AT$30,AU$26:AU$30) -> 0.49589041 | R26: =SUMPRODUCT(AV$26:AV$30,AW$26:AW$30) -> 0 | S26: =SUMPRODUCT(AX$26:AX$30,AY$26:AY$30) -> 0 | T26: =SUMPRODUCT(AZ$26:AZ$30,BA$26:BA$30) -> 0 | V26: =IFERROR(P26*$D26,"") -> 50000 | W26: =IFERROR(Q26*$D26,"") -> 24794.521 | X26: =IFERROR(R26*$D26,"") -> 0 | Y26: =IFERROR(S26*$D26,"") -> 0 | Z26: =IFERROR(T26*$D26,"") -> 0 | AP26: scenario 1 | AR26: =IF(AND(AR22=1,AR24=0)=TRUE,1,0) -> 1 | AS26: 1 | AT26: =IF(AND(AT22=1,AT24=0)=TRUE,1,0) -> 0 | AU26: 1 | AV26: =IF(AND(AV22=1,AV24=0)=TRUE,1,0) -> 0 | AW26: 1 | AX26: =IF(AND(AX22=1,AX24=0)=TRUE,1,0) -> 0 | AY26: 1 | AZ26: =IF(AND(AZ22=1,AZ24=0)=TRUE,1,0) -> 0 | BA26: 1
B27: =I_Baseline!B59 -> PPA3 | C27: =IF(I_Baseline!C59=0,"",I_Baseline!C59) -> Onshore Wind | D27: =IF(I_Baseline!D59=0,"",I_Baseline!D59) -> 50000 | E27: =IF(I_Baseline!E59=0,"",I_Baseline!E59) -> 45078 | F27: =IF(I_Baseline!F59=0,"",I_Baseline!F59) -> 45839 | G27: =V27 -> 50000 | H27: =W27 -> 24794.521 | I27: =X27 -> 0 | J27: =Y27 -> 0 | K27: =Z27 -> 0 | P27: =SUMPRODUCT(AR$37:AR$41,AS$37:AS$41) -> 1 | Q27: =SUMPRODUCT(AT$37:AT$41,AU$37:AU$41) -> 0.49589041 | R27: =SUMPRODUCT(AV$37:AV$41,AW$37:AW$41) -> 0 | S27: =SUMPRODUCT(AX$37:AX$41,AY$37:AY$41) -> 0 | T27: =SUMPRODUCT(AZ$37:AZ$41,BA$37:BA$41) -> 0 | V27: =IFERROR(P27*$D27,"") -> 50000 | W27: =IFERROR(Q27*$D27,"") -> 24794.521 | X27: =IFERROR(R27*$D27,"") -> 0 | Y27: =IFERROR(S27*$D27,"") -> 0 | Z27: =IFERROR(T27*$D27,"") -> 0 | AP27: scenario 5,6 | AR27: =IF(AND(AR22=1,AR23=1,AR24=1),1,0)+AR21 -> 0 | AS27: 0 | AT27: =IF(AND(AT22=1,AT23=1,AT24=1),1,0)+AT21 -> 0 | AU27: 0 | AV27: =IF(AND(AV22=1,AV23=1,AV24=1),1,0)+AV21 -> 1 | AW27: 0 | AX27: =IF(AND(AX22=1,AX23=1,AX24=1),1,0)+AX21 -> 1 | AY27: 0 | AZ27: =IF(AND(AZ22=1,AZ23=1,AZ24=1),1,0)+AZ21 -> 1 | BA27: 0
B28: =I_Baseline!B60 -> PPA4 | C28: =IF(I_Baseline!C60=0,"",I_Baseline!C60) -> Onshore Wind | D28: =IF(I_Baseline!D60=0,"",I_Baseline!D60) -> 50000 | E28: =IF(I_Baseline!E60=0,"",I_Baseline!E60) -> 45078 | F28: =IF(I_Baseline!F60=0,"",I_Baseline!F60) -> 45839 | G28: =V28 -> 50000 | H28: =W28 -> 24794.521 | I28: =X28 -> 0 | J28: =Y28 -> 0 | K28: =Z28 -> 0 | P28: =SUMPRODUCT(AR$48:AR$52,AS$48:AS$52) -> 1 | Q28: =SUMPRODUCT(AT$48:AT$52,AU$48:AU$52) -> 0.49589041 | R28: =SUMPRODUCT(AV$48:AV$52,AW$48:AW$52) -> 0 | S28: =SUMPRODUCT(AX$48:AX$52,AY$48:AY$52) -> 0 | T28: =SUMPRODUCT(AZ$48:AZ$52,BA$48:BA$52) -> 0 | V28: =IFERROR(P28*$D28,"") -> 50000 | W28: =IFERROR(Q28*$D28,"") -> 24794.521 | X28: =IFERROR(R28*$D28,"") -> 0 | Y28: =IFERROR(S28*$D28,"") -> 0 | Z28: =IFERROR(T28*$D28,"") -> 0 | AP28: senario 2 | AR28: =IF(AND(AR22=1,AR23=0,AR24=1),1,0) -> 0 | AS28: =($F26-AR$8+1)/365 -> 1.5013699 | AT28: =IF(AND(AT22=1,AT23=0,AT24=1),1,0) -> 1 | AU28: =($F26-AT$8)/365 -> 0.49589041 | AV28: =IF(AND(AV22=1,AV23=0,AV24=1),1,0) -> 0 | AW28: =($F26-AV$8)/365 -> -0.50410959 | AX28: =IF(AND(AX22=1,AX23=0,AX24=1),1,0) -> 0 | AY28: =($F26-AX$8)/365 -> -1.5041096 | AZ28: =IF(AND(AZ22=1,AZ23=0,AZ24=1),1,0) -> 0 | BA28: =($F26-AZ$8)/365 -> -2.5041096
B29: =I_Baseline!B61 -> PPA5 | C29: =IF(I_Baseline!C61=0,"",I_Baseline!C61) -> Onshore Wind | D29: =IF(I_Baseline!D61=0,"",I_Baseline!D61) -> 50000 | E29: =IF(I_Baseline!E61=0,"",I_Baseline!E61) -> 45078 | F29: =IF(I_Baseline!F61=0,"",I_Baseline!F61) -> 45839 | G29: =V29 -> 50000 | H29: =W29 -> 24794.521 | I29: =X29 -> 0 | J29: =Y29 -> 0 | K29: =Z29 -> 0 | P29: =SUMPRODUCT(AR$59:AR$63,AS$59:AS$63) -> 1 | Q29: =SUMPRODUCT(AT$59:AT$63,AU$59:AU$63) -> 0.49589041 | R29: =SUMPRODUCT(AV$59:AV$63,AW$59:AW$63) -> 0 | S29: =SUMPRODUCT(AX$59:AX$63,AY$59:AY$63) -> 0 | T29: =SUMPRODUCT(AZ$59:AZ$63,BA$59:BA$63) -> 0 | V29: =IFERROR(P29*$D29,"") -> 50000 | W29: =IFERROR(Q29*$D29,"") -> 24794.521 | X29: =IFERROR(R29*$D29,"") -> 0 | Y29: =IFERROR(S29*$D29,"") -> 0 | Z29: =IFERROR(T29*$D29,"") -> 0 | AP29: scenario 3 | AR29: =IF(AND(AR21=0,AR22=0,AR24=0),1,0) -> 0 | AS29: =(AR$9-$E26)/365 -> 1.5890411 | AT29: =IF(AND(AT21=0,AT22=0,AT24=0),1,0) -> 0 | AU29: =(AT$9-$E26)/365 -> 2.5890411 | AV29: =IF(AND(AV21=0,AV22=0,AV24=0),1,0) -> 0 | AW29: =(AV$9-$E26)/365 -> 3.5890411 | AX29: =IF(AND(AX21=0,AX22=0,AX24=0),1,0) -> 0 | AY29: =(AX$9-$E26)/365 -> 4.5890411 | AZ29: =IF(AND(AZ21=0,AZ22=0,AZ24=0),1,0) -> 0 | BA29: =(AZ$9-$E26)/365 -> 5.5917808
B30: [Insert name of PPA] | C30: Onshore Wind | D30: 50000 | E30: 45078 | F30: 45839 | G30: =V30 -> 50000 | H30: =W30 -> 24794.521 | I30: =X30 -> 0 | J30: =Y30 -> 0 | K30: =Z30 -> 0 | P30: =SUMPRODUCT(AR$70:AR$74,AS$70:AS$74) -> 1 | Q30: =SUMPRODUCT(AT$70:AT$74,AU$70:AU$74) -> 0.49589041 | R30: =SUMPRODUCT(AV$70:AV$74,AW$70:AW$74) -> 0 | S30: =SUMPRODUCT(AX$70:AX$74,AY$70:AY$74) -> 0 | T30: =SUMPRODUCT(AZ$70:AZ$74,BA$70:BA$74) -> 0 | V30: =IFERROR(P30*$D30,"") -> 50000 | W30: =IFERROR(Q30*$D30,"") -> 24794.521 | X30: =IFERROR(R30*$D30,"") -> 0 | Y30: =IFERROR(S30*$D30,"") -> 0 | Z30: =IFERROR(T30*$D30,"") -> 0 | AP30: scenario 4 | AR30: =IF(AND(AR22=0,AR24=1),1,0) -> 0 | AS30: =(F26-$E26)/365 -> 2.0849315 | AT30: =IF(AND(AT22=0,AT24=1),1,0) -> 0 | AU30: =($F26-$E26)/365 -> 2.0849315 | AV30: =IF(AND(AV22=0,AV24=1),1,0) -> 0 | AW30: =($F26-$E26)/365 -> 2.0849315 | AX30: =IF(AND(AX22=0,AX24=1),1,0) -> 0 | AY30: =($F26-$E26)/365 -> 2.0849315 | AZ30: =IF(AND(AZ22=0,AZ24=1),1,0) -> 0 | BA30: =($F26-$E26)/365 -> 2.0849315
